Back to Multiple platform build/check report for BioC 3.22:   simplified   long
ABCDEFGHIJKLMN[O]PQRSTUVWXYZ

This page was generated on 2025-11-10 12:51 -0500 (Mon, 10 Nov 2025).

HostnameOSArch (*)R versionInstalled pkgs
nebbiolo2Linux (Ubuntu 24.04.3 LTS)x86_644.5.1 Patched (2025-08-23 r88802) -- "Great Square Root" 4902
kjohnson3macOS 13.7.7 Venturaarm644.5.1 Patched (2025-09-10 r88807) -- "Great Square Root" 4638
Click on any hostname to see more info about the system (e.g. compilers)      (*) as reported by 'uname -p', except on Windows and Mac OS X

Package 1513/2361HostnameOS / ArchINSTALLBUILDCHECKBUILD BIN
ontoProc 2.4.0  (landing page)
Vincent Carey
Snapshot Date: 2025-11-09 13:45 -0500 (Sun, 09 Nov 2025)
git_url: https://git.bioconductor.org/packages/ontoProc
git_branch: RELEASE_3_22
git_last_commit: f2c1b3f
git_last_commit_date: 2025-10-29 19:20:08 -0500 (Wed, 29 Oct 2025)
nebbiolo2Linux (Ubuntu 24.04.3 LTS) / x86_64  OK    OK    OK  UNNEEDED, same version is already published
kjohnson3macOS 13.7.7 Ventura / arm64  OK    OK    OK    OK  UNNEEDED, same version is already published


CHECK results for ontoProc on kjohnson3

To the developers/maintainers of the ontoProc package:
- Allow up to 24 hours (and sometimes 48 hours) for your latest push to git@git.bioconductor.org:packages/ontoProc.git to reflect on this report. See Troubleshooting Build Report for more information.
- Use the following Renviron settings to reproduce errors and warnings.
- If 'R CMD check' started to fail recently on the Linux builder(s) over a missing dependency, add the missing dependency to 'Suggests:' in your DESCRIPTION file. See Renviron.bioc for more information.

raw results


Summary

Package: ontoProc
Version: 2.4.0
Command: /Library/Frameworks/R.framework/Resources/bin/R CMD check --install=check:ontoProc.install-out.txt --library=/Library/Frameworks/R.framework/Resources/library --no-vignettes --timings ontoProc_2.4.0.tar.gz
StartedAt: 2025-11-09 21:12:36 -0500 (Sun, 09 Nov 2025)
EndedAt: 2025-11-09 21:23:15 -0500 (Sun, 09 Nov 2025)
EllapsedTime: 639.3 seconds
RetCode: 0
Status:   OK  
CheckDir: ontoProc.Rcheck
Warnings: 0

Command output

##############################################################################
##############################################################################
###
### Running command:
###
###   /Library/Frameworks/R.framework/Resources/bin/R CMD check --install=check:ontoProc.install-out.txt --library=/Library/Frameworks/R.framework/Resources/library --no-vignettes --timings ontoProc_2.4.0.tar.gz
###
##############################################################################
##############################################################################


* using log directory ‘/Users/biocbuild/bbs-3.22-bioc/meat/ontoProc.Rcheck’
* using R version 4.5.1 Patched (2025-09-10 r88807)
* using platform: aarch64-apple-darwin20
* R was compiled by
    Apple clang version 16.0.0 (clang-1600.0.26.6)
    GNU Fortran (GCC) 14.2.0
* running under: macOS Ventura 13.7.7
* using session charset: UTF-8
* using option ‘--no-vignettes’
* checking for file ‘ontoProc/DESCRIPTION’ ... OK
* this is package ‘ontoProc’ version ‘2.4.0’
* package encoding: UTF-8
* checking package namespace information ... OK
* checking package dependencies ... OK
* checking if this is a source package ... OK
* checking if there is a namespace ... OK
* checking for hidden files and directories ... OK
* checking for portable file names ... OK
* checking for sufficient/correct file permissions ... OK
* checking whether package ‘ontoProc’ can be installed ... OK
* checking installed package size ... INFO
  installed size is 11.5Mb
  sub-directories of 1Mb or more:
    app       1.9Mb
    data      1.8Mb
    ontoRda   2.8Mb
    owl       3.8Mb
* checking package directory ... OK
* checking ‘build’ directory ... OK
* checking DESCRIPTION meta-information ... OK
* checking top-level files ... OK
* checking for left-over files ... OK
* checking index information ... OK
* checking package subdirectories ... OK
* checking code files for non-ASCII characters ... OK
* checking R files for syntax errors ... OK
* checking whether the package can be loaded ... OK
* checking whether the package can be loaded with stated dependencies ... OK
* checking whether the package can be unloaded cleanly ... OK
* checking whether the namespace can be loaded with stated dependencies ... OK
* checking whether the namespace can be unloaded cleanly ... OK
* checking dependencies in R code ... NOTE
':::' call which should be '::': ‘ontologyPlot:::remove_uninformative_terms’
  See the note in ?`:::` about the use of this operator.
* checking S3 generic/method consistency ... OK
* checking replacement functions ... OK
* checking foreign function calls ... OK
* checking R code for possible problems ... NOTE
CLfeat : prupdate: no visible binding for global variable ‘PROSYM’
CLfeat : prupdate: no visible binding for global variable ‘PRID’
CLfeat : prupdate: no visible binding for global variable ‘SYMBOL’
ctmarks : server: no visible binding for global variable ‘text’
ctmarks : server: no visible binding for global variable ‘packDesc2022’
ctmarks : server: no visible binding for global variable ‘packDesc2021’
ctmarks: no visible binding for global variable ‘cumu’
dropStop: no visible binding for global variable ‘stopWords’
getOnto: no visible binding for global variable ‘rdatadateadded’
getOnto: no visible binding for global variable ‘title’
getOnto: no visible binding for global variable ‘description’
ldfToTerm: no visible binding for global variable ‘PROSYM’
sym2CellOnto: no visible binding for global variable ‘PROSYM’
sym2CellOnto: no visible binding for global variable ‘SYMBOL’
Undefined global functions or variables:
  PRID PROSYM SYMBOL cumu description packDesc2021 packDesc2022
  rdatadateadded stopWords text title
Consider adding
  importFrom("graphics", "text", "title")
to your NAMESPACE file.
* checking Rd files ... OK
* checking Rd metadata ... OK
* checking Rd cross-references ... NOTE
Found the following Rd file(s) with Rd \link{} targets missing package
anchors:
  findCommonAncestors.Rd: graph, DataFrame-class, List-class
Please provide package anchors for all Rd \link{} targets not in the
package itself and the base packages.
* checking for missing documentation entries ... OK
* checking for code/documentation mismatches ... OK
* checking Rd \usage sections ... NOTE
S3 methods shown with full name in Rd file 'plot.owlents.Rd':
  ‘plot.owlents’

The \usage entries for S3 methods should use the \method markup and not
their full name.
See chapter ‘Writing R documentation files’ in the ‘Writing R
Extensions’ manual.
* checking Rd contents ... OK
* checking for unstated dependencies in examples ... OK
* checking contents of ‘data’ directory ... OK
* checking data for non-ASCII characters ... OK
* checking data for ASCII and uncompressed saves ... OK
* checking files in ‘vignettes’ ... OK
* checking examples ... OK
Examples with CPU (user + system) or elapsed time > 5s
                                   user system elapsed
sym2CellOnto                     70.571  0.753  71.895
siblings_TAG                     40.077  0.525  41.323
cleanCLOnames                    29.349  0.254  30.001
nomenCheckup                     28.536  0.209  29.061
CLfeats                          24.560  0.542  25.952
fastGrep                         23.532  0.368  31.530
getLeavesFromTerm                19.135  0.274  19.596
getOnto                          17.349  0.315  23.970
common_classes                   16.084  0.525  16.955
findCommonAncestors              15.244  0.244  17.763
TermSet-class                    14.379  0.238  14.845
make_graphNEL_from_ontology_plot 14.302  0.274  14.790
selectFromMap                    14.175  0.240  14.600
liberalMap                       14.006  0.169  14.598
onto_plot2                       13.727  0.225  14.128
secLevGen                        13.454  0.158  13.946
mapOneNaive                      13.254  0.181  13.627
plot.owlents                      2.267  0.197  29.888
bioregistry_ols_resources         0.247  0.007   5.573
search_labels                     0.138  0.009   6.101
* checking for unstated dependencies in ‘tests’ ... OK
* checking tests ...
  Running ‘test.R’
 OK
* checking for unstated dependencies in vignettes ... OK
* checking package vignettes ... OK
* checking running R code from vignettes ... SKIPPED
* checking re-building of vignette outputs ... SKIPPED
* checking PDF version of manual ... OK
* DONE

Status: 4 NOTEs
See
  ‘/Users/biocbuild/bbs-3.22-bioc/meat/ontoProc.Rcheck/00check.log’
for details.


Installation output

ontoProc.Rcheck/00install.out

##############################################################################
##############################################################################
###
### Running command:
###
###   /Library/Frameworks/R.framework/Resources/bin/R CMD INSTALL ontoProc
###
##############################################################################
##############################################################################


* installing to library ‘/Library/Frameworks/R.framework/Versions/4.5-arm64/Resources/library’
* installing *source* package ‘ontoProc’ ...
** this is package ‘ontoProc’ version ‘2.4.0’
** using staged installation
** R
** data
** inst
** byte-compile and prepare package for lazy loading
** help
*** installing help indices
** building package indices
** installing vignettes
** testing if installed package can be loaded from temporary location
** testing if installed package can be loaded from final location
** testing if installed package keeps a record of temporary installation path
* DONE (ontoProc)

Tests output

ontoProc.Rcheck/tests/test.Rout


R version 4.5.1 Patched (2025-09-10 r88807) -- "Great Square Root"
Copyright (C) 2025 The R Foundation for Statistical Computing
Platform: aarch64-apple-darwin20

R is free software and comes with ABSOLUTELY NO WARRANTY.
You are welcome to redistribute it under certain conditions.
Type 'license()' or 'licence()' for distribution details.

R is a collaborative project with many contributors.
Type 'contributors()' for more information and
'citation()' on how to cite R or R packages in publications.

Type 'demo()' for some demos, 'help()' for on-line help, or
'help.start()' for an HTML browser interface to help.
Type 'q()' to quit R.

> 
> library(ontoProc)
Loading required package: ontologyIndex
> library(testthat)
> 
> test_check("ontoProc")
[ FAIL 0 | WARN 0 | SKIP 0 | PASS 12 ]
> 
> 
> proc.time()
   user  system elapsed 
 92.308   1.828  96.285 

Example timings

ontoProc.Rcheck/ontoProc-Ex.timings

nameusersystemelapsed
CLfeats24.560 0.54225.952
PROSYM0.1110.0010.113
TermSet-class14.379 0.23814.845
allGOterms0.0450.0010.047
ancestors0.2930.0910.538
ancestors_names0.0100.0020.004
bioregistry_ols_resources0.2470.0075.573
cellTypeToGO0.8410.1171.074
children_names0.0020.0010.002
cleanCLOnames29.349 0.25430.001
common_classes16.084 0.52516.955
ctmarks0.0000.0000.001
cyclicSigset0.0020.0000.002
demoApp000
dropStop0.0010.0010.003
fastGrep23.532 0.36831.530
findCommonAncestors15.244 0.24417.763
formalize0.0000.0000.001
getLeavesFromTerm19.135 0.27419.596
getOnto17.349 0.31523.970
graph2paths2.6530.0502.708
humrna0.0030.0010.004
jowl2classgraph0.1120.0030.114
jowl2classgraph_nio0.2480.0030.251
labels.owlents000
ldfToTerms1.0600.0171.081
liberalMap14.006 0.16914.598
makeSelectInput000
make_graphNEL_from_ontology_plot14.302 0.27414.790
mapOneNaive13.254 0.18113.627
minicorpus0.0010.0010.001
nomenCheckup28.536 0.20929.061
ontoDiff4.3230.2584.894
onto_plot213.727 0.22514.128
onto_roots000
owl2cache0.0090.0010.011
packDesc20190.0010.0000.002
packDesc20210.0000.0000.001
packDesc20220.0010.0010.002
packDesc20230.0010.0000.001
parents0.0020.0000.003
plot.owlents 2.267 0.19729.888
quickOnto0.1030.0110.115
recognizedPredicates0.0000.0000.001
search_labels0.1380.0096.101
secLevGen13.454 0.15813.946
selectFromMap14.175 0.24014.600
setup_entities0.0020.0010.002
setup_entities20.1300.0040.134
seur3kTab0.0010.0000.002
siblings_TAG40.077 0.52541.323
stopWords0.0000.0000.001
subclasses0.0020.0010.003
sym2CellOnto70.571 0.75371.895
valid_ontonames0.0000.0000.001