Back to Multiple platform build/check report for BioC 3.22:   simplified   long
ABCDEFGHIJKLMNOPQR[S]TUVWXYZ

This page was generated on 2025-10-25 12:03 -0400 (Sat, 25 Oct 2025).

HostnameOSArch (*)R versionInstalled pkgs
nebbiolo2Linux (Ubuntu 24.04.3 LTS)x86_644.5.1 Patched (2025-08-23 r88802) -- "Great Square Root" 4901
lconwaymacOS 12.7.6 Montereyx86_644.5.1 Patched (2025-09-10 r88807) -- "Great Square Root" 4691
kjohnson3macOS 13.7.7 Venturaarm644.5.1 Patched (2025-09-10 r88807) -- "Great Square Root" 4637
taishanLinux (openEuler 24.03 LTS)aarch644.5.0 (2025-04-11) -- "How About a Twenty-Six" 4658
Click on any hostname to see more info about the system (e.g. compilers)      (*) as reported by 'uname -p', except on Windows and Mac OS X

All results for package SpatialExperiment


To the developers/maintainers of the SpatialExperiment package:
- Allow up to 24 hours (and sometimes 48 hours) for your latest push to git@git.bioconductor.org:packages/SpatialExperiment.git to reflect on this report. See Troubleshooting Build Report for more information.
- Use the following Renviron settings to reproduce errors and warnings.
- If 'R CMD check' started to fail recently on the Linux builder(s) over a missing dependency, add the missing dependency to 'Suggests:' in your DESCRIPTION file. See Renviron.bioc for more information.

raw results

Package 2080/2361HostnameOS / ArchINSTALLBUILDCHECKBUILD BIN
SpatialExperiment 1.19.1  (landing page)
Dario Righelli
Snapshot Date: 2025-10-24 13:45 -0400 (Fri, 24 Oct 2025)
git_url: https://git.bioconductor.org/packages/SpatialExperiment
git_branch: devel
git_last_commit: 0b29537
git_last_commit_date: 2025-05-08 10:03:51 -0400 (Thu, 08 May 2025)
nebbiolo2Linux (Ubuntu 24.04.3 LTS) / x86_64  OK    OK    OK  UNNEEDED, same version is already published
lconwaymacOS 12.7.6 Monterey / x86_64  OK    OK    OK    OK  UNNEEDED, same version is already published
kjohnson3macOS 13.7.7 Ventura / arm64  OK    OK    OK    OK  UNNEEDED, same version is already published
taishanLinux (openEuler 24.03 LTS) / aarch64  OK    NA    NA  



Results for Bioconductor software packages that depend directly on package SpatialExperiment

QUICK STATSOS / ArchINSTALLBUILDCHECKBUILD BIN
nebbiolo2Linux (Ubuntu 24.04.3 LTS) / x86_64
0055
0154
00450
lconwaymacOS 12.7.6 Monterey / x86_64
0055
0154
00450
0054
kjohnson3macOS 13.7.7 Ventura / arm64
0055
0154
00450
0054
taishanLinux (openEuler 24.03 LTS) / aarch64
0154
001
0000
Package 1/55HostnameOS / ArchINSTALLBUILDCHECKBUILD BIN
alabaster.spatial 1.9.0  (landing page)
Aaron Lun
git_last_commit: ad34bf1
git_last_commit_date: 2025-04-15 13:10:08 -0400
nebbiolo2Linux (Ubuntu 24.04.3 LTS) / x86_64  OK    OK    OK  UNNEEDED, same version is already published
lconwaymacOS 12.7.6 Monterey / x86_64  OK    OK    OK    OK  UNNEEDED, same version is already published
kjohnson3macOS 13.7.7 Ventura / arm64  OK    OK    OK    OK  UNNEEDED, same version is already published
taishanLinux (openEuler 24.03 LTS) / aarch64  OK    OK    NA  
Package 2/55HostnameOS / ArchINSTALLBUILDCHECKBUILD BIN
Banksy 1.5.10  (landing page)
Joseph Lee
git_last_commit: 081f51b
git_last_commit_date: 2025-10-15 16:02:50 -0400
nebbiolo2Linux (Ubuntu 24.04.3 LTS) / x86_64  OK    OK    OK  UNNEEDED, same version is already published
lconwaymacOS 12.7.6 Monterey / x86_64  OK    OK    OK    OK  UNNEEDED, same version is already published
kjohnson3macOS 13.7.7 Ventura / arm64  OK    OK    OK    OK  UNNEEDED, same version is already published
taishanLinux (openEuler 24.03 LTS) / aarch64  OK    NA    NA  
Package 3/55HostnameOS / ArchINSTALLBUILDCHECKBUILD BIN
BulkSignalR 1.1.5  (landing page)
Jean-Philippe Villemin
git_last_commit: dd2021f
git_last_commit_date: 2025-09-27 04:43:00 -0400
nebbiolo2Linux (Ubuntu 24.04.3 LTS) / x86_64  OK    OK    OK  UNNEEDED, same version is already published
lconwaymacOS 12.7.6 Monterey / x86_64  OK    OK    OK    OK  UNNEEDED, same version is already published
kjohnson3macOS 13.7.7 Ventura / arm64  OK    OK    OK    OK  UNNEEDED, same version is already published
taishanLinux (openEuler 24.03 LTS) / aarch64  OK    NA    NA  
Package 4/55HostnameOS / ArchINSTALLBUILDCHECKBUILD BIN
CARDspa 1.1.0  (landing page)
Jing Fu
git_last_commit: 8b194bb
git_last_commit_date: 2025-04-15 13:48:01 -0400
nebbiolo2Linux (Ubuntu 24.04.3 LTS) / x86_64  OK    OK    OK  UNNEEDED, same version is already published
lconwaymacOS 12.7.6 Monterey / x86_64  OK    OK    OK    OK  UNNEEDED, same version is already published
kjohnson3macOS 13.7.7 Ventura / arm64  OK    OK    OK    OK  UNNEEDED, same version is already published
taishanLinux (openEuler 24.03 LTS) / aarch64  OK    NA    NA  
Package 5/55HostnameOS / ArchINSTALLBUILDCHECKBUILD BIN
CatsCradle 1.3.2  (landing page)
Michael Shapiro
git_last_commit: 082a1e2
git_last_commit_date: 2025-10-23 16:39:15 -0400
nebbiolo2Linux (Ubuntu 24.04.3 LTS) / x86_64  OK    OK    WARNINGS  YES
lconwaymacOS 12.7.6 Monterey / x86_64  OK    OK    WARNINGS    OK  YES
kjohnson3macOS 13.7.7 Ventura / arm64  OK    OK    WARNINGS    OK  YES
taishanLinux (openEuler 24.03 LTS) / aarch64  OK    NA    NA  
Package 6/55HostnameOS / ArchINSTALLBUILDCHECKBUILD BIN
clustSIGNAL 1.1.1  (landing page)
Pratibha Panwar
git_last_commit: 2582377
git_last_commit_date: 2025-10-14 14:33:45 -0400
nebbiolo2Linux (Ubuntu 24.04.3 LTS) / x86_64  OK    OK    OK  UNNEEDED, same version is already published
lconwaymacOS 12.7.6 Monterey / x86_64  OK    OK    OK    OK  UNNEEDED, same version is already published
kjohnson3macOS 13.7.7 Ventura / arm64  OK    OK    OK    OK  UNNEEDED, same version is already published
taishanLinux (openEuler 24.03 LTS) / aarch64  OK    NA    NA  
Package 7/55HostnameOS / ArchINSTALLBUILDCHECKBUILD BIN
concordexR 1.9.1  (landing page)
Kayla Jackson
git_last_commit: 4c8e8f6
git_last_commit_date: 2025-06-12 16:33:05 -0400
nebbiolo2Linux (Ubuntu 24.04.3 LTS) / x86_64  OK    OK    WARNINGS  UNNEEDED, same version is already published
lconwaymacOS 12.7.6 Monterey / x86_64  OK    OK    WARNINGS    OK  UNNEEDED, same version is already published
kjohnson3macOS 13.7.7 Ventura / arm64  OK    OK    WARNINGS    OK  UNNEEDED, same version is already published
taishanLinux (openEuler 24.03 LTS) / aarch64  OK    NA    NA  
Package 8/55HostnameOS / ArchINSTALLBUILDCHECKBUILD BIN
CTSV 1.11.0  (landing page)
Jinge Yu Developer
git_last_commit: 386630d
git_last_commit_date: 2025-04-15 12:52:52 -0400
nebbiolo2Linux (Ubuntu 24.04.3 LTS) / x86_64  OK    OK    OK  UNNEEDED, same version is already published
lconwaymacOS 12.7.6 Monterey / x86_64  OK    OK    OK    OK  UNNEEDED, same version is already published
kjohnson3macOS 13.7.7 Ventura / arm64  OK    OK    OK    OK  UNNEEDED, same version is already published
taishanLinux (openEuler 24.03 LTS) / aarch64  OK    NA    NA  
Package 9/55HostnameOS / ArchINSTALLBUILDCHECKBUILD BIN
cytomapper 1.21.1  (landing page)
Lasse Meyer
git_last_commit: af0dac7
git_last_commit_date: 2025-10-14 14:45:32 -0400
nebbiolo2Linux (Ubuntu 24.04.3 LTS) / x86_64  OK    OK    OK  UNNEEDED, same version is already published
lconwaymacOS 12.7.6 Monterey / x86_64  OK    OK    OK    OK  UNNEEDED, same version is already published
kjohnson3macOS 13.7.7 Ventura / arm64  OK    OK    OK    OK  UNNEEDED, same version is already published
taishanLinux (openEuler 24.03 LTS) / aarch64  OK    NA    NA  
Package 10/55HostnameOS / ArchINSTALLBUILDCHECKBUILD BIN
DESpace 2.1.0  (landing page)
Peiying Cai
git_last_commit: d0e41b7
git_last_commit_date: 2025-04-15 13:11:56 -0400
nebbiolo2Linux (Ubuntu 24.04.3 LTS) / x86_64  OK    OK    OK  UNNEEDED, same version is already published
lconwaymacOS 12.7.6 Monterey / x86_64  OK    OK    OK    OK  UNNEEDED, same version is already published
kjohnson3macOS 13.7.7 Ventura / arm64  OK    OK    OK    OK  UNNEEDED, same version is already published
taishanLinux (openEuler 24.03 LTS) / aarch64  OK    NA    NA  
Package 11/55HostnameOS / ArchINSTALLBUILDCHECKBUILD BIN
escheR 1.9.0  (landing page)
Boyi Guo
git_last_commit: 2f2bfd9
git_last_commit_date: 2025-04-15 13:12:33 -0400
nebbiolo2Linux (Ubuntu 24.04.3 LTS) / x86_64  OK    OK    OK  UNNEEDED, same version is already published
lconwaymacOS 12.7.6 Monterey / x86_64  OK    OK    OK    OK  UNNEEDED, same version is already published
kjohnson3macOS 13.7.7 Ventura / arm64  OK    OK    OK    OK  UNNEEDED, same version is already published
taishanLinux (openEuler 24.03 LTS) / aarch64  OK    NA    NA  
Package 12/55HostnameOS / ArchINSTALLBUILDCHECKBUILD BIN
ExperimentSubset 1.19.0  (landing page)
Irzam Sarfraz
git_last_commit: 4a79ec5
git_last_commit_date: 2025-04-15 12:11:59 -0400
nebbiolo2Linux (Ubuntu 24.04.3 LTS) / x86_64  OK    OK    OK  UNNEEDED, same version is already published
lconwaymacOS 12.7.6 Monterey / x86_64  OK    OK    OK    OK  UNNEEDED, same version is already published
kjohnson3macOS 13.7.7 Ventura / arm64  OK    OK    OK    OK  UNNEEDED, same version is already published
taishanLinux (openEuler 24.03 LTS) / aarch64  OK    NA    NA  
Package 13/55HostnameOS / ArchINSTALLBUILDCHECKBUILD BIN
FLAMES 2.3.5  (landing page)
Changqing Wang
git_last_commit: 5771592
git_last_commit_date: 2025-09-12 02:43:50 -0400
nebbiolo2Linux (Ubuntu 24.04.3 LTS) / x86_64  OK    OK    OK  UNNEEDED, same version is already published
lconwaymacOS 12.7.6 Monterey / x86_64  OK    OK    OK    OK  UNNEEDED, same version is already published
kjohnson3macOS 13.7.7 Ventura / arm64  OK    OK    OK    OK  UNNEEDED, same version is already published
taishanLinux (openEuler 24.03 LTS) / aarch64  ERROR    NA    NA  
Package 14/55HostnameOS / ArchINSTALLBUILDCHECKBUILD BIN
ggspavis 1.15.9  (landing page)
Lukas M. Weber
git_last_commit: d2d8e66
git_last_commit_date: 2025-10-06 19:41:14 -0400
nebbiolo2Linux (Ubuntu 24.04.3 LTS) / x86_64  OK    OK    OK  UNNEEDED, same version is already published
lconwaymacOS 12.7.6 Monterey / x86_64  OK    OK    OK    OK  UNNEEDED, same version is already published
kjohnson3macOS 13.7.7 Ventura / arm64  OK    OK    OK    OK  UNNEEDED, same version is already published
taishanLinux (openEuler 24.03 LTS) / aarch64  OK    NA    NA  
Package 15/55HostnameOS / ArchINSTALLBUILDCHECKBUILD BIN
GSVA 2.3.4  (landing page)
Robert Castelo
git_last_commit: c0f8f68
git_last_commit_date: 2025-10-09 09:17:55 -0400
nebbiolo2Linux (Ubuntu 24.04.3 LTS) / x86_64  OK    OK    OK  UNNEEDED, same version is already published
lconwaymacOS 12.7.6 Monterey / x86_64  OK    OK    OK    OK  UNNEEDED, same version is already published
kjohnson3macOS 13.7.7 Ventura / arm64  OK    OK    OK    OK  UNNEEDED, same version is already published
taishanLinux (openEuler 24.03 LTS) / aarch64  OK    NA    NA  
Package 16/55HostnameOS / ArchINSTALLBUILDCHECKBUILD BIN
hoodscanR 1.7.0  (landing page)
Ning Liu
git_last_commit: a3f1cc4
git_last_commit_date: 2025-04-15 13:20:53 -0400
nebbiolo2Linux (Ubuntu 24.04.3 LTS) / x86_64  OK    OK    OK  UNNEEDED, same version is already published
lconwaymacOS 12.7.6 Monterey / x86_64  OK    OK    OK    OK  UNNEEDED, same version is already published
kjohnson3macOS 13.7.7 Ventura / arm64  OK    OK    OK    OK  UNNEEDED, same version is already published
taishanLinux (openEuler 24.03 LTS) / aarch64  OK    NA    NA  
Package 17/55HostnameOS / ArchINSTALLBUILDCHECKBUILD BIN
imcRtools 1.15.5  (landing page)
Daniel Schulz
git_last_commit: 6088bda
git_last_commit_date: 2025-10-20 06:16:05 -0400
nebbiolo2Linux (Ubuntu 24.04.3 LTS) / x86_64  OK    OK    OK  UNNEEDED, same version is already published
lconwaymacOS 12.7.6 Monterey / x86_64  OK    OK    OK    OK  UNNEEDED, same version is already published
kjohnson3macOS 13.7.7 Ventura / arm64  OK    OK    OK    OK  UNNEEDED, same version is already published
taishanLinux (openEuler 24.03 LTS) / aarch64  OK    NA    NA  
Package 18/55HostnameOS / ArchINSTALLBUILDCHECKBUILD BIN
jazzPanda 1.1.3  (landing page)
Melody Jin
git_last_commit: 9189e4a
git_last_commit_date: 2025-10-14 14:53:47 -0400
nebbiolo2Linux (Ubuntu 24.04.3 LTS) / x86_64  OK    OK    OK  UNNEEDED, same version is already published
lconwaymacOS 12.7.6 Monterey / x86_64  OK    OK    OK    OK  UNNEEDED, same version is already published
kjohnson3macOS 13.7.7 Ventura / arm64  OK    OK    OK    OK  UNNEEDED, same version is already published
taishanLinux (openEuler 24.03 LTS) / aarch64  OK    NA    NA  
Package 19/55HostnameOS / ArchINSTALLBUILDCHECKBUILD BIN
lisaClust 1.17.0  (landing page)
Ellis Patrick
git_last_commit: c9cf0e3
git_last_commit_date: 2025-04-15 12:22:27 -0400
nebbiolo2Linux (Ubuntu 24.04.3 LTS) / x86_64  OK    OK    OK  UNNEEDED, same version is already published
lconwaymacOS 12.7.6 Monterey / x86_64  OK    OK    OK    OK  UNNEEDED, same version is already published
kjohnson3macOS 13.7.7 Ventura / arm64  OK    OK    OK    OK  UNNEEDED, same version is already published
taishanLinux (openEuler 24.03 LTS) / aarch64  OK    NA    NA  
Package 20/55HostnameOS / ArchINSTALLBUILDCHECKBUILD BIN
MoleculeExperiment 1.9.0  (landing page)
Shila Ghazanfar
git_last_commit: 3dd8051
git_last_commit_date: 2025-04-15 13:14:02 -0400
nebbiolo2Linux (Ubuntu 24.04.3 LTS) / x86_64  OK    OK    OK  UNNEEDED, same version is already published
lconwaymacOS 12.7.6 Monterey / x86_64  OK    OK    OK    OK  UNNEEDED, same version is already published
kjohnson3macOS 13.7.7 Ventura / arm64  OK    OK    OK    OK  UNNEEDED, same version is already published
taishanLinux (openEuler 24.03 LTS) / aarch64  OK    NA    NA  
Package 21/55HostnameOS / ArchINSTALLBUILDCHECKBUILD BIN
nnSVG 1.13.1  (landing page)
Lukas M. Weber
git_last_commit: dffcd75
git_last_commit_date: 2025-05-18 22:08:24 -0400
nebbiolo2Linux (Ubuntu 24.04.3 LTS) / x86_64  OK    OK    OK  UNNEEDED, same version is already published
lconwaymacOS 12.7.6 Monterey / x86_64  OK    OK    OK    OK  UNNEEDED, same version is already published
kjohnson3macOS 13.7.7 Ventura / arm64  OK    OK    OK    OK  UNNEEDED, same version is already published
taishanLinux (openEuler 24.03 LTS) / aarch64  OK    NA    NA  
Package 22/55HostnameOS / ArchINSTALLBUILDCHECKBUILD BIN
poem 1.1.7  (landing page)
Siyuan Luo
git_last_commit: f8438b6
git_last_commit_date: 2025-10-24 09:40:05 -0400
nebbiolo2Linux (Ubuntu 24.04.3 LTS) / x86_64  OK    OK    OK  YES
lconwaymacOS 12.7.6 Monterey / x86_64  OK    OK    OK    OK  YES
kjohnson3macOS 13.7.7 Ventura / arm64  OK    OK    OK    OK  YES
taishanLinux (openEuler 24.03 LTS) / aarch64  OK    NA    NA  
Package 23/55HostnameOS / ArchINSTALLBUILDCHECKBUILD BIN
scider 1.7.3  (landing page)
Yunshun Chen
git_last_commit: 1f8ab03
git_last_commit_date: 2025-10-24 03:18:46 -0400
nebbiolo2Linux (Ubuntu 24.04.3 LTS) / x86_64  OK    OK    OK  UNNEEDED, same version is already published
lconwaymacOS 12.7.6 Monterey / x86_64  OK    OK    OK    OK  UNNEEDED, same version is already published
kjohnson3macOS 13.7.7 Ventura / arm64  OK    OK    OK    OK  UNNEEDED, same version is already published
taishanLinux (openEuler 24.03 LTS) / aarch64  OK    NA    NA  
Package 24/55HostnameOS / ArchINSTALLBUILDCHECKBUILD BIN
SEraster 1.1.0  (landing page)
Gohta Aihara
git_last_commit: b927ba9
git_last_commit_date: 2025-04-15 13:51:28 -0400
nebbiolo2Linux (Ubuntu 24.04.3 LTS) / x86_64  OK    OK    OK  UNNEEDED, same version is already published
lconwaymacOS 12.7.6 Monterey / x86_64  OK    OK    OK    OK  UNNEEDED, same version is already published
kjohnson3macOS 13.7.7 Ventura / arm64  OK    OK    OK    OK  UNNEEDED, same version is already published
taishanLinux (openEuler 24.03 LTS) / aarch64  OK    NA    NA  
Package 25/55HostnameOS / ArchINSTALLBUILDCHECKBUILD BIN
signifinder 1.11.0  (landing page)
Stefania Pirrotta
git_last_commit: 37cabfa
git_last_commit_date: 2025-04-15 12:58:25 -0400
nebbiolo2Linux (Ubuntu 24.04.3 LTS) / x86_64  OK    OK    OK  UNNEEDED, same version is already published
lconwaymacOS 12.7.6 Monterey / x86_64  OK    OK    OK    OK  UNNEEDED, same version is already published
kjohnson3macOS 13.7.7 Ventura / arm64  OK    OK    OK    OK  UNNEEDED, same version is already published
taishanLinux (openEuler 24.03 LTS) / aarch64  OK    NA    NA  
Package 26/55HostnameOS / ArchINSTALLBUILDCHECKBUILD BIN
smoothclust 1.5.7  (landing page)
Lukas M. Weber
git_last_commit: bccbce4
git_last_commit_date: 2025-09-15 15:26:25 -0400
nebbiolo2Linux (Ubuntu 24.04.3 LTS) / x86_64  OK    OK    OK  UNNEEDED, same version is already published
lconwaymacOS 12.7.6 Monterey / x86_64  OK    OK    OK    OK  UNNEEDED, same version is already published
kjohnson3macOS 13.7.7 Ventura / arm64  OK    OK    OK    OK  UNNEEDED, same version is already published
taishanLinux (openEuler 24.03 LTS) / aarch64  OK    NA    NA  
Package 27/55HostnameOS / ArchINSTALLBUILDCHECKBUILD BIN
smoppix 1.1.10  (landing page)
Stijn Hawinkel
git_last_commit: db5e143
git_last_commit_date: 2025-10-21 11:23:35 -0400
nebbiolo2Linux (Ubuntu 24.04.3 LTS) / x86_64  OK    OK    OK  UNNEEDED, same version is already published
lconwaymacOS 12.7.6 Monterey / x86_64  OK    OK    OK    OK  UNNEEDED, same version is already published
kjohnson3macOS 13.7.7 Ventura / arm64  OK    OK    OK    OK  UNNEEDED, same version is already published
taishanLinux (openEuler 24.03 LTS) / aarch64  OK    NA    NA  
Package 28/55HostnameOS / ArchINSTALLBUILDCHECKBUILD BIN
sosta 1.1.4  (landing page)
Samuel Gunz
git_last_commit: 4243a5e
git_last_commit_date: 2025-10-23 18:19:55 -0400
nebbiolo2Linux (Ubuntu 24.04.3 LTS) / x86_64  OK    OK    OK  YES
lconwaymacOS 12.7.6 Monterey / x86_64  OK    OK    OK    OK  YES
kjohnson3macOS 13.7.7 Ventura / arm64  OK    OK    OK    OK  YES
taishanLinux (openEuler 24.03 LTS) / aarch64  OK    NA    NA  
Package 29/55HostnameOS / ArchINSTALLBUILDCHECKBUILD BIN
SpaceTrooper 0.99.49  (landing page)
Dario Righelli
git_last_commit: ac46d55
git_last_commit_date: 2025-10-24 06:56:16 -0400
nebbiolo2Linux (Ubuntu 24.04.3 LTS) / x86_64  OK    OK    OK  YES
lconwaymacOS 12.7.6 Monterey / x86_64  OK    OK    OK    OK  YES
kjohnson3macOS 13.7.7 Ventura / arm64  OK    OK    OK    OK  YES
taishanLinux (openEuler 24.03 LTS) / aarch64  OK    NA    NA  
Package 30/55HostnameOS / ArchINSTALLBUILDCHECKBUILD BIN
spacexr 1.1.1  (landing page)
Gabriel Grajeda
git_last_commit: 4bce0a4
git_last_commit_date: 2025-10-10 10:43:44 -0400
nebbiolo2Linux (Ubuntu 24.04.3 LTS) / x86_64  OK    OK    OK  UNNEEDED, same version is already published
lconwaymacOS 12.7.6 Monterey / x86_64  OK    OK    OK    OK  UNNEEDED, same version is already published
kjohnson3macOS 13.7.7 Ventura / arm64  OK    OK    OK    OK  UNNEEDED, same version is already published
taishanLinux (openEuler 24.03 LTS) / aarch64  OK    NA    NA  
Package 31/55HostnameOS / ArchINSTALLBUILDCHECKBUILD BIN
SpaNorm 1.3.1  (landing page)
Dharmesh D. Bhuva
git_last_commit: 0390359
git_last_commit_date: 2025-10-14 15:00:45 -0400
nebbiolo2Linux (Ubuntu 24.04.3 LTS) / x86_64  OK    OK    OK  UNNEEDED, same version is already published
lconwaymacOS 12.7.6 Monterey / x86_64  OK    OK    OK    OK  UNNEEDED, same version is already published
kjohnson3macOS 13.7.7 Ventura / arm64  OK    OK    OK    OK  UNNEEDED, same version is already published
taishanLinux (openEuler 24.03 LTS) / aarch64  OK    NA    NA  
Package 32/55HostnameOS / ArchINSTALLBUILDCHECKBUILD BIN
spARI 0.99.17  (landing page)
Yinqiao Yan
git_last_commit: 4580d72
git_last_commit_date: 2025-09-27 04:22:27 -0400
nebbiolo2Linux (Ubuntu 24.04.3 LTS) / x86_64  OK    OK    OK  UNNEEDED, same version is already published
lconwaymacOS 12.7.6 Monterey / x86_64  OK    OK    OK    OK  UNNEEDED, same version is already published
kjohnson3macOS 13.7.7 Ventura / arm64  OK    OK    OK    OK  UNNEEDED, same version is already published
taishanLinux (openEuler 24.03 LTS) / aarch64  OK    NA    NA  
Package 33/55HostnameOS / ArchINSTALLBUILDCHECKBUILD BIN
spaSim 1.11.0  (landing page)
Yuzhou Feng
git_last_commit: 7c4ef82
git_last_commit_date: 2025-04-15 12:52:59 -0400
nebbiolo2Linux (Ubuntu 24.04.3 LTS) / x86_64  OK    OK    OK  UNNEEDED, same version is already published
lconwaymacOS 12.7.6 Monterey / x86_64  OK    OK    OK    OK  UNNEEDED, same version is already published
kjohnson3macOS 13.7.7 Ventura / arm64  OK    OK    OK    OK  UNNEEDED, same version is already published
taishanLinux (openEuler 24.03 LTS) / aarch64  OK    NA    NA  
Package 34/55HostnameOS / ArchINSTALLBUILDCHECKBUILD BIN
spatialDE 1.15.1  (landing page)
Gabriele Sales
git_last_commit: 361ffda
git_last_commit_date: 2025-04-16 02:22:34 -0400
nebbiolo2Linux (Ubuntu 24.04.3 LTS) / x86_64  OK    OK    OK  UNNEEDED, same version is already published
lconwaymacOS 12.7.6 Monterey / x86_64  OK    OK    OK    OK  UNNEEDED, same version is already published
kjohnson3macOS 13.7.7 Ventura / arm64  OK    OK    OK    OK  UNNEEDED, same version is already published
taishanLinux (openEuler 24.03 LTS) / aarch64  OK    NA    NA  
Package 35/55HostnameOS / ArchINSTALLBUILDCHECKBUILD BIN
SpatialExperimentIO 1.1.0  (landing page)
Yixing E. Dong
git_last_commit: a7ffc23
git_last_commit_date: 2025-04-15 13:46:21 -0400
nebbiolo2Linux (Ubuntu 24.04.3 LTS) / x86_64  OK    OK    OK  UNNEEDED, same version is already published
lconwaymacOS 12.7.6 Monterey / x86_64  OK    OK    OK    OK  UNNEEDED, same version is already published
kjohnson3macOS 13.7.7 Ventura / arm64  OK    OK    OK    OK  UNNEEDED, same version is already published
taishanLinux (openEuler 24.03 LTS) / aarch64  OK    NA    NA  
Package 36/55HostnameOS / ArchINSTALLBUILDCHECKBUILD BIN
spatialFDA 1.1.21  (landing page)
Martin Emons
git_last_commit: 93358c0
git_last_commit_date: 2025-10-10 07:08:16 -0400
nebbiolo2Linux (Ubuntu 24.04.3 LTS) / x86_64  OK    OK    OK  UNNEEDED, same version is already published
lconwaymacOS 12.7.6 Monterey / x86_64  OK    OK    OK    OK  UNNEEDED, same version is already published
kjohnson3macOS 13.7.7 Ventura / arm64  OK    OK    OK    OK  UNNEEDED, same version is already published
taishanLinux (openEuler 24.03 LTS) / aarch64  OK    NA    NA  
Package 37/55HostnameOS / ArchINSTALLBUILDCHECKBUILD BIN
SpatialFeatureExperiment 1.11.1  (landing page)
Lambda Moses
git_last_commit: 80353da
git_last_commit_date: 2025-09-25 21:36:28 -0400
nebbiolo2Linux (Ubuntu 24.04.3 LTS) / x86_64  OK    ERROR  skipped
lconwaymacOS 12.7.6 Monterey / x86_64  OK    ERROR  skippedskipped
kjohnson3macOS 13.7.7 Ventura / arm64  OK    ERROR  skippedskipped
taishanLinux (openEuler 24.03 LTS) / aarch64  OK    NA    NA  
Package 38/55HostnameOS / ArchINSTALLBUILDCHECKBUILD BIN
spatialSimGP 1.3.0  (landing page)
Kinnary Shah
git_last_commit: 73f8c51
git_last_commit_date: 2025-04-15 13:41:55 -0400
nebbiolo2Linux (Ubuntu 24.04.3 LTS) / x86_64  OK    OK    OK  UNNEEDED, same version is already published
lconwaymacOS 12.7.6 Monterey / x86_64  OK    OK    OK    OK  UNNEEDED, same version is already published
kjohnson3macOS 13.7.7 Ventura / arm64  OK    OK    OK    OK  UNNEEDED, same version is already published
taishanLinux (openEuler 24.03 LTS) / aarch64  OK    NA    NA  
Package 39/55HostnameOS / ArchINSTALLBUILDCHECKBUILD BIN
SPIAT 1.11.1  (landing page)
Yuzhou Feng
git_last_commit: f176e3b
git_last_commit_date: 2025-10-14 15:01:30 -0400
nebbiolo2Linux (Ubuntu 24.04.3 LTS) / x86_64  OK    OK    OK  UNNEEDED, same version is already published
lconwaymacOS 12.7.6 Monterey / x86_64  OK    OK    OK    OK  UNNEEDED, same version is already published
kjohnson3macOS 13.7.7 Ventura / arm64  OK    OK    OK    OK  UNNEEDED, same version is already published
taishanLinux (openEuler 24.03 LTS) / aarch64  OK    NA    NA  
Package 40/55HostnameOS / ArchINSTALLBUILDCHECKBUILD BIN
spicyR 1.21.9  (landing page)
Ellis Patrick
git_last_commit: 02e127a
git_last_commit_date: 2025-10-14 15:09:21 -0400
nebbiolo2Linux (Ubuntu 24.04.3 LTS) / x86_64  OK    OK    OK  UNNEEDED, same version is already published
lconwaymacOS 12.7.6 Monterey / x86_64  OK    OK    OK    OK  UNNEEDED, same version is already published
kjohnson3macOS 13.7.7 Ventura / arm64  OK    OK    OK    OK  UNNEEDED, same version is already published
taishanLinux (openEuler 24.03 LTS) / aarch64  OK    NA    NA  
Package 41/55HostnameOS / ArchINSTALLBUILDCHECKBUILD BIN
spoon 1.5.0  (landing page)
Kinnary Shah
git_last_commit: a142b22
git_last_commit_date: 2025-04-15 13:29:27 -0400
nebbiolo2Linux (Ubuntu 24.04.3 LTS) / x86_64  OK    OK    OK  UNNEEDED, same version is already published
lconwaymacOS 12.7.6 Monterey / x86_64  OK    OK    OK    OK  UNNEEDED, same version is already published
kjohnson3macOS 13.7.7 Ventura / arm64  OK    OK    OK    OK  UNNEEDED, same version is already published
taishanLinux (openEuler 24.03 LTS) / aarch64  OK    NA    NA  
Package 42/55HostnameOS / ArchINSTALLBUILDCHECKBUILD BIN
SpotClean 1.11.0  (landing page)
Zijian Ni
git_last_commit: 70137e5
git_last_commit_date: 2025-04-15 12:51:51 -0400
nebbiolo2Linux (Ubuntu 24.04.3 LTS) / x86_64  OK    OK    OK  UNNEEDED, same version is already published
lconwaymacOS 12.7.6 Monterey / x86_64  OK    OK    OK    OK  UNNEEDED, same version is already published
kjohnson3macOS 13.7.7 Ventura / arm64  OK    OK    OK    OK  UNNEEDED, same version is already published
taishanLinux (openEuler 24.03 LTS) / aarch64  OK    NA    NA  
Package 43/55HostnameOS / ArchINSTALLBUILDCHECKBUILD BIN
SpotSweeper 1.5.1  (landing page)
Michael Totty
git_last_commit: ad0acc6
git_last_commit_date: 2025-10-14 15:02:46 -0400
nebbiolo2Linux (Ubuntu 24.04.3 LTS) / x86_64  OK    OK    OK  UNNEEDED, same version is already published
lconwaymacOS 12.7.6 Monterey / x86_64  OK    OK    OK    OK  UNNEEDED, same version is already published
kjohnson3macOS 13.7.7 Ventura / arm64  OK    OK    OK    OK  UNNEEDED, same version is already published
taishanLinux (openEuler 24.03 LTS) / aarch64  OK    NA    NA  
Package 44/55HostnameOS / ArchINSTALLBUILDCHECKBUILD BIN
standR 1.13.0  (landing page)
Ning Liu
git_last_commit: cbb5c6a
git_last_commit_date: 2025-07-31 19:48:04 -0400
nebbiolo2Linux (Ubuntu 24.04.3 LTS) / x86_64  OK    OK    OK  UNNEEDED, same version is already published
lconwaymacOS 12.7.6 Monterey / x86_64  OK    OK    OK    OK  UNNEEDED, same version is already published
kjohnson3macOS 13.7.7 Ventura / arm64  OK    OK    OK    OK  UNNEEDED, same version is already published
taishanLinux (openEuler 24.03 LTS) / aarch64  OK    NA    NA  
Package 45/55HostnameOS / ArchINSTALLBUILDCHECKBUILD BIN
Statial 1.11.7  (landing page)
Farhan Ameen
git_last_commit: 4e7a44d
git_last_commit_date: 2025-10-14 15:03:12 -0400
nebbiolo2Linux (Ubuntu 24.04.3 LTS) / x86_64  OK    OK    OK  UNNEEDED, same version is already published
lconwaymacOS 12.7.6 Monterey / x86_64  OK    OK    OK    OK  UNNEEDED, same version is already published
kjohnson3macOS 13.7.7 Ventura / arm64  OK    OK    OK    OK  UNNEEDED, same version is already published
taishanLinux (openEuler 24.03 LTS) / aarch64  OK    NA    NA  
Package 46/55HostnameOS / ArchINSTALLBUILDCHECKBUILD BIN
stJoincount 1.11.0  (landing page)
Jiarong Song
git_last_commit: 3c16bb4
git_last_commit_date: 2025-04-15 12:58:39 -0400
nebbiolo2Linux (Ubuntu 24.04.3 LTS) / x86_64  OK    OK    OK  UNNEEDED, same version is already published
lconwaymacOS 12.7.6 Monterey / x86_64  OK    OK    OK    OK  UNNEEDED, same version is already published
kjohnson3macOS 13.7.7 Ventura / arm64  OK    OK    OK    OK  UNNEEDED, same version is already published
taishanLinux (openEuler 24.03 LTS) / aarch64  OK    NA    NA  
Package 47/55HostnameOS / ArchINSTALLBUILDCHECKBUILD BIN
stPipe 0.99.995  (landing page)
Yang Xu
git_last_commit: c0b834c
git_last_commit_date: 2025-10-16 03:23:29 -0400
nebbiolo2Linux (Ubuntu 24.04.3 LTS) / x86_64  OK    OK    WARNINGS  UNNEEDED, same version is already published
lconwaymacOS 12.7.6 Monterey / x86_64  OK    OK    WARNINGS    OK  UNNEEDED, same version is already published
kjohnson3macOS 13.7.7 Ventura / arm64  OK    OK    WARNINGS    OK  UNNEEDED, same version is already published
taishanLinux (openEuler 24.03 LTS) / aarch64  OK    NA    NA  
Package 48/55HostnameOS / ArchINSTALLBUILDCHECKBUILD BIN
SVP 1.1.1  (landing page)
Shuangbin Xu
git_last_commit: 9c5839c
git_last_commit_date: 2025-10-14 15:04:13 -0400
nebbiolo2Linux (Ubuntu 24.04.3 LTS) / x86_64  OK    OK    OK  UNNEEDED, same version is already published
lconwaymacOS 12.7.6 Monterey / x86_64  OK    OK    OK    OK  UNNEEDED, same version is already published
kjohnson3macOS 13.7.7 Ventura / arm64  OK    OK    OK    OK  UNNEEDED, same version is already published
taishanLinux (openEuler 24.03 LTS) / aarch64  OK    NA    NA  
Package 49/55HostnameOS / ArchINSTALLBUILDCHECKBUILD BIN
tidySpatialExperiment 1.5.1  (landing page)
William Hutchison
git_last_commit: 8909c54
git_last_commit_date: 2025-10-21 22:11:35 -0400
nebbiolo2Linux (Ubuntu 24.04.3 LTS) / x86_64  OK    OK    OK  UNNEEDED, same version is already published
lconwaymacOS 12.7.6 Monterey / x86_64  OK    OK    OK    OK  UNNEEDED, same version is already published
kjohnson3macOS 13.7.7 Ventura / arm64  OK    OK    OK    OK  UNNEEDED, same version is already published
taishanLinux (openEuler 24.03 LTS) / aarch64  OK    NA    NA  
Package 50/55HostnameOS / ArchINSTALLBUILDCHECKBUILD BIN
tpSVG 1.5.0  (landing page)
Boyi Guo
git_last_commit: 98f4d48
git_last_commit_date: 2025-04-15 13:29:49 -0400
nebbiolo2Linux (Ubuntu 24.04.3 LTS) / x86_64  OK    OK    OK  UNNEEDED, same version is already published
lconwaymacOS 12.7.6 Monterey / x86_64  OK    OK    OK    OK  UNNEEDED, same version is already published
kjohnson3macOS 13.7.7 Ventura / arm64  OK    OK    OK    OK  UNNEEDED, same version is already published
taishanLinux (openEuler 24.03 LTS) / aarch64  OK    NA    NA  
Package 51/55HostnameOS / ArchINSTALLBUILDCHECKBUILD BIN
VisiumIO 1.5.11  (landing page)
Marcel Ramos
git_last_commit: 05f9fdb
git_last_commit_date: 2025-10-14 13:18:23 -0400
nebbiolo2Linux (Ubuntu 24.04.3 LTS) / x86_64  OK    OK    OK  UNNEEDED, same version is already published
lconwaymacOS 12.7.6 Monterey / x86_64  OK    OK    OK    OK  UNNEEDED, same version is already published
kjohnson3macOS 13.7.7 Ventura / arm64  OK    OK    OK    OK  UNNEEDED, same version is already published
taishanLinux (openEuler 24.03 LTS) / aarch64  OK    NA    NA  
Package 52/55HostnameOS / ArchINSTALLBUILDCHECKBUILD BIN
visiumStitched 1.1.3  (landing page)
Nicholas J. Eagles
git_last_commit: 96538ca
git_last_commit_date: 2025-10-22 18:29:54 -0400
nebbiolo2Linux (Ubuntu 24.04.3 LTS) / x86_64  OK    OK    OK  UNNEEDED, same version is already published
lconwaymacOS 12.7.6 Monterey / x86_64  OK    OK    OK    OK  UNNEEDED, same version is already published
kjohnson3macOS 13.7.7 Ventura / arm64  OK    OK    OK    OK  UNNEEDED, same version is already published
taishanLinux (openEuler 24.03 LTS) / aarch64  OK    NA    NA  
Package 53/55HostnameOS / ArchINSTALLBUILDCHECKBUILD BIN
Voyager 1.11.0  (landing page)
Lambda Moses
git_last_commit: 7cd5ab1
git_last_commit_date: 2025-09-15 22:18:05 -0400
nebbiolo2Linux (Ubuntu 24.04.3 LTS) / x86_64  OK    OK    WARNINGS  UNNEEDED, same version is already published
lconwaymacOS 12.7.6 Monterey / x86_64  OK    OK    WARNINGS    OK  UNNEEDED, same version is already published
kjohnson3macOS 13.7.7 Ventura / arm64  OK    OK    WARNINGS    OK  UNNEEDED, same version is already published
taishanLinux (openEuler 24.03 LTS) / aarch64  OK    NA    NA  
Package 54/55HostnameOS / ArchINSTALLBUILDCHECKBUILD BIN
XeniumIO 1.1.3  (landing page)
Marcel Ramos
git_last_commit: 94e988c
git_last_commit_date: 2025-07-03 16:58:11 -0400
nebbiolo2Linux (Ubuntu 24.04.3 LTS) / x86_64  OK    OK    OK  UNNEEDED, same version is already published
lconwaymacOS 12.7.6 Monterey / x86_64  OK    OK    OK    OK  UNNEEDED, same version is already published
kjohnson3macOS 13.7.7 Ventura / arm64  OK    OK    OK    OK  UNNEEDED, same version is already published
taishanLinux (openEuler 24.03 LTS) / aarch64  OK    NA    NA  
Package 55/55HostnameOS / ArchINSTALLBUILDCHECKBUILD BIN
xenLite 1.3.0  (landing page)
Vincent Carey
git_last_commit: b3b7b53
git_last_commit_date: 2025-04-15 13:39:59 -0400
nebbiolo2Linux (Ubuntu 24.04.3 LTS) / x86_64  OK    OK    OK  UNNEEDED, same version is already published
lconwaymacOS 12.7.6 Monterey / x86_64  OK    OK    OK    OK  UNNEEDED, same version is already published
kjohnson3macOS 13.7.7 Ventura / arm64  OK    OK    OK    OK  UNNEEDED, same version is already published
taishanLinux (openEuler 24.03 LTS) / aarch64  OK    NA    NA