| Back to Multiple platform build/check report for BioC 3.22: simplified long |
|
This page was generated on 2025-10-25 12:03 -0400 (Sat, 25 Oct 2025).
| Hostname | OS | Arch (*) | R version | Installed pkgs |
|---|---|---|---|---|
| nebbiolo2 | Linux (Ubuntu 24.04.3 LTS) | x86_64 | 4.5.1 Patched (2025-08-23 r88802) -- "Great Square Root" | 4901 |
| lconway | macOS 12.7.6 Monterey | x86_64 | 4.5.1 Patched (2025-09-10 r88807) -- "Great Square Root" | 4691 |
| kjohnson3 | macOS 13.7.7 Ventura | arm64 | 4.5.1 Patched (2025-09-10 r88807) -- "Great Square Root" | 4637 |
| taishan | Linux (openEuler 24.03 LTS) | aarch64 | 4.5.0 (2025-04-11) -- "How About a Twenty-Six" | 4658 |
| Click on any hostname to see more info about the system (e.g. compilers) (*) as reported by 'uname -p', except on Windows and Mac OS X | ||||
| Package 260/2361 | Hostname | OS / Arch | INSTALL | BUILD | CHECK | BUILD BIN | ||||||||
| BulkSignalR 1.1.5 (landing page) Jean-Philippe Villemin
| nebbiolo2 | Linux (Ubuntu 24.04.3 LTS) / x86_64 | OK | OK | OK | |||||||||
| lconway | macOS 12.7.6 Monterey / x86_64 | OK | OK | OK | OK | |||||||||
| kjohnson3 | macOS 13.7.7 Ventura / arm64 | OK | OK | OK | OK | |||||||||
| taishan | Linux (openEuler 24.03 LTS) / aarch64 | OK | NA | NA | ||||||||||
|
To the developers/maintainers of the BulkSignalR package: - Allow up to 24 hours (and sometimes 48 hours) for your latest push to git@git.bioconductor.org:packages/BulkSignalR.git to reflect on this report. See Troubleshooting Build Report for more information. - Use the following Renviron settings to reproduce errors and warnings. - If 'R CMD check' started to fail recently on the Linux builder(s) over a missing dependency, add the missing dependency to 'Suggests:' in your DESCRIPTION file. See Renviron.bioc for more information. |
| Package: BulkSignalR |
| Version: 1.1.5 |
| Command: /home/biocbuild/bbs-3.22-bioc/R/bin/R CMD check --install=check:BulkSignalR.install-out.txt --library=/home/biocbuild/bbs-3.22-bioc/R/site-library --timings BulkSignalR_1.1.5.tar.gz |
| StartedAt: 2025-10-24 21:47:49 -0400 (Fri, 24 Oct 2025) |
| EndedAt: 2025-10-24 21:58:39 -0400 (Fri, 24 Oct 2025) |
| EllapsedTime: 650.6 seconds |
| RetCode: 0 |
| Status: OK |
| CheckDir: BulkSignalR.Rcheck |
| Warnings: 0 |
##############################################################################
##############################################################################
###
### Running command:
###
### /home/biocbuild/bbs-3.22-bioc/R/bin/R CMD check --install=check:BulkSignalR.install-out.txt --library=/home/biocbuild/bbs-3.22-bioc/R/site-library --timings BulkSignalR_1.1.5.tar.gz
###
##############################################################################
##############################################################################
* using log directory ‘/home/biocbuild/bbs-3.22-bioc/meat/BulkSignalR.Rcheck’
* using R version 4.5.1 Patched (2025-08-23 r88802)
* using platform: x86_64-pc-linux-gnu
* R was compiled by
gcc (Ubuntu 13.3.0-6ubuntu2~24.04) 13.3.0
GNU Fortran (Ubuntu 13.3.0-6ubuntu2~24.04) 13.3.0
* running under: Ubuntu 24.04.3 LTS
* using session charset: UTF-8
* checking for file ‘BulkSignalR/DESCRIPTION’ ... OK
* checking extension type ... Package
* this is package ‘BulkSignalR’ version ‘1.1.5’
* package encoding: UTF-8
* checking package namespace information ... OK
* checking package dependencies ... INFO
Imports includes 26 non-default packages.
Importing from so many packages makes the package vulnerable to any of
them becoming unavailable. Move as many as possible to Suggests and
use conditionally.
* checking if this is a source package ... OK
* checking if there is a namespace ... OK
* checking for hidden files and directories ... OK
* checking for portable file names ... OK
* checking for sufficient/correct file permissions ... OK
* checking whether package ‘BulkSignalR’ can be installed ... OK
* checking installed package size ... OK
* checking package directory ... OK
* checking ‘build’ directory ... OK
* checking DESCRIPTION meta-information ... OK
* checking top-level files ... OK
* checking for left-over files ... OK
* checking index information ... OK
* checking package subdirectories ... OK
* checking code files for non-ASCII characters ... OK
* checking R files for syntax errors ... OK
* checking whether the package can be loaded ... OK
* checking whether the package can be loaded with stated dependencies ... OK
* checking whether the package can be unloaded cleanly ... OK
* checking whether the namespace can be loaded with stated dependencies ... OK
* checking whether the namespace can be unloaded cleanly ... OK
* checking loading without being on the library search path ... OK
* checking whether startup messages can be suppressed ... OK
* checking dependencies in R code ... OK
* checking S3 generic/method consistency ... OK
* checking replacement functions ... OK
* checking foreign function calls ... OK
* checking R code for possible problems ... OK
* checking Rd files ... OK
* checking Rd metadata ... OK
* checking Rd cross-references ... OK
* checking for missing documentation entries ... OK
* checking for code/documentation mismatches ... OK
* checking Rd \usage sections ... OK
* checking Rd contents ... OK
* checking for unstated dependencies in examples ... OK
* checking contents of ‘data’ directory ... OK
* checking data for non-ASCII characters ... OK
* checking data for ASCII and uncompressed saves ... OK
* checking files in ‘vignettes’ ... OK
* checking examples ... OK
Examples with CPU (user + system) or elapsed time > 5s
user system elapsed
simpleHeatmap 6.699 0.583 7.284
cacheClear 3.526 0.218 12.106
* checking for unstated dependencies in ‘tests’ ... OK
* checking tests ...
Running ‘testthat.R’
OK
* checking for unstated dependencies in vignettes ... OK
* checking package vignettes ... OK
* checking re-building of vignette outputs ... OK
* checking PDF version of manual ... OK
* DONE
Status: OK
BulkSignalR.Rcheck/00install.out
############################################################################## ############################################################################## ### ### Running command: ### ### /home/biocbuild/bbs-3.22-bioc/R/bin/R CMD INSTALL BulkSignalR ### ############################################################################## ############################################################################## * installing to library ‘/home/biocbuild/bbs-3.22-bioc/R/site-library’ * installing *source* package ‘BulkSignalR’ ... ** this is package ‘BulkSignalR’ version ‘1.1.5’ ** using staged installation ** R ** data ** inst ** byte-compile and prepare package for lazy loading ** help *** installing help indices *** copying figures ** building package indices ** installing vignettes ** testing if installed package can be loaded from temporary location ** testing if installed package can be loaded from final location ** testing if installed package keeps a record of temporary installation path * DONE (BulkSignalR)
BulkSignalR.Rcheck/tests/testthat.Rout
R version 4.5.1 Patched (2025-08-23 r88802) -- "Great Square Root"
Copyright (C) 2025 The R Foundation for Statistical Computing
Platform: x86_64-pc-linux-gnu
R is free software and comes with ABSOLUTELY NO WARRANTY.
You are welcome to redistribute it under certain conditions.
Type 'license()' or 'licence()' for distribution details.
R is a collaborative project with many contributors.
Type 'contributors()' for more information and
'citation()' on how to cite R or R packages in publications.
Type 'demo()' for some demos, 'help()' for on-line help, or
'help.start()' for an HTML browser interface to help.
Type 'q()' to quit R.
> library(testthat)
> library(BulkSignalR)
Local "resources" are up to date.
> test_check("BulkSignalR")
[ FAIL 0 | WARN 0 | SKIP 0 | PASS 1 ]
>
> proc.time()
user system elapsed
13.780 1.092 15.805
BulkSignalR.Rcheck/BulkSignalR-Ex.timings
| name | user | system | elapsed | |
| BSRClusterComp-class | 0.002 | 0.000 | 0.002 | |
| BSRClusterComp | 0.272 | 0.030 | 0.302 | |
| BSRDataModel-class | 0.038 | 0.001 | 0.039 | |
| BSRDataModel | 0.150 | 0.001 | 0.152 | |
| BSRDataModelComp-class | 0.005 | 0.000 | 0.005 | |
| BSRDataModelComp | 0.157 | 0.000 | 0.156 | |
| BSRInference-class | 0.005 | 0.000 | 0.004 | |
| BSRInference | 3.098 | 0.211 | 3.310 | |
| BSRInferenceComp-class | 0.007 | 0.000 | 0.007 | |
| BSRInferenceComp | 1.086 | 0.080 | 1.166 | |
| BSRSignature-class | 0.002 | 0.000 | 0.001 | |
| BSRSignature | 0.030 | 0.000 | 0.029 | |
| BSRSignatureComp-class | 0.003 | 0.001 | 0.004 | |
| BSRSignatureComp | 0.013 | 0.001 | 0.014 | |
| LRinter | 0.002 | 0.000 | 0.001 | |
| LRinterScore | 0.004 | 0.000 | 0.003 | |
| LRinterShort | 0.003 | 0.000 | 0.004 | |
| addClusterComp | 0.202 | 0.003 | 0.206 | |
| alluvialPlot | 0.540 | 0.002 | 0.543 | |
| assignCellTypesToInteractions | 0.687 | 0.003 | 0.690 | |
| bubblePlotPathwaysLR | 0.467 | 0.001 | 0.467 | |
| cacheClear | 3.526 | 0.218 | 12.106 | |
| cacheInfo | 0.093 | 0.011 | 0.104 | |
| cacheVersion | 0.267 | 0.018 | 0.626 | |
| cellTypeFrequency | 0.638 | 0.030 | 0.669 | |
| cellularNetwork | 0.567 | 0.055 | 0.622 | |
| cellularNetworkTable | 0.580 | 0.032 | 0.611 | |
| chordDiagramLR | 1.157 | 0.022 | 1.180 | |
| coerce | 0.000 | 0.001 | 0.001 | |
| colClusterA | 0.001 | 0.000 | 0.000 | |
| colClusterB | 0 | 0 | 0 | |
| comparison | 0 | 0 | 0 | |
| comparisonName | 0 | 0 | 0 | |
| convertToHuman | 0.216 | 0.040 | 2.941 | |
| createResources | 0.269 | 0.022 | 0.901 | |
| differentialStats | 0.001 | 0.000 | 0.002 | |
| findOrthoGenes | 0.146 | 0.060 | 0.349 | |
| generateSpatialPlots | 1.772 | 0.495 | 2.268 | |
| getLRIntracellNetwork | 1.690 | 0.097 | 1.788 | |
| getLRNetwork | 0.032 | 0.002 | 0.035 | |
| getPathwayStats | 0.012 | 0.002 | 0.015 | |
| getResource | 0.275 | 0.015 | 0.290 | |
| inferenceParameters | 0 | 0 | 0 | |
| initialOrganism | 0.002 | 0.000 | 0.002 | |
| initialOrthologs | 0.002 | 0.000 | 0.002 | |
| learnParameters | 2.422 | 0.032 | 2.455 | |
| ligands | 0 | 0 | 0 | |
| logTransformed | 0.001 | 0.000 | 0.001 | |
| maxLigandSpatialCounts | 0.050 | 0.007 | 0.057 | |
| mu | 0 | 0 | 0 | |
| ncounts | 0.000 | 0.000 | 0.001 | |
| normalization | 0.001 | 0.000 | 0.001 | |
| parameters | 0.002 | 0.000 | 0.002 | |
| pathways | 0 | 0 | 0 | |
| receptors | 0 | 0 | 0 | |
| reduceToBestPathway | 0.081 | 0.001 | 0.082 | |
| reduceToLigand | 0.034 | 0.001 | 0.035 | |
| reduceToPathway | 0.088 | 0.004 | 0.092 | |
| reduceToReceptor | 0.013 | 0.000 | 0.014 | |
| relateToGeneSet | 0.069 | 0.002 | 0.071 | |
| removeClusterComp | 0.202 | 0.003 | 0.205 | |
| rescoreInference | 0.029 | 0.003 | 0.032 | |
| resetLRdb | 0.022 | 0.001 | 0.023 | |
| resetNetwork | 0.006 | 0.000 | 0.006 | |
| resetPathways | 0.266 | 0.002 | 0.269 | |
| resetToInitialOrganism | 0.140 | 0.001 | 0.142 | |
| scoreLRGeneSignatures | 1.209 | 0.179 | 1.389 | |
| scoreSignatures | 0.259 | 0.001 | 0.260 | |
| separatedLRPlot | 1.660 | 0.034 | 1.695 | |
| signatureHeatmaps | 0.022 | 0.001 | 0.021 | |
| simpleHeatmap | 6.699 | 0.583 | 7.284 | |
| smoothSpatialCounts | 0.048 | 0.000 | 0.048 | |
| sourceComparisonName | 0.001 | 0.000 | 0.000 | |
| spatialAssociation | 0.052 | 0.001 | 0.053 | |
| spatialAssociationPlot | 3.502 | 0.063 | 3.566 | |
| spatialDiversityPlot | 0.893 | 0.008 | 0.901 | |
| spatialIndexPlot | 1.346 | 0.003 | 1.349 | |
| spatialPlot | 1.137 | 0.022 | 1.160 | |
| summarizedCellularNetwork | 0.568 | 0.000 | 0.569 | |
| tgCorr | 0 | 0 | 0 | |
| tgExpr | 0 | 0 | 0 | |
| tgGenes | 0 | 0 | 0 | |
| tgLogFC | 0.000 | 0.000 | 0.001 | |
| tgPval | 0.001 | 0.000 | 0.000 | |
| updateInference | 0.084 | 0.000 | 0.084 | |