| Back to Multiple platform build/check report for BioC 3.22: simplified long |
|
This page was generated on 2025-11-24 12:06 -0500 (Mon, 24 Nov 2025).
| Hostname | OS | Arch (*) | R version | Installed pkgs |
|---|---|---|---|---|
| nebbiolo2 | Linux (Ubuntu 24.04.3 LTS) | x86_64 | 4.5.2 (2025-10-31) -- "[Not] Part in a Rumble" | 4873 |
| merida1 | macOS 12.7.6 Monterey | x86_64 | 4.5.2 Patched (2025-11-05 r88990) -- "[Not] Part in a Rumble" | 4654 |
| kjohnson1 | macOS 13.7.5 Ventura | arm64 | 4.5.2 Patched (2025-11-04 r88984) -- "[Not] Part in a Rumble" | 4600 |
| taishan | Linux (openEuler 24.03 LTS) | aarch64 | 4.5.0 (2025-04-11) -- "How About a Twenty-Six" | 4668 |
| Click on any hostname to see more info about the system (e.g. compilers) (*) as reported by 'uname -p', except on Windows and Mac OS X | ||||
| Package 632/2361 | Hostname | OS / Arch | INSTALL | BUILD | CHECK | BUILD BIN | ||||||||
| DspikeIn 1.0.0 (landing page) Mitra Ghotbi
| nebbiolo2 | Linux (Ubuntu 24.04.3 LTS) / x86_64 | OK | OK | OK | |||||||||
| merida1 | macOS 12.7.6 Monterey / x86_64 | OK | OK | ERROR | OK | |||||||||
| kjohnson1 | macOS 13.7.5 Ventura / arm64 | OK | OK | OK | OK | |||||||||
| taishan | Linux (openEuler 24.03 LTS) / aarch64 | OK | OK | OK | ||||||||||
|
To the developers/maintainers of the DspikeIn package: - Allow up to 24 hours (and sometimes 48 hours) for your latest push to git@git.bioconductor.org:packages/DspikeIn.git to reflect on this report. See Troubleshooting Build Report for more information. - Use the following Renviron settings to reproduce errors and warnings. - If 'R CMD check' started to fail recently on the Linux builder(s) over a missing dependency, add the missing dependency to 'Suggests:' in your DESCRIPTION file. See Renviron.bioc for more information. |
| Package: DspikeIn |
| Version: 1.0.0 |
| Command: /Library/Frameworks/R.framework/Resources/bin/R CMD check --install=check:DspikeIn.install-out.txt --library=/Library/Frameworks/R.framework/Resources/library --no-vignettes --timings DspikeIn_1.0.0.tar.gz |
| StartedAt: 2025-11-22 01:16:51 -0500 (Sat, 22 Nov 2025) |
| EndedAt: 2025-11-22 01:31:55 -0500 (Sat, 22 Nov 2025) |
| EllapsedTime: 904.5 seconds |
| RetCode: 0 |
| Status: OK |
| CheckDir: DspikeIn.Rcheck |
| Warnings: 0 |
##############################################################################
##############################################################################
###
### Running command:
###
### /Library/Frameworks/R.framework/Resources/bin/R CMD check --install=check:DspikeIn.install-out.txt --library=/Library/Frameworks/R.framework/Resources/library --no-vignettes --timings DspikeIn_1.0.0.tar.gz
###
##############################################################################
##############################################################################
* using log directory ‘/Users/biocbuild/bbs-3.22-bioc/meat/DspikeIn.Rcheck’
* using R version 4.5.2 Patched (2025-11-04 r88984)
* using platform: aarch64-apple-darwin20
* R was compiled by
Apple clang version 16.0.0 (clang-1600.0.26.6)
GNU Fortran (GCC) 14.2.0
* running under: macOS Ventura 13.7.8
* using session charset: UTF-8
* using option ‘--no-vignettes’
* checking for file ‘DspikeIn/DESCRIPTION’ ... OK
* checking extension type ... Package
* this is package ‘DspikeIn’ version ‘1.0.0’
* package encoding: UTF-8
* checking package namespace information ... OK
* checking package dependencies ... INFO
Imports includes 38 non-default packages.
Importing from so many packages makes the package vulnerable to any of
them becoming unavailable. Move as many as possible to Suggests and
use conditionally.
* checking if this is a source package ... OK
* checking if there is a namespace ... OK
* checking for hidden files and directories ... OK
* checking for portable file names ... OK
* checking for sufficient/correct file permissions ... OK
* checking whether package ‘DspikeIn’ can be installed ... OK
* checking installed package size ... OK
* checking package directory ... OK
* checking ‘build’ directory ... OK
* checking DESCRIPTION meta-information ... OK
* checking top-level files ... OK
* checking for left-over files ... OK
* checking index information ... OK
* checking package subdirectories ... OK
* checking code files for non-ASCII characters ... OK
* checking R files for syntax errors ... OK
* checking whether the package can be loaded ... OK
* checking whether the package can be loaded with stated dependencies ... OK
* checking whether the package can be unloaded cleanly ... OK
* checking whether the namespace can be loaded with stated dependencies ... OK
* checking whether the namespace can be unloaded cleanly ... OK
* checking whether startup messages can be suppressed ... OK
* checking dependencies in R code ... OK
* checking S3 generic/method consistency ... OK
* checking replacement functions ... OK
* checking foreign function calls ... OK
* checking R code for possible problems ... OK
* checking Rd files ... OK
* checking Rd metadata ... OK
* checking Rd cross-references ... NOTE
Non-topic package-anchored link(s) in Rd file 'label.Rd':
‘[phyloseq:tax_table-methods]{phyloseq::tax_table()}’
See section 'Cross-references' in the 'Writing R Extensions' manual.
* checking for missing documentation entries ... OK
* checking for code/documentation mismatches ... OK
* checking Rd \usage sections ... OK
* checking Rd contents ... OK
* checking for unstated dependencies in examples ... OK
* checking contents of ‘data’ directory ... OK
* checking data for non-ASCII characters ... OK
* checking LazyData ... OK
* checking data for ASCII and uncompressed saves ... OK
* checking files in ‘vignettes’ ... OK
* checking examples ... OK
Examples with CPU (user + system) or elapsed time > 5s
user system elapsed
taxa_barplot 43.580 1.359 62.471
plot_core_microbiome_custom 28.788 0.850 41.743
RandomForest_selected 24.281 0.635 34.667
convert_to_absolute_counts 16.895 0.507 24.383
summ_ASV_OTUID 16.354 0.332 22.836
Pre_processing_hashcodes 13.308 0.227 18.716
node_level_metrics 12.323 0.294 17.766
calculate_spike_percentage 11.407 0.787 17.326
random_subsample_WithReductionFactor 6.844 1.024 11.092
quadrant_plot 7.727 0.101 11.054
proportion_adj 7.509 0.227 10.757
ridge_plot_it 7.268 0.224 10.455
summ_phyloseq_sampleID 5.537 0.984 8.978
alluvial_plot 6.048 0.228 8.948
Pre_processing_species 5.787 0.143 8.418
calculate_spikeIn_factors 5.255 0.194 7.786
filter_and_split_abundance 5.296 0.132 7.732
normalization_set 4.829 0.439 7.694
simulate_network_robustness 3.677 0.102 5.358
* checking for unstated dependencies in ‘tests’ ... OK
* checking tests ...
Running ‘testthat.R’
OK
* checking for unstated dependencies in vignettes ... OK
* checking package vignettes ... OK
* checking running R code from vignettes ... SKIPPED
* checking re-building of vignette outputs ... SKIPPED
* checking PDF version of manual ... OK
* DONE
Status: 1 NOTE
See
‘/Users/biocbuild/bbs-3.22-bioc/meat/DspikeIn.Rcheck/00check.log’
for details.
DspikeIn.Rcheck/00install.out
############################################################################## ############################################################################## ### ### Running command: ### ### /Library/Frameworks/R.framework/Resources/bin/R CMD INSTALL DspikeIn ### ############################################################################## ############################################################################## * installing to library ‘/Library/Frameworks/R.framework/Versions/4.5-arm64/Resources/library’ * installing *source* package ‘DspikeIn’ ... ** this is package ‘DspikeIn’ version ‘1.0.0’ ** using staged installation ** R ** data *** moving datasets to lazyload DB ** inst ** byte-compile and prepare package for lazy loading ** help *** installing help indices ** building package indices ** installing vignettes ** testing if installed package can be loaded from temporary location ** testing if installed package can be loaded from final location ** testing if installed package keeps a record of temporary installation path * DONE (DspikeIn)
DspikeIn.Rcheck/tests/testthat.Rout
R version 4.5.2 Patched (2025-11-04 r88984) -- "[Not] Part in a Rumble"
Copyright (C) 2025 The R Foundation for Statistical Computing
Platform: aarch64-apple-darwin20
R is free software and comes with ABSOLUTELY NO WARRANTY.
You are welcome to redistribute it under certain conditions.
Type 'license()' or 'licence()' for distribution details.
R is a collaborative project with many contributors.
Type 'contributors()' for more information and
'citation()' on how to cite R or R packages in publications.
Type 'demo()' for some demos, 'help()' for on-line help, or
'help.start()' for an HTML browser interface to help.
Type 'q()' to quit R.
> # This file is part of the standard setup for testthat.
> # It is recommended that you do not modify it.
> #
> # Where should you do additional test configuration?
> # Learn more about the roles of various files in:
> # * https://r-pkgs.org/testing-design.html#sec-tests-files-overview
> # * https://testthat.r-lib.org/articles/special-files.html
>
> library(testthat)
> library(DspikeIn)
Thank you for using DspikeIn! 🎉
For support, 📧 contact: Mitra Ghotbi (mitra.ghotbi@gmail.com)
GitHub Repository: https://github.com/mghotbi/DspikeIn
🐛 Found a bug or have a suggestion? Open an issue:
https://github.com/mghotbi/DspikeIn/issues
>
> test_check("DspikeIn")
[ FAIL 0 | WARN 0 | SKIP 13 | PASS 0 ]
══ Skipped tests (13) ══════════════════════════════════════════════════════════
• On Bioconductor (13): 'test-Pre_processing_species.R:1:1',
'test-RandomForest_selected.R:1:1', 'test-calculate_spikeIn_factors.R:1:1',
'test-calculate_spike_percentage.R:1:1',
'test-calculate_summary_stats_table.R:1:1', 'test-conclusion.R:1:1',
'test-convert_to_absolute_counts.R:1:1',
'test-imbalance_calculate_list_average_scaling_factors.R:1:1',
'test-node_level_metrics.R:1:1', 'test-perform_and_visualize_DA.R:1:1',
'test-quadrant_plot.R:1:1', 'test-remove_zero_negative_count_samples.R:1:1',
'test-simulate_robustness.R:1:1'
[ FAIL 0 | WARN 0 | SKIP 13 | PASS 0 ]
>
> proc.time()
user system elapsed
15.760 0.757 23.118
DspikeIn.Rcheck/DspikeIn-Ex.timings
| name | user | system | elapsed | |
| AcceptableRange | 0.153 | 0.013 | 0.203 | |
| MG_shapes | 0.631 | 0.013 | 0.942 | |
| Pre_processing_hashcodes | 13.308 | 0.227 | 18.716 | |
| Pre_processing_species | 5.787 | 0.143 | 8.418 | |
| Pre_processing_species_list | 0.399 | 0.008 | 0.598 | |
| RandomForest_selected | 24.281 | 0.635 | 34.667 | |
| adjust_abundance_one_third | 1.043 | 0.090 | 1.522 | |
| adjusted_prevalence | 1.110 | 0.067 | 1.728 | |
| alluvial_plot | 6.048 | 0.228 | 8.948 | |
| calculate_list_average_scaling_factors | 0.047 | 0.003 | 0.067 | |
| calculate_spikeIn_factors | 5.255 | 0.194 | 7.786 | |
| calculate_spike_percentage | 11.407 | 0.787 | 17.326 | |
| calculate_spike_percentage_list | 0.830 | 0.084 | 1.270 | |
| calculate_summary_stats_table | 0.149 | 0.008 | 0.230 | |
| color_palette | 0.453 | 0.005 | 0.642 | |
| conclusion | 2.863 | 0.156 | 4.063 | |
| convert_categorical_to_factors | 0.373 | 0.025 | 0.575 | |
| convert_phyloseq_to_tse | 0.777 | 0.052 | 1.178 | |
| convert_to_absolute_counts | 16.895 | 0.507 | 24.383 | |
| convert_tse_to_phyloseq | 1.083 | 0.052 | 1.641 | |
| create_directory | 0.000 | 0.001 | 0.001 | |
| degree_network | 2.586 | 0.093 | 3.865 | |
| detect_common_asvs_taxa | 0.000 | 0.001 | 0.001 | |
| extract_neighbors | 0.022 | 0.006 | 0.034 | |
| filter_and_split_abundance | 5.296 | 0.132 | 7.732 | |
| get_long_format_data | 0.765 | 0.034 | 1.147 | |
| gm_mean | 0.001 | 0.001 | 0.001 | |
| imbalance_calculate_list_average_scaling_factors | 0.154 | 0.004 | 0.229 | |
| label | 0.042 | 0.002 | 0.065 | |
| metadata_full | 0.028 | 0.005 | 0.061 | |
| my_custom_theme | 0.628 | 0.009 | 0.882 | |
| node_level_metrics | 12.323 | 0.294 | 17.766 | |
| norm.DESeq | 3.125 | 0.124 | 4.661 | |
| normalization_set | 4.829 | 0.439 | 7.694 | |
| perform_and_visualize_DA | 0 | 0 | 0 | |
| physeq | 0.036 | 0.003 | 0.041 | |
| physeq_16SOTU | 0.392 | 0.155 | 0.702 | |
| physeq_ITSOTU | 0.327 | 0.137 | 0.690 | |
| plot_core_microbiome_custom | 28.788 | 0.850 | 41.743 | |
| plot_spikein_tree_diagnostic | 0.000 | 0.001 | 0.001 | |
| plotbar_abundance | 0.000 | 0.001 | 0.001 | |
| proportion_adj | 7.509 | 0.227 | 10.757 | |
| quadrant_plot | 7.727 | 0.101 | 11.054 | |
| random_subsample_WithReductionFactor | 6.844 | 1.024 | 11.092 | |
| randomsubsample_Trimmed_evenDepth | 2.160 | 0.203 | 3.348 | |
| regression_plot | 1.240 | 0.024 | 1.682 | |
| relativized_filtered_taxa | 0.548 | 0.038 | 0.912 | |
| remove_zero_negative_count_samples | 0.638 | 0.084 | 0.992 | |
| ridge_plot_it | 7.268 | 0.224 | 10.455 | |
| set_nf | 0.347 | 0.036 | 0.502 | |
| simulate_network_robustness | 3.677 | 0.102 | 5.358 | |
| summ_ASV_OTUID | 16.354 | 0.332 | 22.836 | |
| summ_count_phyloseq | 1.279 | 0.059 | 1.842 | |
| summ_phyloseq_sampleID | 5.537 | 0.984 | 8.978 | |
| taxa_barplot | 43.580 | 1.359 | 62.471 | |
| tidy_phyloseq_tse | 3.008 | 0.100 | 4.212 | |
| tse | 0.042 | 0.002 | 0.050 | |
| validate_spikein_clade | 0.714 | 0.035 | 1.013 | |
| weight_Network | 2.833 | 0.082 | 4.151 | |