Back to Multiple platform build/check report for BioC 3.22:   simplified   long
ABC[D]EFGHIJKLMNOPQRSTUVWXYZ

This page was generated on 2025-11-17 11:58 -0500 (Mon, 17 Nov 2025).

HostnameOSArch (*)R versionInstalled pkgs
nebbiolo2Linux (Ubuntu 24.04.3 LTS)x86_644.5.1 Patched (2025-08-23 r88802) -- "Great Square Root" 4903
taishanLinux (openEuler 24.03 LTS)aarch644.5.0 (2025-04-11) -- "How About a Twenty-Six" 4668
Click on any hostname to see more info about the system (e.g. compilers)      (*) as reported by 'uname -p', except on Windows and Mac OS X

Package 632/2361HostnameOS / ArchINSTALLBUILDCHECKBUILD BIN
DspikeIn 1.0.0  (landing page)
Mitra Ghotbi
Snapshot Date: 2025-11-16 13:45 -0500 (Sun, 16 Nov 2025)
git_url: https://git.bioconductor.org/packages/DspikeIn
git_branch: RELEASE_3_22
git_last_commit: 8a427ff
git_last_commit_date: 2025-10-29 11:39:12 -0500 (Wed, 29 Oct 2025)
nebbiolo2Linux (Ubuntu 24.04.3 LTS) / x86_64  OK    OK    OK  UNNEEDED, same version is already published
taishanLinux (openEuler 24.03 LTS) / aarch64  OK    OK    OK  


CHECK results for DspikeIn on nebbiolo2

To the developers/maintainers of the DspikeIn package:
- Allow up to 24 hours (and sometimes 48 hours) for your latest push to git@git.bioconductor.org:packages/DspikeIn.git to reflect on this report. See Troubleshooting Build Report for more information.
- Use the following Renviron settings to reproduce errors and warnings.
- If 'R CMD check' started to fail recently on the Linux builder(s) over a missing dependency, add the missing dependency to 'Suggests:' in your DESCRIPTION file. See Renviron.bioc for more information.

raw results


Summary

Package: DspikeIn
Version: 1.0.0
Command: /home/biocbuild/bbs-3.22-bioc/R/bin/R CMD check --install=check:DspikeIn.install-out.txt --library=/home/biocbuild/bbs-3.22-bioc/R/site-library --timings DspikeIn_1.0.0.tar.gz
StartedAt: 2025-11-16 23:23:46 -0500 (Sun, 16 Nov 2025)
EndedAt: 2025-11-16 23:36:02 -0500 (Sun, 16 Nov 2025)
EllapsedTime: 735.7 seconds
RetCode: 0
Status:   OK  
CheckDir: DspikeIn.Rcheck
Warnings: 0

Command output

##############################################################################
##############################################################################
###
### Running command:
###
###   /home/biocbuild/bbs-3.22-bioc/R/bin/R CMD check --install=check:DspikeIn.install-out.txt --library=/home/biocbuild/bbs-3.22-bioc/R/site-library --timings DspikeIn_1.0.0.tar.gz
###
##############################################################################
##############################################################################


* using log directory ‘/home/biocbuild/bbs-3.22-bioc/meat/DspikeIn.Rcheck’
* using R version 4.5.1 Patched (2025-08-23 r88802)
* using platform: x86_64-pc-linux-gnu
* R was compiled by
    gcc (Ubuntu 13.3.0-6ubuntu2~24.04) 13.3.0
    GNU Fortran (Ubuntu 13.3.0-6ubuntu2~24.04) 13.3.0
* running under: Ubuntu 24.04.3 LTS
* using session charset: UTF-8
* checking for file ‘DspikeIn/DESCRIPTION’ ... OK
* checking extension type ... Package
* this is package ‘DspikeIn’ version ‘1.0.0’
* package encoding: UTF-8
* checking package namespace information ... OK
* checking package dependencies ... INFO
Imports includes 38 non-default packages.
Importing from so many packages makes the package vulnerable to any of
them becoming unavailable.  Move as many as possible to Suggests and
use conditionally.
* checking if this is a source package ... OK
* checking if there is a namespace ... OK
* checking for hidden files and directories ... OK
* checking for portable file names ... OK
* checking for sufficient/correct file permissions ... OK
* checking whether package ‘DspikeIn’ can be installed ... OK
* checking installed package size ... OK
* checking package directory ... OK
* checking ‘build’ directory ... OK
* checking DESCRIPTION meta-information ... OK
* checking top-level files ... OK
* checking for left-over files ... OK
* checking index information ... OK
* checking package subdirectories ... OK
* checking code files for non-ASCII characters ... OK
* checking R files for syntax errors ... OK
* checking whether the package can be loaded ... OK
* checking whether the package can be loaded with stated dependencies ... OK
* checking whether the package can be unloaded cleanly ... OK
* checking whether the namespace can be loaded with stated dependencies ... OK
* checking whether the namespace can be unloaded cleanly ... OK
* checking loading without being on the library search path ... OK
* checking whether startup messages can be suppressed ... OK
* checking dependencies in R code ... OK
* checking S3 generic/method consistency ... OK
* checking replacement functions ... OK
* checking foreign function calls ... OK
* checking R code for possible problems ... OK
* checking Rd files ... OK
* checking Rd metadata ... OK
* checking Rd cross-references ... NOTE
Non-topic package-anchored link(s) in Rd file 'label.Rd':
  ‘[phyloseq:tax_table-methods]{phyloseq::tax_table()}’

See section 'Cross-references' in the 'Writing R Extensions' manual.
* checking for missing documentation entries ... OK
* checking for code/documentation mismatches ... OK
* checking Rd \usage sections ... OK
* checking Rd contents ... OK
* checking for unstated dependencies in examples ... OK
* checking contents of ‘data’ directory ... OK
* checking data for non-ASCII characters ... OK
* checking LazyData ... OK
* checking data for ASCII and uncompressed saves ... OK
* checking files in ‘vignettes’ ... OK
* checking examples ... OK
Examples with CPU (user + system) or elapsed time > 5s
                                       user system elapsed
taxa_barplot                         39.138  0.324  39.488
plot_core_microbiome_custom          22.251  0.031  22.289
RandomForest_selected                18.219  0.229  18.450
summ_ASV_OTUID                       15.132  0.016  15.151
node_level_metrics                   10.332  0.032  10.260
convert_to_absolute_counts            9.494  0.067   9.563
calculate_spike_percentage            8.326  0.271   8.343
Pre_processing_hashcodes              7.268  0.373   7.646
quadrant_plot                         6.751  0.003   6.666
ridge_plot_it                         5.651  0.046   5.698
random_subsample_WithReductionFactor  5.604  0.068   5.671
* checking for unstated dependencies in ‘tests’ ... OK
* checking tests ...
  Running ‘testthat.R’
 OK
* checking for unstated dependencies in vignettes ... OK
* checking package vignettes ... OK
* checking re-building of vignette outputs ... OK
* checking PDF version of manual ... OK
* DONE

Status: 1 NOTE
See
  ‘/home/biocbuild/bbs-3.22-bioc/meat/DspikeIn.Rcheck/00check.log’
for details.


Installation output

DspikeIn.Rcheck/00install.out

##############################################################################
##############################################################################
###
### Running command:
###
###   /home/biocbuild/bbs-3.22-bioc/R/bin/R CMD INSTALL DspikeIn
###
##############################################################################
##############################################################################


* installing to library ‘/home/biocbuild/bbs-3.22-bioc/R/site-library’
* installing *source* package ‘DspikeIn’ ...
** this is package ‘DspikeIn’ version ‘1.0.0’
** using staged installation
** R
** data
*** moving datasets to lazyload DB
** inst
** byte-compile and prepare package for lazy loading
** help
*** installing help indices
** building package indices
** installing vignettes
** testing if installed package can be loaded from temporary location
** testing if installed package can be loaded from final location
** testing if installed package keeps a record of temporary installation path
* DONE (DspikeIn)

Tests output

DspikeIn.Rcheck/tests/testthat.Rout


R version 4.5.1 Patched (2025-08-23 r88802) -- "Great Square Root"
Copyright (C) 2025 The R Foundation for Statistical Computing
Platform: x86_64-pc-linux-gnu

R is free software and comes with ABSOLUTELY NO WARRANTY.
You are welcome to redistribute it under certain conditions.
Type 'license()' or 'licence()' for distribution details.

R is a collaborative project with many contributors.
Type 'contributors()' for more information and
'citation()' on how to cite R or R packages in publications.

Type 'demo()' for some demos, 'help()' for on-line help, or
'help.start()' for an HTML browser interface to help.
Type 'q()' to quit R.

> # This file is part of the standard setup for testthat.
> # It is recommended that you do not modify it.
> #
> # Where should you do additional test configuration?
> # Learn more about the roles of various files in:
> # * https://r-pkgs.org/testing-design.html#sec-tests-files-overview
> # * https://testthat.r-lib.org/articles/special-files.html
> 
> library(testthat)
> library(DspikeIn)

Thank you for using DspikeIn! 🎉
For support, 📧 contact: Mitra Ghotbi (mitra.ghotbi@gmail.com)
GitHub Repository: https://github.com/mghotbi/DspikeIn
🐛 Found a bug or have a suggestion? Open an issue:
  https://github.com/mghotbi/DspikeIn/issues


> 
> test_check("DspikeIn")
[ FAIL 0 | WARN 0 | SKIP 13 | PASS 0 ]

══ Skipped tests (13) ══════════════════════════════════════════════════════════
• On Bioconductor (13): 'test-Pre_processing_species.R:1:1',
  'test-RandomForest_selected.R:1:1', 'test-calculate_spikeIn_factors.R:1:1',
  'test-calculate_spike_percentage.R:1:1',
  'test-calculate_summary_stats_table.R:1:1', 'test-conclusion.R:1:1',
  'test-convert_to_absolute_counts.R:1:1',
  'test-imbalance_calculate_list_average_scaling_factors.R:1:1',
  'test-node_level_metrics.R:1:1', 'test-perform_and_visualize_DA.R:1:1',
  'test-quadrant_plot.R:1:1', 'test-remove_zero_negative_count_samples.R:1:1',
  'test-simulate_robustness.R:1:1'

[ FAIL 0 | WARN 0 | SKIP 13 | PASS 0 ]
> 
> proc.time()
   user  system elapsed 
 12.297   0.614  12.909 

Example timings

DspikeIn.Rcheck/DspikeIn-Ex.timings

nameusersystemelapsed
AcceptableRange0.890.020.91
MG_shapes0.4820.0130.494
Pre_processing_hashcodes7.2680.3737.646
Pre_processing_species3.4590.0523.512
Pre_processing_species_list0.2940.0020.297
RandomForest_selected18.219 0.22918.450
adjust_abundance_one_third1.7600.1701.932
adjusted_prevalence1.5860.0231.609
alluvial_plot4.0630.0694.132
calculate_list_average_scaling_factors0.0400.0010.041
calculate_spikeIn_factors3.1130.0313.144
calculate_spike_percentage8.3260.2718.343
calculate_spike_percentage_list0.6030.0190.626
calculate_summary_stats_table0.1230.0010.123
color_palette0.3890.0010.390
conclusion2.2850.0932.377
convert_categorical_to_factors0.2700.0010.270
convert_phyloseq_to_tse0.5560.0000.555
convert_to_absolute_counts9.4940.0679.563
convert_tse_to_phyloseq0.7990.0150.814
create_directory0.0010.0000.001
degree_network2.3330.0042.339
detect_common_asvs_taxa000
extract_neighbors0.0180.0010.019
filter_and_split_abundance2.3740.0002.375
get_long_format_data0.6130.0170.631
gm_mean000
imbalance_calculate_list_average_scaling_factors0.1190.0020.120
label0.0290.0010.030
metadata_full0.0190.0000.019
my_custom_theme0.4200.0030.423
node_level_metrics10.332 0.03210.260
norm.DESeq3.4260.0943.520
normalization_set4.3350.1024.436
perform_and_visualize_DA000
physeq0.0280.0020.030
physeq_16SOTU0.2170.0110.227
physeq_ITSOTU0.2020.0130.215
plot_core_microbiome_custom22.251 0.03122.289
plot_spikein_tree_diagnostic000
plotbar_abundance0.0000.0010.000
proportion_adj3.9120.0853.998
quadrant_plot6.7510.0036.666
random_subsample_WithReductionFactor5.6040.0685.671
randomsubsample_Trimmed_evenDepth2.6380.0692.707
regression_plot1.0440.0021.054
relativized_filtered_taxa0.3690.0000.370
remove_zero_negative_count_samples0.3980.0390.437
ridge_plot_it5.6510.0465.698
set_nf0.2500.0140.264
simulate_network_robustness2.9170.0062.924
summ_ASV_OTUID15.132 0.01615.151
summ_count_phyloseq1.0650.0591.124
summ_phyloseq_sampleID2.9550.0162.971
taxa_barplot39.138 0.32439.488
tidy_phyloseq_tse2.0500.0262.076
tse0.0370.0010.037
validate_spikein_clade0.4880.0040.495
weight_Network2.5230.0142.537