Back to Multiple platform build/check report for BioC 3.22:   simplified   long
ABC[D]EFGHIJKLMNOPQRSTUVWXYZ

This page was generated on 2025-11-27 12:05 -0500 (Thu, 27 Nov 2025).

HostnameOSArch (*)R versionInstalled pkgs
nebbiolo2Linux (Ubuntu 24.04.3 LTS)x86_644.5.2 (2025-10-31) -- "[Not] Part in a Rumble" 4876
merida1macOS 12.7.6 Montereyx86_644.5.2 Patched (2025-11-05 r88990) -- "[Not] Part in a Rumble" 4656
kjohnson1macOS 13.7.5 Venturaarm644.5.2 Patched (2025-11-04 r88984) -- "[Not] Part in a Rumble" 4602
taishanLinux (openEuler 24.03 LTS)aarch644.5.0 (2025-04-11) -- "How About a Twenty-Six" 4668
Click on any hostname to see more info about the system (e.g. compilers)      (*) as reported by 'uname -p', except on Windows and Mac OS X

Package 632/2361HostnameOS / ArchINSTALLBUILDCHECKBUILD BIN
DspikeIn 1.0.0  (landing page)
Mitra Ghotbi
Snapshot Date: 2025-11-24 13:45 -0500 (Mon, 24 Nov 2025)
git_url: https://git.bioconductor.org/packages/DspikeIn
git_branch: RELEASE_3_22
git_last_commit: 8a427ff
git_last_commit_date: 2025-10-29 11:39:12 -0500 (Wed, 29 Oct 2025)
nebbiolo2Linux (Ubuntu 24.04.3 LTS) / x86_64  OK    OK    OK  UNNEEDED, same version is already published
merida1macOS 12.7.6 Monterey / x86_64  OK    OK    ERROR    OK  
kjohnson1macOS 13.7.5 Ventura / arm64  OK    OK    OK    NA  
taishanLinux (openEuler 24.03 LTS) / aarch64  OK    OK    OK  


CHECK results for DspikeIn on taishan

To the developers/maintainers of the DspikeIn package:
- Allow up to 24 hours (and sometimes 48 hours) for your latest push to git@git.bioconductor.org:packages/DspikeIn.git to reflect on this report. See Troubleshooting Build Report for more information.
- Use the following Renviron settings to reproduce errors and warnings.
- If 'R CMD check' started to fail recently on the Linux builder(s) over a missing dependency, add the missing dependency to 'Suggests:' in your DESCRIPTION file. See Renviron.bioc for more information.
- See Martin Grigorov's blog post for how to debug Linux ARM64 related issues on a x86_64 host.

raw results


Summary

Package: DspikeIn
Version: 1.0.0
Command: /home/biocbuild/R/R/bin/R CMD check --install=check:DspikeIn.install-out.txt --library=/home/biocbuild/R/R/site-library --no-vignettes --timings DspikeIn_1.0.0.tar.gz
StartedAt: 2025-11-25 09:10:48 -0000 (Tue, 25 Nov 2025)
EndedAt: 2025-11-25 09:22:17 -0000 (Tue, 25 Nov 2025)
EllapsedTime: 688.7 seconds
RetCode: 0
Status:   OK  
CheckDir: DspikeIn.Rcheck
Warnings: 0

Command output

##############################################################################
##############################################################################
###
### Running command:
###
###   /home/biocbuild/R/R/bin/R CMD check --install=check:DspikeIn.install-out.txt --library=/home/biocbuild/R/R/site-library --no-vignettes --timings DspikeIn_1.0.0.tar.gz
###
##############################################################################
##############################################################################


* using log directory ‘/home/biocbuild/bbs-3.22-bioc/meat/DspikeIn.Rcheck’
* using R version 4.5.0 (2025-04-11)
* using platform: aarch64-unknown-linux-gnu
* R was compiled by
    aarch64-unknown-linux-gnu-gcc (GCC) 14.2.0
    GNU Fortran (GCC) 14.2.0
* running under: openEuler 24.03 (LTS)
* using session charset: UTF-8
* using option ‘--no-vignettes’
* checking for file ‘DspikeIn/DESCRIPTION’ ... OK
* checking extension type ... Package
* this is package ‘DspikeIn’ version ‘1.0.0’
* package encoding: UTF-8
* checking package namespace information ... OK
* checking package dependencies ... INFO
Imports includes 38 non-default packages.
Importing from so many packages makes the package vulnerable to any of
them becoming unavailable.  Move as many as possible to Suggests and
use conditionally.
* checking if this is a source package ... OK
* checking if there is a namespace ... OK
* checking for hidden files and directories ... OK
* checking for portable file names ... OK
* checking for sufficient/correct file permissions ... OK
* checking whether package ‘DspikeIn’ can be installed ... OK
* checking installed package size ... OK
* checking package directory ... OK
* checking ‘build’ directory ... OK
* checking DESCRIPTION meta-information ... OK
* checking top-level files ... OK
* checking for left-over files ... OK
* checking index information ... OK
* checking package subdirectories ... OK
* checking code files for non-ASCII characters ... OK
* checking R files for syntax errors ... OK
* checking whether the package can be loaded ... OK
* checking whether the package can be loaded with stated dependencies ... OK
* checking whether the package can be unloaded cleanly ... OK
* checking whether the namespace can be loaded with stated dependencies ... OK
* checking whether the namespace can be unloaded cleanly ... OK
* checking loading without being on the library search path ... OK
* checking whether startup messages can be suppressed ... OK
* checking dependencies in R code ... OK
* checking S3 generic/method consistency ... OK
* checking replacement functions ... OK
* checking foreign function calls ... OK
* checking R code for possible problems ... OK
* checking Rd files ... OK
* checking Rd metadata ... OK
* checking Rd cross-references ... NOTE
Non-topic package-anchored link(s) in Rd file 'label.Rd':
  ‘[phyloseq:tax_table-methods]{phyloseq::tax_table()}’

See section 'Cross-references' in the 'Writing R Extensions' manual.
* checking for missing documentation entries ... OK
* checking for code/documentation mismatches ... OK
* checking Rd \usage sections ... OK
* checking Rd contents ... OK
* checking for unstated dependencies in examples ... OK
* checking contents of ‘data’ directory ... OK
* checking data for non-ASCII characters ... OK
* checking LazyData ... OK
* checking data for ASCII and uncompressed saves ... OK
* checking files in ‘vignettes’ ... OK
* checking examples ... OK
Examples with CPU (user + system) or elapsed time > 5s
                                       user system elapsed
taxa_barplot                         55.316  0.215  55.693
plot_core_microbiome_custom          34.276  0.052  34.418
summ_ASV_OTUID                       26.247  0.060  26.377
RandomForest_selected                25.628  0.323  26.014
node_level_metrics                   16.314  0.135  16.495
convert_to_absolute_counts           12.207  0.060  12.299
calculate_spike_percentage           11.096  0.191  11.286
quadrant_plot                        10.388  0.095  10.509
Pre_processing_hashcodes              8.732  0.288   9.037
ridge_plot_it                         8.710  0.012   8.748
random_subsample_WithReductionFactor  8.187  0.048   8.261
normalization_set                     5.772  0.076   5.862
summ_phyloseq_sampleID                5.535  0.052   5.598
proportion_adj                        5.329  0.028   5.367
* checking for unstated dependencies in ‘tests’ ... OK
* checking tests ...
  Running ‘testthat.R’
 OK
* checking for unstated dependencies in vignettes ... OK
* checking package vignettes ... OK
* checking running R code from vignettes ... SKIPPED
* checking re-building of vignette outputs ... SKIPPED
* checking PDF version of manual ... OK
* DONE

Status: 1 NOTE
See
  ‘/home/biocbuild/bbs-3.22-bioc/meat/DspikeIn.Rcheck/00check.log’
for details.


Installation output

DspikeIn.Rcheck/00install.out

##############################################################################
##############################################################################
###
### Running command:
###
###   /home/biocbuild/R/R/bin/R CMD INSTALL DspikeIn
###
##############################################################################
##############################################################################


* installing to library ‘/home/biocbuild/R/R-4.5.0/site-library’
* installing *source* package ‘DspikeIn’ ...
** this is package ‘DspikeIn’ version ‘1.0.0’
** using staged installation
** R
** data
*** moving datasets to lazyload DB
** inst
** byte-compile and prepare package for lazy loading
** help
*** installing help indices
** building package indices
** installing vignettes
** testing if installed package can be loaded from temporary location
** testing if installed package can be loaded from final location
** testing if installed package keeps a record of temporary installation path
* DONE (DspikeIn)

Tests output

DspikeIn.Rcheck/tests/testthat.Rout


R version 4.5.0 (2025-04-11) -- "How About a Twenty-Six"
Copyright (C) 2025 The R Foundation for Statistical Computing
Platform: aarch64-unknown-linux-gnu

R is free software and comes with ABSOLUTELY NO WARRANTY.
You are welcome to redistribute it under certain conditions.
Type 'license()' or 'licence()' for distribution details.

R is a collaborative project with many contributors.
Type 'contributors()' for more information and
'citation()' on how to cite R or R packages in publications.

Type 'demo()' for some demos, 'help()' for on-line help, or
'help.start()' for an HTML browser interface to help.
Type 'q()' to quit R.

> # This file is part of the standard setup for testthat.
> # It is recommended that you do not modify it.
> #
> # Where should you do additional test configuration?
> # Learn more about the roles of various files in:
> # * https://r-pkgs.org/testing-design.html#sec-tests-files-overview
> # * https://testthat.r-lib.org/articles/special-files.html
> 
> library(testthat)
> library(DspikeIn)

Thank you for using DspikeIn! 🎉
For support, 📧 contact: Mitra Ghotbi (mitra.ghotbi@gmail.com)
GitHub Repository: https://github.com/mghotbi/DspikeIn
🐛 Found a bug or have a suggestion? Open an issue:
  https://github.com/mghotbi/DspikeIn/issues


> 
> test_check("DspikeIn")
[ FAIL 0 | WARN 0 | SKIP 13 | PASS 0 ]

══ Skipped tests (13) ══════════════════════════════════════════════════════════
• On Bioconductor (13): 'test-Pre_processing_species.R:1:1',
  'test-RandomForest_selected.R:1:1', 'test-calculate_spikeIn_factors.R:1:1',
  'test-calculate_spike_percentage.R:1:1',
  'test-calculate_summary_stats_table.R:1:1', 'test-conclusion.R:1:1',
  'test-convert_to_absolute_counts.R:1:1',
  'test-imbalance_calculate_list_average_scaling_factors.R:1:1',
  'test-node_level_metrics.R:1:1', 'test-perform_and_visualize_DA.R:1:1',
  'test-quadrant_plot.R:1:1', 'test-remove_zero_negative_count_samples.R:1:1',
  'test-simulate_robustness.R:1:1'

[ FAIL 0 | WARN 0 | SKIP 13 | PASS 0 ]
> 
> proc.time()
   user  system elapsed 
 16.226   0.731  16.986 

Example timings

DspikeIn.Rcheck/DspikeIn-Ex.timings

nameusersystemelapsed
AcceptableRange0.8810.0040.887
MG_shapes0.6960.0070.704
Pre_processing_hashcodes8.7320.2889.037
Pre_processing_species4.3740.1244.505
Pre_processing_species_list0.4760.0000.477
RandomForest_selected25.628 0.32326.014
adjust_abundance_one_third2.0270.0522.084
adjusted_prevalence1.9170.0081.930
alluvial_plot4.4770.0164.502
calculate_list_average_scaling_factors0.0500.0030.053
calculate_spikeIn_factors4.3830.0284.423
calculate_spike_percentage11.096 0.19111.286
calculate_spike_percentage_list0.9130.0320.948
calculate_summary_stats_table0.1850.0040.188
color_palette0.6220.0040.628
conclusion2.0730.0402.118
convert_categorical_to_factors0.3100.0000.311
convert_phyloseq_to_tse0.7310.0000.733
convert_to_absolute_counts12.207 0.06012.299
convert_tse_to_phyloseq1.1370.0041.143
create_directory000
degree_network2.8970.0232.937
detect_common_asvs_taxa000
extract_neighbors0.0270.0000.027
filter_and_split_abundance3.2180.0203.245
get_long_format_data1.6230.0241.651
gm_mean0.0000.0000.001
imbalance_calculate_list_average_scaling_factors0.1940.0000.195
label0.0440.0000.044
metadata_full0.0260.0000.026
my_custom_theme0.5580.0040.563
node_level_metrics16.314 0.13516.495
norm.DESeq4.0150.0404.066
normalization_set5.7720.0765.862
perform_and_visualize_DA000
physeq0.050.000.05
physeq_16SOTU0.2110.0160.227
physeq_ITSOTU0.2050.0120.218
plot_core_microbiome_custom34.276 0.05234.418
plot_spikein_tree_diagnostic000
plotbar_abundance0.0010.0000.001
proportion_adj5.3290.0285.367
quadrant_plot10.388 0.09510.509
random_subsample_WithReductionFactor8.1870.0488.261
randomsubsample_Trimmed_evenDepth3.6120.0793.704
regression_plot1.5860.0001.592
relativized_filtered_taxa0.4480.0000.449
remove_zero_negative_count_samples0.5710.0000.573
ridge_plot_it8.7100.0128.748
set_nf0.3000.0040.305
simulate_network_robustness3.8950.0203.926
summ_ASV_OTUID26.247 0.06026.377
summ_count_phyloseq1.1360.0041.142
summ_phyloseq_sampleID5.5350.0525.598
taxa_barplot55.316 0.21555.693
tidy_phyloseq_tse2.7690.0162.792
tse0.0580.0000.058
validate_spikein_clade0.6580.0120.677
weight_Network3.7090.0073.726