See here for how to subscribe to these builds.
This page was generated on 2025-10-11 23:55 -0400 (Sat, 11 Oct 2025).
| |
| See this page for all the Bioconductor builds and their schedule. |
| Hostname | OS | Arch (*) | R version | Installed pkgs |
|---|---|---|---|---|
| nebbiolo1 | Linux (Ubuntu 24.04.3 LTS) | x86_64 | 4.5.1 (2025-06-13) -- "Great Square Root" | 4833 |
| merida1 | macOS 12.7.5 Monterey | x86_64 | 4.5.1 RC (2025-06-05 r88288) -- "Great Square Root" | 4614 |
| Click on any hostname to see more info about the system (e.g. compilers) (*) as reported by 'uname -p', except on Windows and Mac OS X | ||||
| QUICK STATS | OS / Arch | CHECK | |||||||
| nebbiolo1 | Linux (Ubuntu 24.04.3 LTS) / x86_64 |
| |||||||
| merida1 | macOS 12.7.5 Monterey / x86_64 |
| |||||||
| Package 1/30 | Hostname | OS / Arch | CHECK | ||||||
| APAlyzer 1.22.0 (landing page) Ruijia Wang
| nebbiolo1 | Linux (Ubuntu 24.04.3 LTS) / x86_64 | ERROR | ||||||
| merida1 | macOS 12.7.5 Monterey / x86_64 | ERROR | |||||||
| Package 2/30 | Hostname | OS / Arch | CHECK | ||||||
| autonomics 1.16.0 (landing page) Aditya Bhagwat
| nebbiolo1 | Linux (Ubuntu 24.04.3 LTS) / x86_64 | ERROR | ||||||
| merida1 | macOS 12.7.5 Monterey / x86_64 | ERROR | |||||||
| Package 3/30 | Hostname | OS / Arch | CHECK | ||||||
| basilisk 1.20.0 (landing page) Aaron Lun
| nebbiolo1 | Linux (Ubuntu 24.04.3 LTS) / x86_64 | OK | ||||||
| merida1 | macOS 12.7.5 Monterey / x86_64 | OK | |||||||
| Package 4/30 | Hostname | OS / Arch | CHECK | ||||||
| beachmat 2.24.0 (landing page) Aaron Lun
| nebbiolo1 | Linux (Ubuntu 24.04.3 LTS) / x86_64 | WARNINGS | ||||||
| merida1 | macOS 12.7.5 Monterey / x86_64 | WARNINGS | |||||||
| Package 5/30 | Hostname | OS / Arch | CHECK | ||||||
| biodb 1.16.1 (landing page) Pierrick Roger
| nebbiolo1 | Linux (Ubuntu 24.04.3 LTS) / x86_64 | WARNINGS | ||||||
| merida1 | macOS 12.7.5 Monterey / x86_64 | WARNINGS | |||||||
| Package 6/30 | Hostname | OS / Arch | CHECK | ||||||
| biodbChebi 1.14.0 (landing page) Pierrick Roger
| nebbiolo1 | Linux (Ubuntu 24.04.3 LTS) / x86_64 | ERROR | ||||||
| merida1 | macOS 12.7.5 Monterey / x86_64 | ERROR | |||||||
| Package 7/30 | Hostname | OS / Arch | CHECK | ||||||
| biodbHmdb 1.14.0 (landing page) Pierrick Roger
| nebbiolo1 | Linux (Ubuntu 24.04.3 LTS) / x86_64 | ERROR | ||||||
| merida1 | macOS 12.7.5 Monterey / x86_64 | ERROR | |||||||
| Package 8/30 | Hostname | OS / Arch | CHECK | ||||||
| biodbNcbi 1.12.0 (landing page) Pierrick Roger
| nebbiolo1 | Linux (Ubuntu 24.04.3 LTS) / x86_64 | ERROR | ||||||
| merida1 | macOS 12.7.5 Monterey / x86_64 | ERROR | |||||||
| Package 9/30 | Hostname | OS / Arch | CHECK | ||||||
| biodbNci 1.12.0 (landing page) Pierrick Roger
| nebbiolo1 | Linux (Ubuntu 24.04.3 LTS) / x86_64 | ERROR | ||||||
| merida1 | macOS 12.7.5 Monterey / x86_64 | ERROR | |||||||
| Package 10/30 | Hostname | OS / Arch | CHECK | ||||||
| biodbUniprot 1.14.0 (landing page) Pierrick Roger
| nebbiolo1 | Linux (Ubuntu 24.04.3 LTS) / x86_64 | ERROR | ||||||
| merida1 | macOS 12.7.5 Monterey / x86_64 | ERROR | |||||||
| Package 11/30 | Hostname | OS / Arch | CHECK | ||||||
| cBioPortalData 2.20.0 (landing page) Marcel Ramos
| nebbiolo1 | Linux (Ubuntu 24.04.3 LTS) / x86_64 | ERROR | ||||||
| merida1 | macOS 12.7.5 Monterey / x86_64 | NA | |||||||
| Package 12/30 | Hostname | OS / Arch | CHECK | ||||||
| ChromSCape 1.18.0 (landing page) Pacome Prompsy
| nebbiolo1 | Linux (Ubuntu 24.04.3 LTS) / x86_64 | ERROR | ||||||
| merida1 | macOS 12.7.5 Monterey / x86_64 | ERROR | |||||||
| Package 13/30 | Hostname | OS / Arch | CHECK | ||||||
| clusterExperiment 2.28.1 (landing page) Elizabeth Purdom
| nebbiolo1 | Linux (Ubuntu 24.04.3 LTS) / x86_64 | ERROR | ||||||
| merida1 | macOS 12.7.5 Monterey / x86_64 | NA | |||||||
| Package 14/30 | Hostname | OS / Arch | CHECK | ||||||
| CRISPRball 1.4.0 (landing page) Jared Andrews
| nebbiolo1 | Linux (Ubuntu 24.04.3 LTS) / x86_64 | OK | ||||||
| merida1 | macOS 12.7.5 Monterey / x86_64 | NA | |||||||
| Package 15/30 | Hostname | OS / Arch | CHECK | ||||||
| crisprScore 1.12.0 (landing page) Jean-Philippe Fortin
| nebbiolo1 | Linux (Ubuntu 24.04.3 LTS) / x86_64 | OK | ||||||
| merida1 | macOS 12.7.5 Monterey / x86_64 | OK | |||||||
| Package 16/30 | Hostname | OS / Arch | CHECK | ||||||
| DelayedMatrixStats 1.30.0 (landing page) Peter Hickey
| nebbiolo1 | Linux (Ubuntu 24.04.3 LTS) / x86_64 | OK | ||||||
| merida1 | macOS 12.7.5 Monterey / x86_64 | OK | |||||||
| Package 17/30 | Hostname | OS / Arch | CHECK | ||||||
| DropletUtils 1.28.1 (landing page) Jonathan Griffiths
| nebbiolo1 | Linux (Ubuntu 24.04.3 LTS) / x86_64 | OK | ||||||
| merida1 | macOS 12.7.5 Monterey / x86_64 | OK | |||||||
| Package 18/30 | Hostname | OS / Arch | CHECK | ||||||
| EpiMix 1.10.0 (landing page) Yuanning Zheng
| nebbiolo1 | Linux (Ubuntu 24.04.3 LTS) / x86_64 | OK | ||||||
| merida1 | macOS 12.7.5 Monterey / x86_64 | OK | |||||||
| Package 19/30 | Hostname | OS / Arch | CHECK | ||||||
| extraChIPs 1.12.2 (landing page) Stevie Pederson
| nebbiolo1 | Linux (Ubuntu 24.04.3 LTS) / x86_64 | OK | ||||||
| merida1 | macOS 12.7.5 Monterey / x86_64 | OK | |||||||
| Package 20/30 | Hostname | OS / Arch | CHECK | ||||||
| GenomicFeatures 1.60.0 (landing page) H. Pagès
| nebbiolo1 | Linux (Ubuntu 24.04.3 LTS) / x86_64 | WARNINGS | ||||||
| merida1 | macOS 12.7.5 Monterey / x86_64 | WARNINGS | |||||||
| Package 21/30 | Hostname | OS / Arch | CHECK | ||||||
| ginmappeR 1.4.0 (landing page) Fernando Sola
| nebbiolo1 | Linux (Ubuntu 24.04.3 LTS) / x86_64 | ERROR | ||||||
| merida1 | macOS 12.7.5 Monterey / x86_64 | ERROR | |||||||
| Package 22/30 | Hostname | OS / Arch | CHECK | ||||||
| HDF5Array 1.36.0 (landing page) Hervé Pagès
| nebbiolo1 | Linux (Ubuntu 24.04.3 LTS) / x86_64 | OK | ||||||
| merida1 | macOS 12.7.5 Monterey / x86_64 | NA | |||||||
| Package 23/30 | Hostname | OS / Arch | CHECK | ||||||
| midasHLA 1.16.0 (landing page) Maciej Migdał
| nebbiolo1 | Linux (Ubuntu 24.04.3 LTS) / x86_64 | ERROR | ||||||
| merida1 | macOS 12.7.5 Monterey / x86_64 | ERROR | |||||||
| Package 24/30 | Hostname | OS / Arch | CHECK | ||||||
| mosdef 1.4.1 (landing page) Federico Marini
| nebbiolo1 | Linux (Ubuntu 24.04.3 LTS) / x86_64 | OK | ||||||
| merida1 | macOS 12.7.5 Monterey / x86_64 | NA | |||||||
| Package 25/30 | Hostname | OS / Arch | CHECK | ||||||
| MungeSumstats 1.16.0 (landing page) Alan Murphy
| nebbiolo1 | Linux (Ubuntu 24.04.3 LTS) / x86_64 | ERROR | ||||||
| merida1 | macOS 12.7.5 Monterey / x86_64 | NA | |||||||
| Package 26/30 | Hostname | OS / Arch | CHECK | ||||||
| rhdf5 2.52.1 (landing page) Mike Smith
| nebbiolo1 | Linux (Ubuntu 24.04.3 LTS) / x86_64 | OK | ||||||
| merida1 | macOS 12.7.5 Monterey / x86_64 | OK | |||||||
| Package 27/30 | Hostname | OS / Arch | CHECK | ||||||
| SimBu 1.10.0 (landing page) Alexander Dietrich
| nebbiolo1 | Linux (Ubuntu 24.04.3 LTS) / x86_64 | ERROR | ||||||
| merida1 | macOS 12.7.5 Monterey / x86_64 | NA | |||||||
| Package 28/30 | Hostname | OS / Arch | CHECK | ||||||
| TENxIO 1.10.2 (landing page) Marcel Ramos
| nebbiolo1 | Linux (Ubuntu 24.04.3 LTS) / x86_64 | OK | ||||||
| merida1 | macOS 12.7.5 Monterey / x86_64 | NA | |||||||
| Package 29/30 | Hostname | OS / Arch | CHECK | ||||||
| xcms 4.6.4 (landing page) Steffen Neumann
| nebbiolo1 | Linux (Ubuntu 24.04.3 LTS) / x86_64 | ERROR | ||||||
| merida1 | macOS 12.7.5 Monterey / x86_64 | NA | |||||||
| Package 30/30 | Hostname | OS / Arch | CHECK | ||||||
| zellkonverter 1.18.0 (landing page) Luke Zappia
| nebbiolo1 | Linux (Ubuntu 24.04.3 LTS) / x86_64 | OK | ||||||
| merida1 | macOS 12.7.5 Monterey / x86_64 | NA | |||||||