Back to Long Tests report for BioC 3.21 |
This page was generated on 2025-02-08 23:55 -0500 (Sat, 08 Feb 2025).
Hostname | OS | Arch (*) | R version | Installed pkgs |
---|---|---|---|---|
nebbiolo1 | Linux (Ubuntu 24.04.1 LTS) | x86_64 | R Under development (unstable) (2025-01-20 r87609) -- "Unsuffered Consequences" | 4719 |
palomino7 | Windows Server 2022 Datacenter | x64 | R Under development (unstable) (2025-01-21 r87610 ucrt) -- "Unsuffered Consequences" | 4480 |
lconway | macOS 12.7.1 Monterey | x86_64 | R Under development (unstable) (2025-01-22 r87618) -- "Unsuffered Consequences" | 4491 |
Click on any hostname to see more info about the system (e.g. compilers) (*) as reported by 'uname -p', except on Windows and Mac OS X |
Package 20/30 | Hostname | OS / Arch | CHECK | |||||||
GenomicFeatures 1.59.1 (landing page) H. Pagès
| nebbiolo1 | Linux (Ubuntu 24.04.1 LTS) / x86_64 | WARNINGS | |||||||
palomino7 | Windows Server 2022 Datacenter / x64 | WARNINGS | ||||||||
lconway | macOS 12.7.1 Monterey / x86_64 | WARNINGS | ||||||||
To the developers/maintainers of the GenomicFeatures package: - Use the following Renviron settings to reproduce errors and warnings. - If 'R CMD check' started to fail recently on the Linux builder(s) over a missing dependency, add the missing dependency to 'Suggests:' in your DESCRIPTION file. See Renviron.bioc for more information. |
Package: GenomicFeatures |
Version: 1.59.1 |
Command: /home/biocbuild/bbs-3.21-bioc/R/bin/R CMD check --test-dir=longtests --no-stop-on-test-error --no-codoc --no-examples --no-manual --ignore-vignettes --check-subdirs=no GenomicFeatures_1.59.1.tar.gz |
StartedAt: 2025-02-08 16:13:28 -0500 (Sat, 08 Feb 2025) |
EndedAt: 2025-02-08 16:16:36 -0500 (Sat, 08 Feb 2025) |
EllapsedTime: 188.1 seconds |
RetCode: 0 |
Status: WARNINGS |
CheckDir: GenomicFeatures.Rcheck |
Warnings: 1 |
############################################################################## ############################################################################## ### ### Running command: ### ### /home/biocbuild/bbs-3.21-bioc/R/bin/R CMD check --test-dir=longtests --no-stop-on-test-error --no-codoc --no-examples --no-manual --ignore-vignettes --check-subdirs=no GenomicFeatures_1.59.1.tar.gz ### ############################################################################## ############################################################################## * using log directory ‘/home/biocbuild/bbs-3.21-bioc-longtests/meat/GenomicFeatures.Rcheck’ * using R Under development (unstable) (2025-01-20 r87609) * using platform: x86_64-pc-linux-gnu * R was compiled by gcc (Ubuntu 13.3.0-6ubuntu2~24.04) 13.3.0 GNU Fortran (Ubuntu 13.3.0-6ubuntu2~24.04) 13.3.0 * running under: Ubuntu 24.04.1 LTS * using session charset: UTF-8 * using options ‘--no-codoc --no-examples --no-manual --ignore-vignettes --no-stop-on-test-error’ * checking for file ‘GenomicFeatures/DESCRIPTION’ ... OK * this is package ‘GenomicFeatures’ version ‘1.59.1’ * package encoding: UTF-8 * checking package namespace information ... OK * checking package dependencies ... INFO Depends: includes the non-default packages: 'BiocGenerics', 'S4Vectors', 'IRanges', 'GenomeInfoDb', 'GenomicRanges', 'AnnotationDbi' Adding so many packages to the search path is excessive and importing selectively is preferable. * checking if this is a source package ... OK * checking if there is a namespace ... OK * checking for hidden files and directories ... OK * checking for portable file names ... OK * checking for sufficient/correct file permissions ... OK * checking whether package ‘GenomicFeatures’ can be installed ... OK * checking installed package size ... OK * checking package directory ... OK * checking DESCRIPTION meta-information ... OK * checking top-level files ... OK * checking for left-over files ... OK * checking index information ... OK * checking package subdirectories ... OK * checking code files for non-ASCII characters ... OK * checking R files for syntax errors ... OK * checking whether the package can be loaded ... OK * checking whether the package can be loaded with stated dependencies ... OK * checking whether the package can be unloaded cleanly ... OK * checking whether the namespace can be loaded with stated dependencies ... OK * checking whether the namespace can be unloaded cleanly ... OK * checking loading without being on the library search path ... OK * checking dependencies in R code ... NOTE Unexported objects imported by ':::' calls: ‘AnnotationDbi:::.getMetaValue’ ‘AnnotationDbi:::.valid.colnames’ ‘AnnotationDbi:::.valid.metadata.table’ ‘AnnotationDbi:::.valid.table.colnames’ ‘AnnotationDbi:::dbEasyQuery’ ‘AnnotationDbi:::dbQuery’ ‘AnnotationDbi:::smartKeys’ ‘BiocGenerics:::testPackage’ ‘GenomeInfoDb:::getSeqlevelsReplacementMode’ ‘GenomeInfoDb:::normarg_new2old’ ‘GenomicRanges:::unsafe.transcriptLocs2refLocs’ ‘GenomicRanges:::unsafe.transcriptWidths’ ‘IRanges:::regroupBySupergroup’ ‘S4Vectors:::V_recycle’ ‘S4Vectors:::decodeRle’ ‘S4Vectors:::extract_data_frame_rows’ See the note in ?`:::` about the use of this operator. * checking S3 generic/method consistency ... OK * checking replacement functions ... OK * checking foreign function calls ... OK * checking R code for possible problems ... OK * checking Rd files ... OK * checking Rd metadata ... OK * checking Rd cross-references ... NOTE Found the following Rd file(s) with Rd \link{} targets missing package anchors: FeatureDb-class.Rd: saveDb, loadDb extractUpstreamSeqs.Rd: mcols getPromoterSeq-methods.Rd: GRanges, GRangesList nearest-methods.Rd: GenomicRanges Please provide package anchors for all Rd \link{} targets not in the package itself and the base packages. * checking for missing documentation entries ... OK * checking for code/documentation mismatches ... SKIPPED * checking Rd \usage sections ... OK * checking Rd contents ... OK * checking for unstated dependencies in examples ... OK * checking files in ‘vignettes’ ... SKIPPED * checking examples ... SKIPPED WARNING directory ‘longtests’ not found * DONE Status: 1 WARNING, 2 NOTEs See ‘/home/biocbuild/bbs-3.21-bioc-longtests/meat/GenomicFeatures.Rcheck/00check.log’ for details.
GenomicFeatures.Rcheck/00install.out
* installing *source* package ‘GenomicFeatures’ ... ** this is package ‘GenomicFeatures’ version ‘1.59.1’ ** using staged installation ** R ** inst ** byte-compile and prepare package for lazy loading ** help *** installing help indices ** building package indices ** installing vignettes ** testing if installed package can be loaded from temporary location ** testing if installed package can be loaded from final location ** testing if installed package keeps a record of temporary installation path * DONE (GenomicFeatures)