| Back to Long Tests report for BioC 3.21 |
This page was generated on 2025-10-11 23:55 -0400 (Sat, 11 Oct 2025).
| Hostname | OS | Arch (*) | R version | Installed pkgs |
|---|---|---|---|---|
| nebbiolo1 | Linux (Ubuntu 24.04.3 LTS) | x86_64 | 4.5.1 (2025-06-13) -- "Great Square Root" | 4833 |
| merida1 | macOS 12.7.5 Monterey | x86_64 | 4.5.1 RC (2025-06-05 r88288) -- "Great Square Root" | 4614 |
| Click on any hostname to see more info about the system (e.g. compilers) (*) as reported by 'uname -p', except on Windows and Mac OS X | ||||
| Package 13/30 | Hostname | OS / Arch | CHECK | |||||||
| clusterExperiment 2.28.1 (landing page) Elizabeth Purdom
| nebbiolo1 | Linux (Ubuntu 24.04.3 LTS) / x86_64 | ERROR | |||||||
| merida1 | macOS 12.7.5 Monterey / x86_64 | NA | ||||||||
|
To the developers/maintainers of the clusterExperiment package: - Use the following Renviron settings to reproduce errors and warnings. - If 'R CMD check' started to fail recently on the Linux builder(s) over a missing dependency, add the missing dependency to 'Suggests:' in your DESCRIPTION file. See Renviron.bioc for more information. |
| Package: clusterExperiment |
| Version: 2.28.1 |
| Command: /home/biocbuild/bbs-3.21-bioc/R/bin/R CMD check --test-dir=longtests --no-stop-on-test-error --no-codoc --no-examples --no-manual --ignore-vignettes --check-subdirs=no clusterExperiment_2.28.1.tar.gz |
| StartedAt: 2025-10-11 16:03:32 -0400 (Sat, 11 Oct 2025) |
| EndedAt: 2025-10-11 16:18:45 -0400 (Sat, 11 Oct 2025) |
| EllapsedTime: 913.5 seconds |
| RetCode: 1 |
| Status: ERROR |
| CheckDir: clusterExperiment.Rcheck |
| Warnings: NA |
clusterExperiment.Rcheck/tests/testthat.Rout.fail
R version 4.5.1 (2025-06-13) -- "Great Square Root"
Copyright (C) 2025 The R Foundation for Statistical Computing
Platform: x86_64-pc-linux-gnu
R is free software and comes with ABSOLUTELY NO WARRANTY.
You are welcome to redistribute it under certain conditions.
Type 'license()' or 'licence()' for distribution details.
R is a collaborative project with many contributors.
Type 'contributors()' for more information and
'citation()' on how to cite R or R packages in publications.
Type 'demo()' for some demos, 'help()' for on-line help, or
'help.start()' for an HTML browser interface to help.
Type 'q()' to quit R.
> library(testthat)
> library(clusterExperiment)
Loading required package: SingleCellExperiment
Loading required package: SummarizedExperiment
Loading required package: MatrixGenerics
Loading required package: matrixStats
Attaching package: 'MatrixGenerics'
The following objects are masked from 'package:matrixStats':
colAlls, colAnyNAs, colAnys, colAvgsPerRowSet, colCollapse,
colCounts, colCummaxs, colCummins, colCumprods, colCumsums,
colDiffs, colIQRDiffs, colIQRs, colLogSumExps, colMadDiffs,
colMads, colMaxs, colMeans2, colMedians, colMins, colOrderStats,
colProds, colQuantiles, colRanges, colRanks, colSdDiffs, colSds,
colSums2, colTabulates, colVarDiffs, colVars, colWeightedMads,
colWeightedMeans, colWeightedMedians, colWeightedSds,
colWeightedVars, rowAlls, rowAnyNAs, rowAnys, rowAvgsPerColSet,
rowCollapse, rowCounts, rowCummaxs, rowCummins, rowCumprods,
rowCumsums, rowDiffs, rowIQRDiffs, rowIQRs, rowLogSumExps,
rowMadDiffs, rowMads, rowMaxs, rowMeans2, rowMedians, rowMins,
rowOrderStats, rowProds, rowQuantiles, rowRanges, rowRanks,
rowSdDiffs, rowSds, rowSums2, rowTabulates, rowVarDiffs, rowVars,
rowWeightedMads, rowWeightedMeans, rowWeightedMedians,
rowWeightedSds, rowWeightedVars
Loading required package: GenomicRanges
Loading required package: stats4
Loading required package: BiocGenerics
Loading required package: generics
Attaching package: 'generics'
The following objects are masked from 'package:base':
as.difftime, as.factor, as.ordered, intersect, is.element, setdiff,
setequal, union
Attaching package: 'BiocGenerics'
The following objects are masked from 'package:stats':
IQR, mad, sd, var, xtabs
The following objects are masked from 'package:base':
Filter, Find, Map, Position, Reduce, anyDuplicated, aperm, append,
as.data.frame, basename, cbind, colnames, dirname, do.call,
duplicated, eval, evalq, get, grep, grepl, is.unsorted, lapply,
mapply, match, mget, order, paste, pmax, pmax.int, pmin, pmin.int,
rank, rbind, rownames, sapply, saveRDS, table, tapply, unique,
unsplit, which.max, which.min
Loading required package: S4Vectors
Attaching package: 'S4Vectors'
The following object is masked from 'package:utils':
findMatches
The following objects are masked from 'package:base':
I, expand.grid, unname
Loading required package: IRanges
Loading required package: GenomeInfoDb
Loading required package: Biobase
Welcome to Bioconductor
Vignettes contain introductory material; view with
'browseVignettes()'. To cite Bioconductor, see
'citation("Biobase")', and for packages 'citation("pkgname")'.
Attaching package: 'Biobase'
The following object is masked from 'package:MatrixGenerics':
rowMedians
The following objects are masked from 'package:matrixStats':
anyMissing, rowMedians
> test_check("clusterExperiment")
Found more than one class "Annotated" in cache; using the first, from namespace 'S4Vectors'
Also defined by 'RNeXML'
Note: Not all of the methods requested in 'reduceMethod' have been calculated. Will calculate all the methods requested (any pre-existing values -- filtering statistics or dimensionality reductions -- with these names will be recalculated and overwritten): PCA.
Found more than one class "Annotated" in cache; using the first, from namespace 'S4Vectors'
Also defined by 'RNeXML'
Note: Not all of the methods requested in 'reduceMethod' have been calculated. Will calculate all the methods requested (any pre-existing values -- filtering statistics or dimensionality reductions -- with these names will be recalculated and overwritten): PCA.
Found more than one class "Annotated" in cache; using the first, from namespace 'S4Vectors'
Also defined by 'RNeXML'
Note: Not all of the methods requested in 'reduceMethod' have been calculated. Will calculate all the methods requested (any pre-existing values -- filtering statistics or dimensionality reductions -- with these names will be recalculated and overwritten): var.
Note: Not all of the methods requested in 'reduceMethod' have been calculated. Will calculate all the methods requested (any pre-existing values -- filtering statistics or dimensionality reductions -- with these names will be recalculated and overwritten): var.
[ FAIL 1 | WARN 0 | SKIP 0 | PASS 43 ]
══ Failed tests ════════════════════════════════════════════════════════════════
── Error ('test-rsecFluidigm.R:17:5'): saved rsecFluidigm is still valid object ──
Error in `checkRsecFluidigmObject(rsecFluidigmNew)`: rsecFluidigm has changed -- makeConsensus
Backtrace:
▆
1. ├─testthat::expect_silent(checkRsecFluidigmObject(rsecFluidigmNew)) at test-rsecFluidigm.R:17:5
2. │ └─testthat:::quasi_capture(enquo(object), NULL, evaluate_promise)
3. │ ├─testthat (local) .capture(...)
4. │ │ ├─withr::with_output_sink(...)
5. │ │ │ └─base::force(code)
6. │ │ ├─base::withCallingHandlers(...)
7. │ │ └─base::withVisible(code)
8. │ └─rlang::eval_bare(quo_get_expr(.quo), quo_get_env(.quo))
9. └─clusterExperiment:::checkRsecFluidigmObject(rsecFluidigmNew)
[ FAIL 1 | WARN 0 | SKIP 0 | PASS 43 ]
Error: Test failures
Execution halted
##############################################################################
##############################################################################
###
### Running command:
###
### /home/biocbuild/bbs-3.21-bioc/R/bin/R CMD check --test-dir=longtests --no-stop-on-test-error --no-codoc --no-examples --no-manual --ignore-vignettes --check-subdirs=no clusterExperiment_2.28.1.tar.gz
###
##############################################################################
##############################################################################
* using log directory ‘/home/biocbuild/bbs-3.21-bioc-longtests/meat/clusterExperiment.Rcheck’
* using R version 4.5.1 (2025-06-13)
* using platform: x86_64-pc-linux-gnu
* R was compiled by
gcc (Ubuntu 13.3.0-6ubuntu2~24.04) 13.3.0
GNU Fortran (Ubuntu 13.3.0-6ubuntu2~24.04) 13.3.0
* running under: Ubuntu 24.04.3 LTS
* using session charset: UTF-8
* using options ‘--no-codoc --no-examples --no-manual --ignore-vignettes --no-stop-on-test-error’
* checking for file ‘clusterExperiment/DESCRIPTION’ ... OK
* this is package ‘clusterExperiment’ version ‘2.28.1’
* package encoding: UTF-8
* checking package namespace information ... OK
* checking package dependencies ... INFO
Imports includes 21 non-default packages.
Importing from so many packages makes the package vulnerable to any of
them becoming unavailable. Move as many as possible to Suggests and
use conditionally.
* checking if this is a source package ... OK
* checking if there is a namespace ... OK
* checking for hidden files and directories ... NOTE
Found the following hidden files and directories:
.BBSoptions
These were most likely included in error. See section ‘Package
structure’ in the ‘Writing R Extensions’ manual.
* checking for portable file names ... OK
* checking for sufficient/correct file permissions ... OK
* checking whether package ‘clusterExperiment’ can be installed ... OK
* used C++ compiler: ‘g++ (Ubuntu 13.3.0-6ubuntu2~24.04) 13.3.0’
* checking C++ specification ... NOTE
Specified C++11: please drop specification unless essential
* checking installed package size ... INFO
installed size is 6.2Mb
sub-directories of 1Mb or more:
R 1.1Mb
data 3.6Mb
libs 1.0Mb
* checking package directory ... OK
* checking DESCRIPTION meta-information ... OK
* checking top-level files ... OK
* checking for left-over files ... OK
* checking index information ... OK
* checking package subdirectories ... OK
* checking code files for non-ASCII characters ... OK
* checking R files for syntax errors ... OK
* checking whether the package can be loaded ... OK
* checking whether the package can be loaded with stated dependencies ... OK
* checking whether the package can be unloaded cleanly ... OK
* checking whether the namespace can be loaded with stated dependencies ... OK
* checking whether the namespace can be unloaded cleanly ... OK
* checking loading without being on the library search path ... OK
* checking dependencies in R code ... OK
* checking S3 generic/method consistency ... OK
* checking replacement functions ... OK
* checking foreign function calls ... NOTE
Foreign function calls to a different package:
.C(ape::node_depth, ...)
.C(ape::node_depth_edgelength, ...)
.C(ape::node_height, ...)
.C(ape::node_height_clado, ...)
See chapter ‘System and foreign language interfaces’ in the ‘Writing R
Extensions’ manual.
* checking R code for possible problems ... OK
* checking Rd files ... NOTE
checkRd: (-1) ClusterExperiment-class.Rd:177-180: Lost braces in \itemize; meant \describe ?
checkRd: (-1) ClusterExperiment-class.Rd:181-182: Lost braces in \itemize; meant \describe ?
checkRd: (-1) ClusterFunction-class.Rd:70: Lost braces in \itemize; meant \describe ?
checkRd: (-1) ClusterFunction-class.Rd:71-77: Lost braces in \itemize; meant \describe ?
checkRd: (-1) ClusterFunction-class.Rd:78-84: Lost braces in \itemize; meant \describe ?
checkRd: (-1) ClusterFunction-class.Rd:85-94: Lost braces in \itemize; meant \describe ?
checkRd: (-1) ClusterFunction-class.Rd:95-97: Lost braces in \itemize; meant \describe ?
checkRd: (-1) ClusterFunction-class.Rd:98-99: Lost braces in \itemize; meant \describe ?
checkRd: (-1) ClusterFunction-class.Rd:104-105: Lost braces in \itemize; meant \describe ?
checkRd: (-1) ClusterFunction-class.Rd:106: Lost braces in \itemize; meant \describe ?
checkRd: (-1) ClusterFunction-class.Rd:107-111: Lost braces in \itemize; meant \describe ?
checkRd: (-1) builtInClusteringFunctions.Rd:60-63: Lost braces in \itemize; meant \describe ?
checkRd: (-1) builtInClusteringFunctions.Rd:64-73: Lost braces in \itemize; meant \describe ?
checkRd: (-1) builtInClusteringFunctions.Rd:74-77: Lost braces in \itemize; meant \describe ?
checkRd: (-1) builtInClusteringFunctions.Rd:78: Lost braces in \itemize; meant \describe ?
checkRd: (-1) builtInClusteringFunctions.Rd:79-92: Lost braces in \itemize; meant \describe ?
checkRd: (-1) builtInClusteringFunctions.Rd:93-96: Lost braces in \itemize; meant \describe ?
checkRd: (-1) builtInClusteringFunctions.Rd:97-105: Lost braces in \itemize; meant \describe ?
checkRd: (-1) builtInClusteringFunctions.Rd:106-110: Lost braces in \itemize; meant \describe ?
checkRd: (-1) clusterContrasts.Rd:55-59: Lost braces in \itemize; \value handles \item{}{} directly
checkRd: (-1) clusterContrasts.Rd:60-61: Lost braces in \itemize; \value handles \item{}{} directly
checkRd: (-1) clusterDendrogram.Rd:125-132: Lost braces in \itemize; meant \describe ?
checkRd: (-1) clusterDendrogram.Rd:133-150: Lost braces in \itemize; meant \describe ?
checkRd: (-1) clusterDendrogram.Rd:137-138: Lost braces in \itemize; meant \describe ?
checkRd: (-1) clusterDendrogram.Rd:139-142: Lost braces in \itemize; meant \describe ?
checkRd: (-1) clusterDendrogram.Rd:143-147: Lost braces in \itemize; meant \describe ?
checkRd: (-1) clusterDendrogram.Rd:148-150: Lost braces in \itemize; meant \describe ?
checkRd: (-1) clusterDendrogram.Rd:154-158: Lost braces in \itemize; meant \describe ?
checkRd: (-1) clusterDendrogram.Rd:159-172: Lost braces in \itemize; meant \describe ?
checkRd: (-1) clusterDendrogram.Rd:163-165: Lost braces in \itemize; meant \describe ?
checkRd: (-1) clusterDendrogram.Rd:166-168: Lost braces in \itemize; meant \describe ?
checkRd: (-1) clusterDendrogram.Rd:169-170: Lost braces in \itemize; meant \describe ?
checkRd: (-1) clusterMany.Rd:210-213: Lost braces in \itemize; \value handles \item{}{} directly
checkRd: (-1) clusterMany.Rd:214-215: Lost braces in \itemize; \value handles \item{}{} directly
checkRd: (-1) clusterMany.Rd:216-217: Lost braces in \itemize; \value handles \item{}{} directly
checkRd: (-1) clusterMany.Rd:218-219: Lost braces in \itemize; \value handles \item{}{} directly
checkRd: (-1) clusterSingle.Rd:177-191: Lost braces in \itemize; meant \describe ?
checkRd: (-1) clusterSingle.Rd:192-197: Lost braces in \itemize; meant \describe ?
checkRd: (-1) clusterSingle.Rd:198-203: Lost braces in \itemize; meant \describe ?
checkRd: (-1) clusterSingle.Rd:205-213: Lost braces in \itemize; meant \describe ?
checkRd: (-1) clusterSingle.Rd:215-233: Lost braces in \itemize; meant \describe ?
checkRd: (-1) clusterSingle.Rd:140: Lost braces in \itemize; \value handles \item{}{} directly
checkRd: (-1) clusterSingle.Rd:141-142: Lost braces in \itemize; \value handles \item{}{} directly
checkRd: (-1) clusterSingle.Rd:143: Lost braces in \itemize; \value handles \item{}{} directly
checkRd: (-1) getBestFeatures.Rd:99-100: Lost braces in \itemize; \value handles \item{}{} directly
checkRd: (-1) getBestFeatures.Rd:102-103: Lost braces in \itemize; \value handles \item{}{} directly
checkRd: (-1) getBestFeatures.Rd:105-106: Lost braces in \itemize; \value handles \item{}{} directly
checkRd: (-1) getBestFeatures.Rd:108-111: Lost braces in \itemize; \value handles \item{}{} directly
checkRd: (-1) getBestFeatures.Rd:113-117: Lost braces in \itemize; \value handles \item{}{} directly
checkRd: (-1) getBestFeatures.Rd:119-120: Lost braces in \itemize; \value handles \item{}{} directly
checkRd: (-1) getBestFeatures.Rd:122-123: Lost braces in \itemize; \value handles \item{}{} directly
checkRd: (-1) getClusterIndex.Rd:53: Lost braces in \itemize; meant \describe ?
checkRd: (-1) getClusterIndex.Rd:54: Lost braces in \itemize; meant \describe ?
checkRd: (-1) getClusterIndex.Rd:55: Lost braces in \itemize; meant \describe ?
checkRd: (-1) getClusterIndex.Rd:56: Lost braces in \itemize; meant \describe ?
checkRd: (-1) getClusterIndex.Rd:57: Lost braces in \itemize; meant \describe ?
checkRd: (-1) mainClustering.Rd:107-108: Lost braces in \itemize; meant \describe ?
checkRd: (-1) mainClustering.Rd:109-114: Lost braces in \itemize; meant \describe ?
checkRd: (-1) mainClustering.Rd:115-117: Lost braces in \itemize; meant \describe ?
checkRd: (-1) mainClustering.Rd:118-119: Lost braces in \itemize; meant \describe ?
checkRd: (-1) mainClustering.Rd:88: Lost braces in \itemize; \value handles \item{}{} directly
checkRd: (-1) mainClustering.Rd:89: Lost braces in \itemize; \value handles \item{}{} directly
checkRd: (-1) makeConsensus.Rd:84-85: Lost braces in \itemize; \value handles \item{}{} directly
checkRd: (-1) makeConsensus.Rd:87-89: Lost braces in \itemize; \value handles \item{}{} directly
checkRd: (-1) makeConsensus.Rd:89-92: Lost braces
89 | out of those not '-1'} \item{\code{noUnassignedCorrection}{ a vector of
| ^
checkRd: (-1) mergeClusters.Rd:186-188: Lost braces in \itemize; \value handles \item{}{} directly
checkRd: (-1) mergeClusters.Rd:189-190: Lost braces in \itemize; \value handles \item{}{} directly
checkRd: (-1) mergeClusters.Rd:191-195: Lost braces in \itemize; \value handles \item{}{} directly
checkRd: (-1) mergeClusters.Rd:196-205: Lost braces in \itemize; \value handles \item{}{} directly
checkRd: (-1) mergeClusters.Rd:206-208: Lost braces in \itemize; \value handles \item{}{} directly
checkRd: (-1) mergeClusters.Rd:209-211: Lost braces in \itemize; \value handles \item{}{} directly
checkRd: (-1) mergeClusters.Rd:223: Lost braces in \itemize; \value handles \item{}{} directly
checkRd: (-1) mergeClusters.Rd:224-225: Lost braces in \itemize; \value handles \item{}{} directly
checkRd: (-1) mergeClusters.Rd:226-227: Lost braces in \itemize; \value handles \item{}{} directly
checkRd: (-1) mergeClusters.Rd:228-230: Lost braces in \itemize; \value handles \item{}{} directly
checkRd: (-1) mergeClusters.Rd:231-233: Lost braces in \itemize; \value handles \item{}{} directly
checkRd: (-1) plotClusters.Rd:169-172: Lost braces in \itemize; \value handles \item{}{} directly
checkRd: (-1) plotClusters.Rd:174-177: Lost braces in \itemize; \value handles \item{}{} directly
checkRd: (-1) plotClusters.Rd:179-183: Lost braces in \itemize; \value handles \item{}{} directly
checkRd: (-1) plotClusters.Rd:185-189: Lost braces in \itemize; \value handles \item{}{} directly
checkRd: (-1) plotClusters.Rd:191-192: Lost braces in \itemize; \value handles \item{}{} directly
checkRd: (-1) plotDendrogram.Rd:91: Lost braces in \itemize; \value handles \item{}{} directly
checkRd: (-1) plotDendrogram.Rd:92-93: Lost braces in \itemize; \value handles \item{}{} directly
checkRd: (-1) plotHeatmap.Rd:294-295: Lost braces in \itemize; meant \describe ?
checkRd: (-1) plotHeatmap.Rd:296-299: Lost braces in \itemize; meant \describe ?
checkRd: (-1) plotHeatmap.Rd:299-302: Lost braces in \itemize; meant \describe ?
checkRd: (-1) plotHeatmap.Rd:302: Lost braces in \itemize; meant \describe ?
checkRd: (-1) plotHeatmap.Rd:303: Lost braces in \itemize; meant \describe ?
checkRd: (-1) plotHeatmap.Rd:304-307: Lost braces in \itemize; meant \describe ?
checkRd: (-1) plotHeatmap.Rd:218-219: Lost braces in \itemize; \value handles \item{}{} directly
checkRd: (-1) plotHeatmap.Rd:220-221: Lost braces in \itemize; \value handles \item{}{} directly
checkRd: (-1) plotHeatmap.Rd:222-223: Lost braces in \itemize; \value handles \item{}{} directly
checkRd: (-1) plotHeatmap.Rd:224-225: Lost braces in \itemize; \value handles \item{}{} directly
checkRd: (-1) plottingFunctions.Rd:144-145: Lost braces in \itemize; \value handles \item{}{} directly
checkRd: (-1) plottingFunctions.Rd:146-150: Lost braces in \itemize; \value handles \item{}{} directly
checkRd: (-1) plottingFunctions.Rd:151-154: Lost braces in \itemize; \value handles \item{}{} directly
checkRd: (-1) plottingFunctions.Rd:155-161: Lost braces in \itemize; \value handles \item{}{} directly
checkRd: (-1) plottingFunctions.Rd:162-167: Lost braces in \itemize; \value handles \item{}{} directly
checkRd: (-1) plottingFunctions.Rd:173-174: Lost braces in \itemize; \value handles \item{}{} directly
checkRd: (-1) plottingFunctions.Rd:175-176: Lost braces in \itemize; \value handles \item{}{} directly
checkRd: (-1) plottingFunctions.Rd:177-178: Lost braces in \itemize; \value handles \item{}{} directly
checkRd: (-1) reduceFunctions.Rd:191-192: Lost braces in \itemize; \value handles \item{}{} directly
checkRd: (-1) reduceFunctions.Rd:193-194: Lost braces in \itemize; \value handles \item{}{} directly
checkRd: (-1) seqCluster.Rd:80-83: Lost braces in \itemize; \value handles \item{}{} directly
checkRd: (-1) seqCluster.Rd:85-88: Lost braces in \itemize; \value handles \item{}{} directly
checkRd: (-1) seqCluster.Rd:90-91: Lost braces in \itemize; \value handles \item{}{} directly
* checking Rd metadata ... OK
* checking Rd cross-references ... NOTE
Found the following Rd file(s) with Rd \link{} targets missing package
anchors:
clusterContrasts.Rd: makeContrasts
clusterSingle.Rd: SingleCellExperiment
getBestFeatures.Rd: topTable
mainClustering.Rd: SingleCellExperiment
mergeClusters.Rd: plot.phylo, locfdr
plotClustersTable.Rd: NMF
plotDendrogram.Rd: phydataplot, ape, plot.phylo
reduceFunctions.Rd: SingleCellExperiment
seqCluster.Rd: SingleCellExperiment
subsampleClustering.Rd: SingleCellExperiment
subset.Rd: SingleCellExperiment
Please provide package anchors for all Rd \link{} targets not in the
package itself and the base packages.
* checking for missing documentation entries ... OK
* checking for code/documentation mismatches ... SKIPPED
* checking Rd \usage sections ... WARNING
Undocumented arguments in Rd file 'renameClusters.Rd'
‘object’
Functions with \usage entries need to have the appropriate \alias
entries, and all their arguments documented.
The \usage entries must correspond to syntactically valid R code.
See chapter ‘Writing R documentation files’ in the ‘Writing R
Extensions’ manual.
* checking Rd contents ... OK
* checking for unstated dependencies in examples ... OK
* checking contents of ‘data’ directory ... WARNING
Output for data("rsecFluidigm", package = "clusterExperiment"):
Search path was changed
* checking data for non-ASCII characters ... OK
* checking data for ASCII and uncompressed saves ... OK
* checking line endings in C/C++/Fortran sources/headers ... OK
* checking line endings in Makefiles ... OK
* checking compilation flags in Makevars ... OK
* checking for GNU extensions in Makefiles ... OK
* checking for portable use of $(BLAS_LIBS) and $(LAPACK_LIBS) ... OK
* checking use of PKG_*FLAGS in Makefiles ... OK
* checking compiled code ... OK
* checking files in ‘vignettes’ ... SKIPPED
* checking examples ... SKIPPED
* checking for unstated dependencies in ‘longtests’ ... OK
* checking tests in ‘longtests’ ...
Running ‘testthat.R’
ERROR
Running the tests in ‘longtests/testthat.R’ failed.
Last 13 lines of output:
Backtrace:
▆
1. ├─testthat::expect_silent(checkRsecFluidigmObject(rsecFluidigmNew)) at test-rsecFluidigm.R:17:5
2. │ └─testthat:::quasi_capture(enquo(object), NULL, evaluate_promise)
3. │ ├─testthat (local) .capture(...)
4. │ │ ├─withr::with_output_sink(...)
5. │ │ │ └─base::force(code)
6. │ │ ├─base::withCallingHandlers(...)
7. │ │ └─base::withVisible(code)
8. │ └─rlang::eval_bare(quo_get_expr(.quo), quo_get_env(.quo))
9. └─clusterExperiment:::checkRsecFluidigmObject(rsecFluidigmNew)
[ FAIL 1 | WARN 0 | SKIP 0 | PASS 43 ]
Error: Test failures
Execution halted
* DONE
Status: 1 ERROR, 2 WARNINGs, 5 NOTEs
See
‘/home/biocbuild/bbs-3.21-bioc-longtests/meat/clusterExperiment.Rcheck/00check.log’
for details.
clusterExperiment.Rcheck/00install.out
* installing *source* package ‘clusterExperiment’ ... ** this is package ‘clusterExperiment’ version ‘2.28.1’ ** using staged installation ** libs using C++ compiler: ‘g++ (Ubuntu 13.3.0-6ubuntu2~24.04) 13.3.0’ using C++11 g++ -std=gnu++11 -I"/home/biocbuild/bbs-3.21-bioc/R/include" -DNDEBUG -I'/home/biocbuild/bbs-3.21-bioc/R/site-library/Rcpp/include' -I/usr/local/include -fpic -g -O2 -Wall -Werror=format-security -c RcppExports.cpp -o RcppExports.o g++ -std=gnu++11 -I"/home/biocbuild/bbs-3.21-bioc/R/include" -DNDEBUG -I'/home/biocbuild/bbs-3.21-bioc/R/site-library/Rcpp/include' -I/usr/local/include -fpic -g -O2 -Wall -Werror=format-security -c search_pairs.cpp -o search_pairs.o g++ -std=gnu++11 -I"/home/biocbuild/bbs-3.21-bioc/R/include" -DNDEBUG -I'/home/biocbuild/bbs-3.21-bioc/R/site-library/Rcpp/include' -I/usr/local/include -fpic -g -O2 -Wall -Werror=format-security -c subsampleLoop.cpp -o subsampleLoop.o g++ -std=gnu++11 -shared -L/home/biocbuild/bbs-3.21-bioc/R/lib -L/usr/local/lib -o clusterExperiment.so RcppExports.o search_pairs.o subsampleLoop.o -llapack -L/home/biocbuild/bbs-3.21-bioc/R/lib -lRblas -lgfortran -lm -lquadmath -L/home/biocbuild/bbs-3.21-bioc/R/lib -lR installing to /home/biocbuild/bbs-3.21-bioc-longtests/meat/clusterExperiment.Rcheck/00LOCK-clusterExperiment/00new/clusterExperiment/libs ** R ** data ** byte-compile and prepare package for lazy loading Found more than one class "Annotated" in cache; using the first, from namespace 'S4Vectors' Also defined by ‘RNeXML’ Found more than one class "Annotated" in cache; using the first, from namespace 'S4Vectors' Also defined by ‘RNeXML’ Found more than one class "Annotated" in cache; using the first, from namespace 'S4Vectors' Also defined by ‘RNeXML’ Found more than one class "Annotated" in cache; using the first, from namespace 'S4Vectors' Also defined by ‘RNeXML’ ** help *** installing help indices ** building package indices ** installing vignettes ** testing if installed package can be loaded from temporary location ** checking absolute paths in shared objects and dynamic libraries ** testing if installed package can be loaded from final location ** testing if installed package keeps a record of temporary installation path * DONE (clusterExperiment)