Back to Long Tests report for BioC 3.21

This page was generated on 2025-02-08 23:55 -0500 (Sat, 08 Feb 2025).

HostnameOSArch (*)R versionInstalled pkgs
nebbiolo1Linux (Ubuntu 24.04.1 LTS)x86_64R Under development (unstable) (2025-01-20 r87609) -- "Unsuffered Consequences" 4719
palomino7Windows Server 2022 Datacenterx64R Under development (unstable) (2025-01-21 r87610 ucrt) -- "Unsuffered Consequences" 4480
lconwaymacOS 12.7.1 Montereyx86_64R Under development (unstable) (2025-01-22 r87618) -- "Unsuffered Consequences" 4491
Click on any hostname to see more info about the system (e.g. compilers)      (*) as reported by 'uname -p', except on Windows and Mac OS X

Package 29/30HostnameOS / ArchCHECK
xcms 4.5.2  (landing page)
Steffen Neumann
Snapshot Date: 2025-02-08 11:09 -0500 (Sat, 08 Feb 2025)
git_url: https://git.bioconductor.org/packages/xcms
git_branch: devel
git_last_commit: 143f3b9f
git_last_commit_date: 2024-12-15 06:11:00 -0500 (Sun, 15 Dec 2024)
nebbiolo1Linux (Ubuntu 24.04.1 LTS) / x86_64  ERROR  
palomino7Windows Server 2022 Datacenter / x64  ERROR  
lconwaymacOS 12.7.1 Monterey / x86_64  ERROR  


CHECK results for xcms on nebbiolo1

To the developers/maintainers of the xcms package:
- Use the following Renviron settings to reproduce errors and warnings.
- If 'R CMD check' started to fail recently on the Linux builder(s) over a missing dependency, add the missing dependency to 'Suggests:' in your DESCRIPTION file. See Renviron.bioc for more information.

raw results


Summary

Package: xcms
Version: 4.5.2
Command: /home/biocbuild/bbs-3.21-bioc/R/bin/R CMD check --test-dir=longtests --no-stop-on-test-error --no-codoc --no-examples --no-manual --ignore-vignettes --check-subdirs=no xcms_4.5.2.tar.gz
StartedAt: 2025-02-08 16:22:04 -0500 (Sat, 08 Feb 2025)
EndedAt: 2025-02-08 16:28:34 -0500 (Sat, 08 Feb 2025)
EllapsedTime: 390.1 seconds
RetCode: 1
Status:   ERROR  
CheckDir: xcms.Rcheck
Warnings: NA

Tests output

xcms.Rcheck/tests/testthat.Rout.fail


R Under development (unstable) (2025-01-20 r87609) -- "Unsuffered Consequences"
Copyright (C) 2025 The R Foundation for Statistical Computing
Platform: x86_64-pc-linux-gnu

R is free software and comes with ABSOLUTELY NO WARRANTY.
You are welcome to redistribute it under certain conditions.
Type 'license()' or 'licence()' for distribution details.

R is a collaborative project with many contributors.
Type 'contributors()' for more information and
'citation()' on how to cite R or R packages in publications.

Type 'demo()' for some demos, 'help()' for on-line help, or
'help.start()' for an HTML browser interface to help.
Type 'q()' to quit R.

> library(testthat)
> library(xcms)
Loading required package: BiocParallel

This is xcms version 4.5.2 


Attaching package: 'xcms'

The following object is masked from 'package:stats':

    sigma

> library(faahKO)
> library(msdata)
> 
> attr(faahko, "filepaths") <- sapply(
+     as.list(basename(attr(faahko, "filepaths"))),
+     function(x) system.file("cdf", if (length(grep("ko",x)) > 0) "KO" else "WT",
+                             x, package = "faahKO"))
> register(SerialParam())
> 
> ## Create some objects we can re-use in different tests:
> faahko_3_files <- c(system.file('cdf/KO/ko15.CDF', package = "faahKO"),
+                     system.file('cdf/KO/ko16.CDF', package = "faahKO"),
+                     system.file('cdf/KO/ko18.CDF', package = "faahKO"))
> 
> ## An xcmsRaw for the first file:
> faahko_xr_1 <- xcmsRaw(system.file('cdf/KO/ko15.CDF', package = "faahKO"),
+                        profstep = 0)
> faahko_od <- readMSData(faahko_3_files, mode = "onDisk")
Error in readMSData(faahko_3_files, mode = "onDisk") : 
  could not find function "readMSData"
Execution halted

'R CMD check' output

##############################################################################
##############################################################################
###
### Running command:
###
###   /home/biocbuild/bbs-3.21-bioc/R/bin/R CMD check --test-dir=longtests --no-stop-on-test-error --no-codoc --no-examples --no-manual --ignore-vignettes --check-subdirs=no xcms_4.5.2.tar.gz
###
##############################################################################
##############################################################################


* using log directory ‘/home/biocbuild/bbs-3.21-bioc-longtests/meat/xcms.Rcheck’
* using R Under development (unstable) (2025-01-20 r87609)
* using platform: x86_64-pc-linux-gnu
* R was compiled by
    gcc (Ubuntu 13.3.0-6ubuntu2~24.04) 13.3.0
    GNU Fortran (Ubuntu 13.3.0-6ubuntu2~24.04) 13.3.0
* running under: Ubuntu 24.04.1 LTS
* using session charset: UTF-8
* using options ‘--no-codoc --no-examples --no-manual --ignore-vignettes --no-stop-on-test-error’
* checking for file ‘xcms/DESCRIPTION’ ... OK
* this is package ‘xcms’ version ‘4.5.2’
* package encoding: UTF-8
* checking package namespace information ... OK
* checking package dependencies ... OK
* checking if this is a source package ... OK
* checking if there is a namespace ... OK
* checking for hidden files and directories ... NOTE
Found the following hidden files and directories:
  .BBSoptions
These were most likely included in error. See section ‘Package
structure’ in the ‘Writing R Extensions’ manual.
* checking for portable file names ... OK
* checking for sufficient/correct file permissions ... OK
* checking whether package ‘xcms’ can be installed ... OK
* used C compiler: ‘gcc (Ubuntu 13.3.0-6ubuntu2~24.04) 13.3.0’
* used C++ compiler: ‘g++ (Ubuntu 13.3.0-6ubuntu2~24.04) 13.3.0’
* checking installed package size ... INFO
  installed size is  5.7Mb
  sub-directories of 1Mb or more:
    R      2.7Mb
    help   1.0Mb
    libs   1.4Mb
* checking package directory ... OK
* checking DESCRIPTION meta-information ... NOTE
License components with restrictions not permitted:
  GPL (>= 2) + file LICENSE
* checking top-level files ... OK
* checking for left-over files ... OK
* checking index information ... OK
* checking package subdirectories ... OK
* checking code files for non-ASCII characters ... OK
* checking R files for syntax errors ... OK
* checking whether the package can be loaded ... OK
* checking whether the package can be loaded with stated dependencies ... OK
* checking whether the package can be unloaded cleanly ... OK
* checking whether the namespace can be loaded with stated dependencies ... OK
* checking whether the namespace can be unloaded cleanly ... OK
* checking loading without being on the library search path ... OK
* checking whether startup messages can be suppressed ... OK
* checking dependencies in R code ... NOTE
Unexported objects imported by ':::' calls:
  ‘MALDIquant:::.localMaxima’ ‘MSnbase:::.MSnExpReqFvarLabels’
  ‘MSnbase:::.plotXIC’ ‘MSnbase:::.vertical_sub_layout’
  ‘MSnbase:::formatFileSpectrumNames’ ‘Spectra:::.concatenate_spectra’
  See the note in ?`:::` about the use of this operator.
There are ::: calls to the package's namespace in its code. A package
  almost never needs to use ::: for its own objects:
  ‘.copy_env’ ‘MSW.cwt’ ‘MSW.getLocalMaximumCWT’ ‘MSW.getRidge’
  ‘descendMin’ ‘descendMinTol’ ‘estimateChromNoise’
  ‘getLocalNoiseEstimate’ ‘na.flatfill’ ‘patternVsRowScore’
* checking S3 generic/method consistency ... OK
* checking replacement functions ... OK
* checking foreign function calls ... OK
* checking R code for possible problems ... NOTE
.xcmsFragments.plotTree: no visible global function definition for
  ‘edgemode<-’
.xcmsFragments.plotTree: no visible global function definition for
  ‘addEdge’
buildAnalysisSummary: no visible global function definition for
  ‘newXMLNode’
buildAssayList : <anonymous>: no visible global function definition for
  ‘newXMLNode’
buildAssayList: no visible global function definition for ‘newXMLNode’
buildAuditCollection: no visible global function definition for
  ‘newXMLNode’
buildCVlist: no visible global function definition for ‘newXMLNode’
buildCVlist: no visible global function definition for ‘addChildren’
buildCvParams : <anonymous>: no visible global function definition for
  ‘newXMLNode’
buildDataProcessingList: no visible global function definition for
  ‘newXMLNode’
buildFeatureList : <anonymous>: no visible global function definition
  for ‘newXMLNode’
buildInputFiles : <anonymous>: no visible global function definition
  for ‘newXMLNode’
buildInputFiles: no visible global function definition for ‘newXMLNode’
buildMzq: no visible global function definition for ‘xmlTree’
buildSmallMoleculeList : <anonymous>: no visible global function
  definition for ‘newXMLNode’
buildSmallMoleculeList: no visible global function definition for
  ‘newXMLNode’
buildSoftwareList: no visible global function definition for
  ‘newXMLNode’
buildStudyVariableList : <anonymous>: no visible global function
  definition for ‘newXMLNode’
buildStudyVariableList : <anonymous> : <anonymous>: no visible global
  function definition for ‘newXMLNode’
buildStudyVariableList: no visible global function definition for
  ‘newXMLNode’
plotQC: no visible global function definition for ‘sampleNames’
running: multiple local function definitions for ‘funct’ with different
  formal arguments
verify.mzQuantML: no visible global function definition for
  ‘xmlTreeParse’
verify.mzQuantML: no visible global function definition for
  ‘xmlInternalTreeParse’
verify.mzQuantML: no visible global function definition for
  ‘xmlSchemaValidate’
xcmsClusterApply: no visible global function definition for
  ‘checkCluster’
xcmsClusterApply : submit: no visible global function definition for
  ‘sendCall’
xcmsClusterApply: no visible global function definition for
  ‘recvOneResult’
xcmsClusterApply: no visible global function definition for
  ‘checkForRemoteErrors’
xcmsPapply: no visible global function definition for ‘mpi.comm.size’
xcmsPapply: no visible global function definition for
  ‘mpi.spawn.Rslaves’
xcmsPapply: no visible global function definition for ‘mpi.comm.rank’
xcmsPapply : papply_int_slavefunction: no visible global function
  definition for ‘mpi.send.Robj’
xcmsPapply : papply_int_slavefunction: no visible global function
  definition for ‘mpi.recv.Robj’
xcmsPapply : papply_int_slavefunction: no visible global function
  definition for ‘mpi.any.source’
xcmsPapply : papply_int_slavefunction: no visible global function
  definition for ‘mpi.any.tag’
xcmsPapply : papply_int_slavefunction: no visible global function
  definition for ‘mpi.get.sourcetag’
xcmsPapply: no visible global function definition for
  ‘mpi.bcast.Robj2slave’
xcmsPapply: no visible global function definition for ‘mpi.bcast.cmd’
xcmsPapply: no visible global function definition for ‘mpi.recv.Robj’
xcmsPapply: no visible global function definition for ‘mpi.any.source’
xcmsPapply: no visible global function definition for ‘mpi.any.tag’
xcmsPapply: no visible global function definition for
  ‘mpi.get.sourcetag’
xcmsPapply: no visible global function definition for ‘mpi.send.Robj’
xcmsParallelSetup: no visible global function definition for
  ‘mpi.spawn.Rslaves’
xcmsParallelSetup: no visible global function definition for
  ‘mpi.comm.size’
xcmsParallelSetup: no visible global function definition for
  ‘mpi.comm.rank’
xcmsParallelSetup: no visible global function definition for
  ‘makeCluster’
xcmsSet: no visible global function definition for ‘bpstopOnError’
xcmsSet: no visible global function definition for ‘bptry’
xcmsSet: no visible global function definition for ‘bpok’
estimatePrecursorIntensity,MsExperiment: no visible global function
  definition for ‘spectraSampleIndex’
plotSurf,xcmsRaw: no visible global function definition for ‘clear3d’
plotSurf,xcmsRaw: no visible global function definition for ‘surface3d’
plotSurf,xcmsRaw: no visible global function definition for ‘points3d’
plotSurf,xcmsRaw: no visible global function definition for ‘bbox3d’
plotTree,xcmsFragments: no visible global function definition for
  ‘edgemode<-’
plotTree,xcmsFragments: no visible global function definition for
  ‘addEdge’
write.cdf,xcmsRaw: no visible global function definition for
  ‘ncdim_def’
write.cdf,xcmsRaw: no visible global function definition for
  ‘ncvar_def’
write.cdf,xcmsRaw: no visible global function definition for
  ‘nc_create’
write.cdf,xcmsRaw: no visible global function definition for
  ‘ncvar_put’
write.cdf,xcmsRaw: no visible global function definition for
  ‘ncatt_put’
write.cdf,xcmsRaw: no visible global function definition for ‘nc_close’
write.mzQuantML,xcmsSet: no visible global function definition for
  ‘saveXML’
write.mzdata,xcmsRaw: no visible global function definition for
  ‘base64encode’
Undefined global functions or variables:
  addChildren addEdge base64encode bbox3d bpok bpstopOnError bptry
  checkCluster checkForRemoteErrors clear3d edgemode<- makeCluster
  mpi.any.source mpi.any.tag mpi.bcast.Robj2slave mpi.bcast.cmd
  mpi.comm.rank mpi.comm.size mpi.get.sourcetag mpi.recv.Robj
  mpi.send.Robj mpi.spawn.Rslaves nc_close nc_create ncatt_put
  ncdim_def ncvar_def ncvar_put newXMLNode points3d recvOneResult
  sampleNames saveXML sendCall spectraSampleIndex surface3d
  xmlInternalTreeParse xmlSchemaValidate xmlTree xmlTreeParse
* checking Rd files ... OK
* checking Rd metadata ... OK
* checking Rd cross-references ... NOTE
Found the following Rd file(s) with Rd \link{} targets missing package
anchors:
  XCMSnExp-class.Rd: OnDiskMSnExp, Spectrum, MSnExp, bpparam,
    Chromatogram, quantify, SummarizedExperiment, pSet
  XCMSnExp-filter-methods.Rd: OnDiskMSnExp
  XCMSnExp-inherited-methods.Rd: OnDiskMSnExp, bin, clean,
    filterAcquisitionNum, normalize, pickPeaks, removePeaks
  XCMSnExp-peak-grouping-results.Rd: SummarizedExperiment
  XChromatogram.Rd: Chromatogram, MChromatograms, DataFrame,
    transformIntensity
  XcmsExperiment.Rd: bpparam, MChromatograms, Spectra,
    SummarizedExperiment
  adjustRtime.Rd: OnDiskMSnExp, MsExperiment, bpparam
  chromPeakSpectra.Rd: Spectra, bpparam, MSpectra, Spectrum-class,
    Spectrum2-class
  chromatogram-method.Rd: OnDiskMSnExp, MChromatograms, Chromatogram
  correlate-Chromatogram.Rd: compareChromatograms, MChromatograms,
    Chromatogram
  dirname.Rd: OnDiskMSnExp-class
  do_findPeaks_MSW.Rd: peakDetectionCWT, tuneInPeakInfo
  estimatePrecursorIntensity.Rd: bpparam
  feature-grouping.Rd: AbundanceSimilarityParam
  featureChromatograms.Rd: bpparam
  featureSpectra.Rd: Spectra
  fillPeaks.chrom-methods.Rd: bpparam
  filter-MChromatograms.Rd: MChromatograms, Chromatogram
  findChromPeaks-Chromatogram-CentWaveParam.Rd: Chromatogram,
    MChromatograms, bpparam
  findChromPeaks-Chromatogram-MatchedFilter.Rd: Chromatogram,
    MChromatograms
  findChromPeaks-centWave.Rd: OnDiskMSnExp, bpparam, register
  findChromPeaks-centWaveWithPredIsoROIs.Rd: OnDiskMSnExp, bpparam,
    register
  findChromPeaks-massifquant.Rd: OnDiskMSnExp, bpparam, register
  findChromPeaks-matchedFilter.Rd: OnDiskMSnExp, bpparam, register
  findChromPeaks.Rd: OnDiskMSnExp, MChromatograms, MsExperiment,
    Spectra, bpparam
  findChromPeaksIsolationWindow.Rd: bpparam
  findPeaks-MSW.Rd: OnDiskMSnExp, identifyMajorPeaks, peakDetectionCWT,
    bpparam, tuneInPeakInfo, register
  findPeaks.MSW-xcmsRaw-method.Rd: peakDetectionCWT,
    identifyMajorPeaks, tuneInPeakInfo
  groupFeatures-abundance-correlation.Rd: AbundanceSimilarityParam
  groupFeatures-eic-similarity.Rd: compareChromatograms, alignRt,
    groupSimilarityMatrix, SimilarRtimeParam
  highlightChromPeaks.Rd: Chromatogram, MChromatograms
  isolationWindowTargetMz-OnDiskMSnExp-method.Rd: OnDiskMSnExp-class
  manualChromPeaks.Rd: OnDiskMSnExp, bpparam
  plotChromatogramsOverlay.Rd: MChromatograms
  plotFeatureGroups.Rd: featureGroups, groupFeatures
  profMat-xcmsSet.Rd: bpparam
  reconstructChromPeakSpectra.Rd: bpparam, Spectra, CharacterList,
    NumericList
  refineChromPeaks.Rd: bpparam
  removeIntensity-Chromatogram.Rd: clean, filterIntensity,
    Chromatogram, MChromatograms
  useOriginalCode.Rd: SnowParam
  writeMSData-XCMSnExp-character-method.Rd: writeMSData
  xcmsSet.Rd: SerialParam, MulticoreParam, SnowParam
Please provide package anchors for all Rd \link{} targets not in the
package itself and the base packages.
* checking for missing documentation entries ... OK
* checking for code/documentation mismatches ... SKIPPED
* checking Rd \usage sections ... OK
* checking Rd contents ... OK
* checking for unstated dependencies in examples ... OK
* checking contents of ‘data’ directory ... OK
* checking data for non-ASCII characters ... OK
* checking data for ASCII and uncompressed saves ... OK
* checking line endings in C/C++/Fortran sources/headers ... OK
* checking line endings in Makefiles ... OK
* checking compilation flags in Makevars ... OK
* checking for GNU extensions in Makefiles ... OK
* checking for portable use of $(BLAS_LIBS) and $(LAPACK_LIBS) ... OK
* checking use of PKG_*FLAGS in Makefiles ... OK
* checking compiled code ... OK
* checking files in ‘vignettes’ ... SKIPPED
* checking examples ... SKIPPED
* checking for unstated dependencies in ‘longtests’ ... OK
* checking tests in ‘longtests’ ...
  Running ‘testthat.R’
 ERROR
Running the tests in ‘longtests/testthat.R’ failed.
Last 13 lines of output:
  +                             x, package = "faahKO"))
  > register(SerialParam())
  > 
  > ## Create some objects we can re-use in different tests:
  > faahko_3_files <- c(system.file('cdf/KO/ko15.CDF', package = "faahKO"),
  +                     system.file('cdf/KO/ko16.CDF', package = "faahKO"),
  +                     system.file('cdf/KO/ko18.CDF', package = "faahKO"))
  > 
  > ## An xcmsRaw for the first file:
  > faahko_xr_1 <- xcmsRaw(system.file('cdf/KO/ko15.CDF', package = "faahKO"),
  +                        profstep = 0)
  > faahko_od <- readMSData(faahko_3_files, mode = "onDisk")
  Error in readMSData(faahko_3_files, mode = "onDisk") : 
    could not find function "readMSData"
  Execution halted
* DONE

Status: 1 ERROR, 5 NOTEs
See
  ‘/home/biocbuild/bbs-3.21-bioc-longtests/meat/xcms.Rcheck/00check.log’
for details.


Installation output

xcms.Rcheck/00install.out

* installing *source* package ‘xcms’ ...
** this is package ‘xcms’ version ‘4.5.2’
** using staged installation
** libs
using C compiler: ‘gcc (Ubuntu 13.3.0-6ubuntu2~24.04) 13.3.0’
using C++ compiler: ‘g++ (Ubuntu 13.3.0-6ubuntu2~24.04) 13.3.0’
rm -f massifquant/xcms_massifquant.o massifquant/TrMgr.o massifquant/Tracker.o massifquant/SegProc.o massifquant/DataKeeper.o massifquant/OpOverload.o obiwarp/mat.o obiwarp/vec.o obiwarp/xcms_dynprog.o obiwarp/xcms_lmat.o xcms_obiwarp.o fastMatch.o mzClust_hclust.o mzROI.o util.o xcms.o binners.o
g++ -std=gnu++17 -I"/home/biocbuild/bbs-3.21-bioc/R/include" -DNDEBUG   -I/usr/local/include    -fpic  -g -O2  -DR_NO_REMAP -c massifquant/xcms_massifquant.cpp -o massifquant/xcms_massifquant.o
g++ -std=gnu++17 -I"/home/biocbuild/bbs-3.21-bioc/R/include" -DNDEBUG   -I/usr/local/include    -fpic  -g -O2  -DR_NO_REMAP -c massifquant/TrMgr.cpp -o massifquant/TrMgr.o
g++ -std=gnu++17 -I"/home/biocbuild/bbs-3.21-bioc/R/include" -DNDEBUG   -I/usr/local/include    -fpic  -g -O2  -DR_NO_REMAP -c massifquant/Tracker.cpp -o massifquant/Tracker.o
g++ -std=gnu++17 -I"/home/biocbuild/bbs-3.21-bioc/R/include" -DNDEBUG   -I/usr/local/include    -fpic  -g -O2  -DR_NO_REMAP -c massifquant/SegProc.cpp -o massifquant/SegProc.o
g++ -std=gnu++17 -I"/home/biocbuild/bbs-3.21-bioc/R/include" -DNDEBUG   -I/usr/local/include    -fpic  -g -O2  -DR_NO_REMAP -c massifquant/DataKeeper.cpp -o massifquant/DataKeeper.o
g++ -std=gnu++17 -I"/home/biocbuild/bbs-3.21-bioc/R/include" -DNDEBUG   -I/usr/local/include    -fpic  -g -O2  -DR_NO_REMAP -c massifquant/OpOverload.cpp -o massifquant/OpOverload.o
g++ -std=gnu++17 -I"/home/biocbuild/bbs-3.21-bioc/R/include" -DNDEBUG   -I/usr/local/include    -fpic  -g -O2  -DR_NO_REMAP -c obiwarp/mat.cpp -o obiwarp/mat.o
g++ -std=gnu++17 -I"/home/biocbuild/bbs-3.21-bioc/R/include" -DNDEBUG   -I/usr/local/include    -fpic  -g -O2  -DR_NO_REMAP -c obiwarp/vec.cpp -o obiwarp/vec.o
g++ -std=gnu++17 -I"/home/biocbuild/bbs-3.21-bioc/R/include" -DNDEBUG   -I/usr/local/include    -fpic  -g -O2  -DR_NO_REMAP -c obiwarp/xcms_dynprog.cpp -o obiwarp/xcms_dynprog.o
g++ -std=gnu++17 -I"/home/biocbuild/bbs-3.21-bioc/R/include" -DNDEBUG   -I/usr/local/include    -fpic  -g -O2  -DR_NO_REMAP -c obiwarp/xcms_lmat.cpp -o obiwarp/xcms_lmat.o
g++ -std=gnu++17 -I"/home/biocbuild/bbs-3.21-bioc/R/include" -DNDEBUG   -I/usr/local/include    -fpic  -g -O2  -DR_NO_REMAP -c xcms_obiwarp.cpp -o xcms_obiwarp.o
gcc -I"/home/biocbuild/bbs-3.21-bioc/R/include" -DNDEBUG   -I/usr/local/include    -fpic  -g -O2  -c fastMatch.c -o fastMatch.o
gcc -I"/home/biocbuild/bbs-3.21-bioc/R/include" -DNDEBUG   -I/usr/local/include    -fpic  -g -O2  -c mzClust_hclust.c -o mzClust_hclust.o
gcc -I"/home/biocbuild/bbs-3.21-bioc/R/include" -DNDEBUG   -I/usr/local/include    -fpic  -g -O2  -c mzROI.c -o mzROI.o
gcc -I"/home/biocbuild/bbs-3.21-bioc/R/include" -DNDEBUG   -I/usr/local/include    -fpic  -g -O2  -c util.c -o util.o
gcc -I"/home/biocbuild/bbs-3.21-bioc/R/include" -DNDEBUG   -I/usr/local/include    -fpic  -g -O2  -c xcms.c -o xcms.o
gcc -I"/home/biocbuild/bbs-3.21-bioc/R/include" -DNDEBUG   -I/usr/local/include    -fpic  -g -O2  -c binners.c -o binners.o
g++ -std=gnu++17 -shared -L/home/biocbuild/bbs-3.21-bioc/R/lib -L/usr/local/lib -o xcms.so massifquant/xcms_massifquant.o massifquant/TrMgr.o massifquant/Tracker.o massifquant/SegProc.o massifquant/DataKeeper.o massifquant/OpOverload.o obiwarp/mat.o obiwarp/vec.o obiwarp/xcms_dynprog.o obiwarp/xcms_lmat.o xcms_obiwarp.o fastMatch.o mzClust_hclust.o mzROI.o util.o xcms.o binners.o -L/home/biocbuild/bbs-3.21-bioc/R/lib -lR
installing to /home/biocbuild/bbs-3.21-bioc-longtests/meat/xcms.Rcheck/00LOCK-xcms/00new/xcms/libs
** R
** data
** inst
** byte-compile and prepare package for lazy loading
Creating a new generic function for ‘group’ in package ‘xcms’
Creating a new generic function for ‘sigma’ in package ‘xcms’
** help
*** installing help indices
*** copying figures
** building package indices
** installing vignettes
** testing if installed package can be loaded from temporary location
** checking absolute paths in shared objects and dynamic libraries
** testing if installed package can be loaded from final location
** testing if installed package keeps a record of temporary installation path
* DONE (xcms)