| Back to Multiple platform build/check report for BioC 3.21: simplified long |
|
This page was generated on 2025-04-22 13:16 -0400 (Tue, 22 Apr 2025).
| Hostname | OS | Arch (*) | R version | Installed pkgs |
|---|---|---|---|---|
| nebbiolo1 | Linux (Ubuntu 24.04.1 LTS) | x86_64 | 4.5.0 RC (2025-04-04 r88126) -- "How About a Twenty-Six" | 4831 |
| palomino7 | Windows Server 2022 Datacenter | x64 | 4.5.0 RC (2025-04-04 r88126 ucrt) -- "How About a Twenty-Six" | 4573 |
| lconway | macOS 12.7.1 Monterey | x86_64 | 4.5.0 RC (2025-04-04 r88126) -- "How About a Twenty-Six" | 4599 |
| kjohnson3 | macOS 13.7.1 Ventura | arm64 | 4.5.0 RC (2025-04-04 r88126) -- "How About a Twenty-Six" | 4553 |
| kunpeng2 | Linux (openEuler 24.03 LTS) | aarch64 | R Under development (unstable) (2025-02-19 r87757) -- "Unsuffered Consequences" | 4570 |
| Click on any hostname to see more info about the system (e.g. compilers) (*) as reported by 'uname -p', except on Windows and Mac OS X | ||||
| Package 1721/2341 | Hostname | OS / Arch | INSTALL | BUILD | CHECK | BUILD BIN | ||||||||
| RCX 1.12.0 (landing page) Florian Auer
| nebbiolo1 | Linux (Ubuntu 24.04.1 LTS) / x86_64 | OK | OK | OK | |||||||||
| palomino7 | Windows Server 2022 Datacenter / x64 | OK | OK | OK | OK | |||||||||
| lconway | macOS 12.7.1 Monterey / x86_64 | OK | OK | OK | OK | |||||||||
| kjohnson3 | macOS 13.7.1 Ventura / arm64 | OK | OK | OK | OK | |||||||||
| kunpeng2 | Linux (openEuler 24.03 LTS) / aarch64 | OK | OK | OK | ||||||||||
|
To the developers/maintainers of the RCX package: - Allow up to 24 hours (and sometimes 48 hours) for your latest push to git@git.bioconductor.org:packages/RCX.git to reflect on this report. See Troubleshooting Build Report for more information. - Use the following Renviron settings to reproduce errors and warnings. - If 'R CMD check' started to fail recently on the Linux builder(s) over a missing dependency, add the missing dependency to 'Suggests:' in your DESCRIPTION file. See Renviron.bioc for more information. |
| Package: RCX |
| Version: 1.12.0 |
| Command: /Library/Frameworks/R.framework/Resources/bin/R CMD check --install=check:RCX.install-out.txt --library=/Library/Frameworks/R.framework/Resources/library --no-vignettes --timings RCX_1.12.0.tar.gz |
| StartedAt: 2025-04-21 22:56:30 -0400 (Mon, 21 Apr 2025) |
| EndedAt: 2025-04-21 22:57:34 -0400 (Mon, 21 Apr 2025) |
| EllapsedTime: 63.8 seconds |
| RetCode: 0 |
| Status: OK |
| CheckDir: RCX.Rcheck |
| Warnings: 0 |
##############################################################################
##############################################################################
###
### Running command:
###
### /Library/Frameworks/R.framework/Resources/bin/R CMD check --install=check:RCX.install-out.txt --library=/Library/Frameworks/R.framework/Resources/library --no-vignettes --timings RCX_1.12.0.tar.gz
###
##############################################################################
##############################################################################
* using log directory ‘/Users/biocbuild/bbs-3.21-bioc/meat/RCX.Rcheck’
* using R version 4.5.0 RC (2025-04-04 r88126)
* using platform: x86_64-apple-darwin20
* R was compiled by
Apple clang version 14.0.0 (clang-1400.0.29.202)
GNU Fortran (GCC) 14.2.0
* running under: macOS Monterey 12.7.6
* using session charset: UTF-8
* using option ‘--no-vignettes’
* checking for file ‘RCX/DESCRIPTION’ ... OK
* checking extension type ... Package
* this is package ‘RCX’ version ‘1.12.0’
* package encoding: UTF-8
* checking package namespace information ... OK
* checking package dependencies ... OK
* checking if this is a source package ... OK
* checking if there is a namespace ... OK
* checking for hidden files and directories ... OK
* checking for portable file names ... OK
* checking for sufficient/correct file permissions ... OK
* checking whether package ‘RCX’ can be installed ... OK
* checking installed package size ... OK
* checking package directory ... OK
* checking ‘build’ directory ... OK
* checking DESCRIPTION meta-information ... NOTE
License stub is invalid DCF.
* checking top-level files ... OK
* checking for left-over files ... OK
* checking index information ... OK
* checking package subdirectories ... NOTE
Problems with news in ‘NEWS.md’:
No news entries found.
* checking code files for non-ASCII characters ... OK
* checking R files for syntax errors ... OK
* checking whether the package can be loaded ... OK
* checking whether the package can be loaded with stated dependencies ... OK
* checking whether the package can be unloaded cleanly ... OK
* checking whether the namespace can be loaded with stated dependencies ... OK
* checking whether the namespace can be unloaded cleanly ... OK
* checking whether startup messages can be suppressed ... OK
* checking dependencies in R code ... OK
* checking S3 generic/method consistency ... OK
* checking replacement functions ... OK
* checking foreign function calls ... OK
* checking R code for possible problems ... OK
* checking Rd files ... OK
* checking Rd metadata ... OK
* checking Rd cross-references ... NOTE
Non-topic package-anchored link(s) in Rd file 'Igraph.Rd':
‘[igraph:aaa-igraph-package]{igraph}’
See section 'Cross-references' in the 'Writing R Extensions' manual.
Found the following Rd file(s) with Rd \link{} targets missing package
anchors:
jsonToRCX.Rd: jsonlite
readCX.Rd: jsonlite
Please provide package anchors for all Rd \link{} targets not in the
package itself and the base packages.
* checking for missing documentation entries ... OK
* checking for code/documentation mismatches ... OK
* checking Rd \usage sections ... NOTE
Documented arguments not in \usage in Rd file 'dot-format.Rd':
‘.log’
Functions with \usage entries need to have the appropriate \alias
entries, and all their arguments documented.
The \usage entries must correspond to syntactically valid R code.
See chapter ‘Writing R documentation files’ in the ‘Writing R
Extensions’ manual.
* checking Rd contents ... OK
* checking for unstated dependencies in examples ... OK
* checking R/sysdata.rda ... OK
* checking files in ‘vignettes’ ... OK
* checking examples ... OK
* checking for unstated dependencies in ‘tests’ ... OK
* checking tests ...
Running ‘testthat.R’
OK
* checking for unstated dependencies in vignettes ... OK
* checking package vignettes ... OK
* checking running R code from vignettes ... SKIPPED
* checking re-building of vignette outputs ... SKIPPED
* checking PDF version of manual ... OK
* DONE
Status: 4 NOTEs
See
‘/Users/biocbuild/bbs-3.21-bioc/meat/RCX.Rcheck/00check.log’
for details.
RCX.Rcheck/00install.out
############################################################################## ############################################################################## ### ### Running command: ### ### /Library/Frameworks/R.framework/Resources/bin/R CMD INSTALL RCX ### ############################################################################## ############################################################################## * installing to library ‘/Library/Frameworks/R.framework/Versions/4.5-x86_64/Resources/library’ * installing *source* package ‘RCX’ ... ** this is package ‘RCX’ version ‘1.12.0’ ** using staged installation ** R ** inst ** byte-compile and prepare package for lazy loading ** help *** installing help indices ** building package indices ** installing vignettes ** testing if installed package can be loaded from temporary location ** testing if installed package can be loaded from final location ** testing if installed package keeps a record of temporary installation path * DONE (RCX)
RCX.Rcheck/tests/testthat.Rout
R version 4.5.0 RC (2025-04-04 r88126) -- "How About a Twenty-Six"
Copyright (C) 2025 The R Foundation for Statistical Computing
Platform: x86_64-apple-darwin20
R is free software and comes with ABSOLUTELY NO WARRANTY.
You are welcome to redistribute it under certain conditions.
Type 'license()' or 'licence()' for distribution details.
R is a collaborative project with many contributors.
Type 'contributors()' for more information and
'citation()' on how to cite R or R packages in publications.
Type 'demo()' for some demos, 'help()' for on-line help, or
'help.start()' for an HTML browser interface to help.
Type 'q()' to quit R.
> library(testthat)
> library(RCX)
>
> test_check("RCX")
[ FAIL 0 | WARN 0 | SKIP 0 | PASS 60 ]
>
> proc.time()
user system elapsed
2.894 0.185 3.109
RCX.Rcheck/RCX-Ex.timings
| name | user | system | elapsed | |
| CartesianLayout | 0.005 | 0.002 | 0.006 | |
| Convert-Names-and-Classes | 0.000 | 0.001 | 0.001 | |
| CyGroups | 0.005 | 0.000 | 0.005 | |
| CyHiddenAttributes | 0.136 | 0.009 | 0.146 | |
| CyNetworkRelations | 0.002 | 0.000 | 0.002 | |
| CySubNetworks | 0.006 | 0.000 | 0.005 | |
| CyTableColumn | 0.006 | 0.000 | 0.006 | |
| CyVisualProperties | 0.015 | 0.001 | 0.017 | |
| CyVisualProperty | 0.013 | 0.001 | 0.015 | |
| CyVisualPropertyDependencies | 0.004 | 0.000 | 0.005 | |
| CyVisualPropertyMappings | 0.005 | 0.000 | 0.006 | |
| CyVisualPropertyProperties | 0.004 | 0.001 | 0.004 | |
| EdgeAttributes | 0.018 | 0.001 | 0.019 | |
| Edges | 0.001 | 0.000 | 0.002 | |
| Igraph | 2.830 | 0.054 | 2.908 | |
| Meta-data | 0.027 | 0.002 | 0.030 | |
| NetworkAttributes | 0.013 | 0.002 | 0.014 | |
| NodeAttributes | 0.018 | 0.003 | 0.020 | |
| Nodes | 0.001 | 0.000 | 0.002 | |
| RCX-object | 0.274 | 0.005 | 0.283 | |
| aspectClasses | 0.000 | 0.001 | 0.001 | |
| checks | 0 | 0 | 0 | |
| convert-data-types-and-values | 0.001 | 0.000 | 0.002 | |
| convert2json | 0 | 0 | 0 | |
| countElements | 0.014 | 0.000 | 0.015 | |
| custom-print | 0.006 | 0.000 | 0.006 | |
| dot-addAspectNameToJson | 0.000 | 0.000 | 0.001 | |
| dot-addAttributeData | 0.000 | 0.000 | 0.001 | |
| dot-aspectClass | 0.001 | 0.000 | 0.000 | |
| dot-convertRawList | 0 | 0 | 0 | |
| dot-createAttributeAspect | 0 | 0 | 0 | |
| dot-createCyVpPorD | 0.000 | 0.001 | 0.000 | |
| dot-filterBy | 0.000 | 0.000 | 0.001 | |
| dot-format | 0.000 | 0.001 | 0.000 | |
| dot-infer | 0 | 0 | 0 | |
| dot-json2RDataType | 0.000 | 0.001 | 0.001 | |
| dot-jsonL | 0 | 0 | 0 | |
| dot-jsonV | 0.000 | 0.000 | 0.001 | |
| dot-log | 0.000 | 0.001 | 0.000 | |
| dot-mergeAttributesAspect | 0 | 0 | 0 | |
| dot-mergeIdAspect | 0 | 0 | 0 | |
| dot-modClass | 0.001 | 0.000 | 0.000 | |
| dot-pasteC | 0 | 0 | 0 | |
| dot-renameDF | 0.001 | 0.001 | 0.002 | |
| dot-stop | 0 | 0 | 0 | |
| dot-summaryAspect | 0.002 | 0.000 | 0.001 | |
| dot-transformListLength-set | 0.002 | 0.001 | 0.003 | |
| dot-transformVLD | 0.005 | 0.001 | 0.005 | |
| getCyVisualProperty | 0.011 | 0.001 | 0.013 | |
| graphNEL | 3.034 | 0.042 | 3.105 | |
| hasIds | 0.001 | 0.000 | 0.001 | |
| idProperty | 0.001 | 0.000 | 0.001 | |
| jsonToRCX | 0.003 | 0.000 | 0.003 | |
| markAttributeColumn | 0.002 | 0.000 | 0.002 | |
| markRefColumn | 0.002 | 0.000 | 0.001 | |
| maxId | 0.001 | 0.001 | 0.002 | |
| rcxToJson | 0.002 | 0.000 | 0.003 | |
| readCX | 0.723 | 0.006 | 0.737 | |
| referredBy | 0.008 | 0.000 | 0.009 | |
| refersTo | 0.001 | 0.000 | 0.001 | |
| setExtension | 0 | 0 | 0 | |
| summary | 0.014 | 0.001 | 0.015 | |
| toCX | 0.011 | 0.001 | 0.011 | |
| updateCartesianLayout | 0.049 | 0.002 | 0.051 | |
| updateCyGroups | 0.035 | 0.004 | 0.040 | |
| updateCyHiddenAttributes | 0.052 | 0.002 | 0.053 | |
| updateCyNetworkRelations | 0.043 | 0.002 | 0.044 | |
| updateCySubNetworks | 0.033 | 0.002 | 0.035 | |
| updateCyTableColumn | 0.059 | 0.002 | 0.062 | |
| updateCyVisualProperties | 0.285 | 0.010 | 0.301 | |
| updateCyVisualProperty | 0.072 | 0.004 | 0.079 | |
| updateEdgeAttributes | 0.051 | 0.002 | 0.053 | |
| updateEdges | 0.023 | 0.001 | 0.024 | |
| updateMetaDataProperties | 0.022 | 0.001 | 0.024 | |
| updateNetworkAttributes | 0.053 | 0.002 | 0.055 | |
| updateNodeAttributes | 0.072 | 0.002 | 0.073 | |
| updateNodes | 0.020 | 0.001 | 0.020 | |
| validate | 0.315 | 0.007 | 0.323 | |
| visualize | 0.009 | 0.000 | 0.009 | |
| writeCX | 0.000 | 0.000 | 0.001 | |
| writeHTML | 0.073 | 0.071 | 0.150 | |