Back to Multiple platform build/check report for BioC 3.21:   simplified   long
ABCDEFGHIJKLMNOPQ[R]STUVWXYZ

This page was generated on 2025-02-15 11:40 -0500 (Sat, 15 Feb 2025).

HostnameOSArch (*)R versionInstalled pkgs
nebbiolo1Linux (Ubuntu 24.04.1 LTS)x86_64R Under development (unstable) (2025-01-20 r87609) -- "Unsuffered Consequences" 4720
palomino7Windows Server 2022 Datacenterx64R Under development (unstable) (2025-01-21 r87610 ucrt) -- "Unsuffered Consequences" 4482
lconwaymacOS 12.7.1 Montereyx86_64R Under development (unstable) (2025-01-22 r87618) -- "Unsuffered Consequences" 4493
kjohnson3macOS 13.7.1 Venturaarm64R Under development (unstable) (2025-01-20 r87609) -- "Unsuffered Consequences" 4446
Click on any hostname to see more info about the system (e.g. compilers)      (*) as reported by 'uname -p', except on Windows and Mac OS X

Package 1691/2295HostnameOS / ArchINSTALLBUILDCHECKBUILD BIN
RCX 1.11.0  (landing page)
Florian Auer
Snapshot Date: 2025-02-14 13:40 -0500 (Fri, 14 Feb 2025)
git_url: https://git.bioconductor.org/packages/RCX
git_branch: devel
git_last_commit: c707da4
git_last_commit_date: 2024-10-29 11:07:45 -0500 (Tue, 29 Oct 2024)
nebbiolo1Linux (Ubuntu 24.04.1 LTS) / x86_64  OK    OK    OK  UNNEEDED, same version is already published
palomino7Windows Server 2022 Datacenter / x64  OK    OK    OK    OK  UNNEEDED, same version is already published
lconwaymacOS 12.7.1 Monterey / x86_64  OK    OK    OK    OK  UNNEEDED, same version is already published
kjohnson3macOS 13.7.1 Ventura / arm64  OK    OK    OK    OK  UNNEEDED, same version is already published


CHECK results for RCX on nebbiolo1

To the developers/maintainers of the RCX package:
- Allow up to 24 hours (and sometimes 48 hours) for your latest push to git@git.bioconductor.org:packages/RCX.git to reflect on this report. See Troubleshooting Build Report for more information.
- Use the following Renviron settings to reproduce errors and warnings.
- If 'R CMD check' started to fail recently on the Linux builder(s) over a missing dependency, add the missing dependency to 'Suggests:' in your DESCRIPTION file. See Renviron.bioc for more information.

raw results


Summary

Package: RCX
Version: 1.11.0
Command: /home/biocbuild/bbs-3.21-bioc/R/bin/R CMD check --install=check:RCX.install-out.txt --library=/home/biocbuild/bbs-3.21-bioc/R/site-library --timings RCX_1.11.0.tar.gz
StartedAt: 2025-02-15 01:24:03 -0500 (Sat, 15 Feb 2025)
EndedAt: 2025-02-15 01:25:01 -0500 (Sat, 15 Feb 2025)
EllapsedTime: 58.1 seconds
RetCode: 0
Status:   OK  
CheckDir: RCX.Rcheck
Warnings: 0

Command output

##############################################################################
##############################################################################
###
### Running command:
###
###   /home/biocbuild/bbs-3.21-bioc/R/bin/R CMD check --install=check:RCX.install-out.txt --library=/home/biocbuild/bbs-3.21-bioc/R/site-library --timings RCX_1.11.0.tar.gz
###
##############################################################################
##############################################################################


* using log directory ‘/home/biocbuild/bbs-3.21-bioc/meat/RCX.Rcheck’
* using R Under development (unstable) (2025-01-20 r87609)
* using platform: x86_64-pc-linux-gnu
* R was compiled by
    gcc (Ubuntu 13.3.0-6ubuntu2~24.04) 13.3.0
    GNU Fortran (Ubuntu 13.3.0-6ubuntu2~24.04) 13.3.0
* running under: Ubuntu 24.04.2 LTS
* using session charset: UTF-8
* checking for file ‘RCX/DESCRIPTION’ ... OK
* checking extension type ... Package
* this is package ‘RCX’ version ‘1.11.0’
* package encoding: UTF-8
* checking package namespace information ... OK
* checking package dependencies ... OK
* checking if this is a source package ... OK
* checking if there is a namespace ... OK
* checking for hidden files and directories ... OK
* checking for portable file names ... OK
* checking for sufficient/correct file permissions ... OK
* checking whether package ‘RCX’ can be installed ... OK
* checking installed package size ... OK
* checking package directory ... OK
* checking ‘build’ directory ... OK
* checking DESCRIPTION meta-information ... NOTE
License stub is invalid DCF.
* checking top-level files ... OK
* checking for left-over files ... OK
* checking index information ... OK
* checking package subdirectories ... NOTE
Problems with news in ‘NEWS.md’:
No news entries found.
* checking code files for non-ASCII characters ... OK
* checking R files for syntax errors ... OK
* checking whether the package can be loaded ... OK
* checking whether the package can be loaded with stated dependencies ... OK
* checking whether the package can be unloaded cleanly ... OK
* checking whether the namespace can be loaded with stated dependencies ... OK
* checking whether the namespace can be unloaded cleanly ... OK
* checking loading without being on the library search path ... OK
* checking whether startup messages can be suppressed ... OK
* checking dependencies in R code ... OK
* checking S3 generic/method consistency ... OK
* checking replacement functions ... OK
* checking foreign function calls ... OK
* checking R code for possible problems ... OK
* checking Rd files ... OK
* checking Rd metadata ... OK
* checking Rd cross-references ... NOTE
Non-topic package-anchored link(s) in Rd file 'Igraph.Rd':
  ‘[igraph:aaa-igraph-package]{igraph}’

See section 'Cross-references' in the 'Writing R Extensions' manual.

Found the following Rd file(s) with Rd \link{} targets missing package
anchors:
  jsonToRCX.Rd: jsonlite
  readCX.Rd: jsonlite
Please provide package anchors for all Rd \link{} targets not in the
package itself and the base packages.
* checking for missing documentation entries ... OK
* checking for code/documentation mismatches ... OK
* checking Rd \usage sections ... NOTE
Documented arguments not in \usage in Rd file 'dot-format.Rd':
  ‘.log’

Functions with \usage entries need to have the appropriate \alias
entries, and all their arguments documented.
The \usage entries must correspond to syntactically valid R code.
See chapter ‘Writing R documentation files’ in the ‘Writing R
Extensions’ manual.
* checking Rd contents ... OK
* checking for unstated dependencies in examples ... OK
* checking R/sysdata.rda ... OK
* checking files in ‘vignettes’ ... OK
* checking examples ... OK
* checking for unstated dependencies in ‘tests’ ... OK
* checking tests ...
  Running ‘testthat.R’
 OK
* checking for unstated dependencies in vignettes ... OK
* checking package vignettes ... OK
* checking re-building of vignette outputs ... OK
* checking PDF version of manual ... OK
* DONE

Status: 4 NOTEs
See
  ‘/home/biocbuild/bbs-3.21-bioc/meat/RCX.Rcheck/00check.log’
for details.


Installation output

RCX.Rcheck/00install.out

##############################################################################
##############################################################################
###
### Running command:
###
###   /home/biocbuild/bbs-3.21-bioc/R/bin/R CMD INSTALL RCX
###
##############################################################################
##############################################################################


* installing to library ‘/home/biocbuild/bbs-3.21-bioc/R/site-library’
* installing *source* package ‘RCX’ ...
** this is package ‘RCX’ version ‘1.11.0’
** using staged installation
** R
** inst
** byte-compile and prepare package for lazy loading
** help
*** installing help indices
** building package indices
** installing vignettes
** testing if installed package can be loaded from temporary location
** testing if installed package can be loaded from final location
** testing if installed package keeps a record of temporary installation path
* DONE (RCX)

Tests output

RCX.Rcheck/tests/testthat.Rout


R Under development (unstable) (2025-01-20 r87609) -- "Unsuffered Consequences"
Copyright (C) 2025 The R Foundation for Statistical Computing
Platform: x86_64-pc-linux-gnu

R is free software and comes with ABSOLUTELY NO WARRANTY.
You are welcome to redistribute it under certain conditions.
Type 'license()' or 'licence()' for distribution details.

R is a collaborative project with many contributors.
Type 'contributors()' for more information and
'citation()' on how to cite R or R packages in publications.

Type 'demo()' for some demos, 'help()' for on-line help, or
'help.start()' for an HTML browser interface to help.
Type 'q()' to quit R.

> library(testthat)
> library(RCX)
> 
> test_check("RCX")
[ FAIL 0 | WARN 0 | SKIP 0 | PASS 60 ]
> 
> proc.time()
   user  system elapsed 
  2.290   0.123   2.400 

Example timings

RCX.Rcheck/RCX-Ex.timings

nameusersystemelapsed
CartesianLayout0.0030.0010.004
Convert-Names-and-Classes000
CyGroups0.0050.0000.005
CyHiddenAttributes0.1140.0010.114
CyNetworkRelations0.0020.0000.001
CySubNetworks0.0020.0000.002
CyTableColumn0.0040.0000.005
CyVisualProperties0.0110.0020.015
CyVisualProperty0.0090.0020.011
CyVisualPropertyDependencies0.0030.0000.003
CyVisualPropertyMappings0.0030.0010.004
CyVisualPropertyProperties0.0060.0000.006
EdgeAttributes0.0130.0000.013
Edges0.0000.0000.001
Igraph2.2080.0502.259
Meta-data0.0240.0000.025
NetworkAttributes0.0090.0010.009
NodeAttributes0.0130.0010.013
Nodes0.0010.0010.002
RCX-object0.2180.0020.224
aspectClasses0.0010.0000.001
checks000
convert-data-types-and-values0.0020.0010.001
convert2json000
countElements0.0110.0000.012
custom-print0.0050.0000.006
dot-addAspectNameToJson000
dot-addAttributeData0.0000.0010.000
dot-aspectClass0.0000.0000.001
dot-convertRawList0.0000.0000.001
dot-createAttributeAspect000
dot-createCyVpPorD000
dot-filterBy0.0000.0010.000
dot-format000
dot-infer000
dot-json2RDataType0.0000.0000.001
dot-jsonL0.0010.0000.000
dot-jsonV0.0010.0000.001
dot-log000
dot-mergeAttributesAspect000
dot-mergeIdAspect0.0000.0000.001
dot-modClass0.0010.0000.000
dot-pasteC000
dot-renameDF0.0010.0000.002
dot-stop000
dot-summaryAspect0.0010.0010.002
dot-transformListLength-set0.0020.0000.002
dot-transformVLD0.0040.0010.004
getCyVisualProperty0.0080.0020.009
graphNEL2.5280.0092.536
hasIds0.0000.0000.001
idProperty0.0010.0010.000
jsonToRCX0.0020.0010.002
markAttributeColumn0.0020.0000.002
markRefColumn0.0020.0000.001
maxId0.0010.0000.001
rcxToJson0.0020.0000.002
readCX0.5920.0220.614
referredBy0.0080.0000.008
refersTo0.0010.0000.001
setExtension000
summary0.0110.0010.011
toCX0.0090.0010.011
updateCartesianLayout0.0400.0010.041
updateCyGroups0.0270.0020.029
updateCyHiddenAttributes0.0430.0070.050
updateCyNetworkRelations0.0370.0020.038
updateCySubNetworks0.0260.0010.027
updateCyTableColumn0.0430.0010.045
updateCyVisualProperties0.2230.0110.233
updateCyVisualProperty0.0540.0060.059
updateEdgeAttributes0.0430.0010.043
updateEdges0.0190.0010.021
updateMetaDataProperties0.0170.0020.018
updateNetworkAttributes0.0400.0010.041
updateNodeAttributes0.0510.0020.053
updateNodes0.0170.0000.016
validate0.2260.0070.232
visualize0.0080.0000.008
writeCX000
writeHTML0.0440.0200.068