Back to Multiple platform build/check report for BioC 3.21:   simplified   long
ABCDEFGHIJKLMNOPQ[R]STUVWXYZ

This page was generated on 2025-01-28 11:47 -0500 (Tue, 28 Jan 2025).

HostnameOSArch (*)R versionInstalled pkgs
nebbiolo1Linux (Ubuntu 24.04.1 LTS)x86_64R Under development (unstable) (2025-01-20 r87609) -- "Unsuffered Consequences" 4659
palomino7Windows Server 2022 Datacenterx64R Under development (unstable) (2025-01-21 r87610 ucrt) -- "Unsuffered Consequences" 4454
lconwaymacOS 12.7.1 Montereyx86_64R Under development (unstable) (2025-01-22 r87618) -- "Unsuffered Consequences" 4465
kjohnson3macOS 13.7.1 Venturaarm64R Under development (unstable) (2025-01-20 r87609) -- "Unsuffered Consequences" 4419
kunpeng2Linux (openEuler 22.03 LTS-SP1)aarch64R Under development (unstable) (2024-11-24 r87369) -- "Unsuffered Consequences" 4409
Click on any hostname to see more info about the system (e.g. compilers)      (*) as reported by 'uname -p', except on Windows and Mac OS X

Package 1685/2286HostnameOS / ArchINSTALLBUILDCHECKBUILD BIN
RCX 1.11.0  (landing page)
Florian Auer
Snapshot Date: 2025-01-27 13:40 -0500 (Mon, 27 Jan 2025)
git_url: https://git.bioconductor.org/packages/RCX
git_branch: devel
git_last_commit: c707da4
git_last_commit_date: 2024-10-29 11:07:45 -0500 (Tue, 29 Oct 2024)
nebbiolo1Linux (Ubuntu 24.04.1 LTS) / x86_64  OK    OK    OK  UNNEEDED, same version is already published
palomino7Windows Server 2022 Datacenter / x64  OK    OK    OK    OK  UNNEEDED, same version is already published
lconwaymacOS 12.7.1 Monterey / x86_64  OK    OK    OK    OK  UNNEEDED, same version is already published
kjohnson3macOS 13.7.1 Ventura / arm64  OK    OK    OK    OK  UNNEEDED, same version is already published
kunpeng2Linux (openEuler 22.03 LTS-SP1) / aarch64  OK    OK    OK  


CHECK results for RCX on kunpeng2

To the developers/maintainers of the RCX package:
- Allow up to 24 hours (and sometimes 48 hours) for your latest push to git@git.bioconductor.org:packages/RCX.git to reflect on this report. See Troubleshooting Build Report for more information.
- Use the following Renviron settings to reproduce errors and warnings.
- If 'R CMD check' started to fail recently on the Linux builder(s) over a missing dependency, add the missing dependency to 'Suggests:' in your DESCRIPTION file. See Renviron.bioc for more information.
- See Martin Grigorov's blog post for how to debug Linux ARM64 related issues on a x86_64 host.

raw results


Summary

Package: RCX
Version: 1.11.0
Command: /home/biocbuild/R/R/bin/R CMD check --install=check:RCX.install-out.txt --library=/home/biocbuild/R/R/site-library --no-vignettes --timings RCX_1.11.0.tar.gz
StartedAt: 2025-01-28 14:21:43 -0000 (Tue, 28 Jan 2025)
EndedAt: 2025-01-28 14:22:40 -0000 (Tue, 28 Jan 2025)
EllapsedTime: 57.1 seconds
RetCode: 0
Status:   OK  
CheckDir: RCX.Rcheck
Warnings: 0

Command output

##############################################################################
##############################################################################
###
### Running command:
###
###   /home/biocbuild/R/R/bin/R CMD check --install=check:RCX.install-out.txt --library=/home/biocbuild/R/R/site-library --no-vignettes --timings RCX_1.11.0.tar.gz
###
##############################################################################
##############################################################################


* using log directory ‘/home/biocbuild/bbs-3.21-bioc/meat/RCX.Rcheck’
* using R Under development (unstable) (2024-11-24 r87369)
* using platform: aarch64-unknown-linux-gnu
* R was compiled by
    aarch64-unknown-linux-gnu-gcc (GCC) 14.2.0
    GNU Fortran (GCC) 14.2.0
* running under: openEuler 24.03 (LTS)
* using session charset: UTF-8
* using option ‘--no-vignettes’
* checking for file ‘RCX/DESCRIPTION’ ... OK
* checking extension type ... Package
* this is package ‘RCX’ version ‘1.11.0’
* package encoding: UTF-8
* checking package namespace information ... OK
* checking package dependencies ... OK
* checking if this is a source package ... OK
* checking if there is a namespace ... OK
* checking for hidden files and directories ... OK
* checking for portable file names ... OK
* checking for sufficient/correct file permissions ... OK
* checking whether package ‘RCX’ can be installed ... OK
* checking installed package size ... OK
* checking package directory ... OK
* checking ‘build’ directory ... OK
* checking DESCRIPTION meta-information ... NOTE
License stub is invalid DCF.
* checking top-level files ... OK
* checking for left-over files ... OK
* checking index information ... OK
* checking package subdirectories ...Warning: program compiled against libxml 212 using older 211
 NOTE
Problems with news in ‘NEWS.md’:
No news entries found.
* checking code files for non-ASCII characters ... OK
* checking R files for syntax errors ... OK
* checking whether the package can be loaded ... OK
* checking whether the package can be loaded with stated dependencies ... OK
* checking whether the package can be unloaded cleanly ... OK
* checking whether the namespace can be loaded with stated dependencies ... OK
* checking whether the namespace can be unloaded cleanly ... OK
* checking loading without being on the library search path ... OK
* checking whether startup messages can be suppressed ... OK
* checking dependencies in R code ... OK
* checking S3 generic/method consistency ... OK
* checking replacement functions ... OK
* checking foreign function calls ... OK
* checking R code for possible problems ... OK
* checking Rd files ... OK
* checking Rd metadata ... OK
* checking Rd cross-references ... NOTE
Found the following Rd file(s) with Rd \link{} targets missing package
anchors:
  jsonToRCX.Rd: jsonlite
  readCX.Rd: jsonlite
Please provide package anchors for all Rd \link{} targets not in the
package itself and the base packages.
* checking for missing documentation entries ... OK
* checking for code/documentation mismatches ... OK
* checking Rd \usage sections ... NOTE
Documented arguments not in \usage in Rd file 'dot-format.Rd':
  ‘.log’

Functions with \usage entries need to have the appropriate \alias
entries, and all their arguments documented.
The \usage entries must correspond to syntactically valid R code.
See chapter ‘Writing R documentation files’ in the ‘Writing R
Extensions’ manual.
* checking Rd contents ... OK
* checking for unstated dependencies in examples ... OK
* checking R/sysdata.rda ... OK
* checking files in ‘vignettes’ ... OK
* checking examples ... OK
* checking for unstated dependencies in ‘tests’ ... OK
* checking tests ...
  Running ‘testthat.R’
 OK
* checking for unstated dependencies in vignettes ... OK
* checking package vignettes ... OK
* checking running R code from vignettes ... SKIPPED
* checking re-building of vignette outputs ... SKIPPED
* checking PDF version of manual ... OK
* DONE

Status: 4 NOTEs
See
  ‘/home/biocbuild/bbs-3.21-bioc/meat/RCX.Rcheck/00check.log’
for details.


Installation output

RCX.Rcheck/00install.out

##############################################################################
##############################################################################
###
### Running command:
###
###   /home/biocbuild/R/R/bin/R CMD INSTALL RCX
###
##############################################################################
##############################################################################


* installing to library ‘/home/biocbuild/R/R-4.5.0-devel_2024-11-24/site-library’
* installing *source* package ‘RCX’ ...
** using staged installation
** R
** inst
** byte-compile and prepare package for lazy loading
** help
*** installing help indices
** building package indices
** installing vignettes
** testing if installed package can be loaded from temporary location
** testing if installed package can be loaded from final location
** testing if installed package keeps a record of temporary installation path
* DONE (RCX)

Tests output

RCX.Rcheck/tests/testthat.Rout


R Under development (unstable) (2024-11-24 r87369) -- "Unsuffered Consequences"
Copyright (C) 2024 The R Foundation for Statistical Computing
Platform: aarch64-unknown-linux-gnu

R is free software and comes with ABSOLUTELY NO WARRANTY.
You are welcome to redistribute it under certain conditions.
Type 'license()' or 'licence()' for distribution details.

R is a collaborative project with many contributors.
Type 'contributors()' for more information and
'citation()' on how to cite R or R packages in publications.

Type 'demo()' for some demos, 'help()' for on-line help, or
'help.start()' for an HTML browser interface to help.
Type 'q()' to quit R.

> library(testthat)
> library(RCX)
> 
> test_check("RCX")
[ FAIL 0 | WARN 0 | SKIP 0 | PASS 60 ]
> 
> proc.time()
   user  system elapsed 
  3.447   0.091   3.536 

Example timings

RCX.Rcheck/RCX-Ex.timings

nameusersystemelapsed
CartesianLayout0.0050.0000.005
Convert-Names-and-Classes0.0000.0000.001
CyGroups0.0050.0000.006
CyHiddenAttributes0.1530.0000.154
CyNetworkRelations0.0020.0040.005
CySubNetworks0.0030.0000.003
CyTableColumn0.0070.0000.006
CyVisualProperties0.0150.0040.019
CyVisualProperty0.0130.0000.013
CyVisualPropertyDependencies0.0040.0000.004
CyVisualPropertyMappings0.0050.0000.005
CyVisualPropertyProperties0.0080.0000.008
EdgeAttributes0.0150.0040.019
Edges0.0020.0000.002
Igraph3.6220.0523.683
Meta-data0.0330.0000.033
NetworkAttributes0.0110.0000.012
NodeAttributes0.0180.0000.018
Nodes0.0020.0000.002
RCX-object0.3130.0000.313
aspectClasses0.0000.0000.001
checks000
convert-data-types-and-values0.0020.0000.001
convert2json000
countElements0.0110.0000.012
custom-print0.0070.0000.007
dot-addAspectNameToJson000
dot-addAttributeData000
dot-aspectClass000
dot-convertRawList0.0000.0000.001
dot-createAttributeAspect000
dot-createCyVpPorD000
dot-filterBy0.0010.0000.000
dot-format000
dot-infer000
dot-json2RDataType000
dot-jsonL0.0010.0000.000
dot-jsonV0.0010.0000.000
dot-log000
dot-mergeAttributesAspect000
dot-mergeIdAspect000
dot-modClass000
dot-pasteC000
dot-renameDF0.0020.0000.002
dot-stop000
dot-summaryAspect0.0020.0000.002
dot-transformListLength-set0.0030.0000.002
dot-transformVLD0.0020.0040.005
getCyVisualProperty0.0110.0000.011
graphNEL3.9920.0724.073
hasIds0.0020.0000.001
idProperty0.0010.0000.001
jsonToRCX0.0020.0000.003
markAttributeColumn0.0020.0000.002
markRefColumn0.0010.0000.001
maxId0.0010.0000.001
rcxToJson0.0030.0000.002
readCX0.7870.0560.845
referredBy0.0120.0000.012
refersTo0.0010.0000.001
setExtension000
summary0.1320.0040.136
toCX0.0150.0000.015
updateCartesianLayout0.0570.0000.058
updateCyGroups0.0390.0000.039
updateCyHiddenAttributes0.0670.0000.067
updateCyNetworkRelations0.0520.0080.060
updateCySubNetworks0.0370.0000.037
updateCyTableColumn0.0610.0000.061
updateCyVisualProperties0.3340.0000.335
updateCyVisualProperty0.0840.0000.084
updateEdgeAttributes0.0670.0000.067
updateEdges0.0340.0000.035
updateMetaDataProperties0.0270.0000.027
updateNetworkAttributes0.0610.0000.061
updateNodeAttributes0.0800.0000.079
updateNodes0.0260.0000.026
validate0.3820.0000.383
visualize0.0110.0000.011
writeCX000
writeHTML0.0840.0080.121