| Back to Multiple platform build/check report for BioC 3.20: simplified long |
|
This page was generated on 2025-04-02 19:36 -0400 (Wed, 02 Apr 2025).
| Hostname | OS | Arch (*) | R version | Installed pkgs |
|---|---|---|---|---|
| nebbiolo2 | Linux (Ubuntu 24.04.1 LTS) | x86_64 | 4.4.3 (2025-02-28) -- "Trophy Case" | 4764 |
| palomino8 | Windows Server 2022 Datacenter | x64 | 4.4.3 (2025-02-28 ucrt) -- "Trophy Case" | 4495 |
| merida1 | macOS 12.7.5 Monterey | x86_64 | 4.4.3 (2025-02-28) -- "Trophy Case" | 4522 |
| kjohnson1 | macOS 13.6.6 Ventura | arm64 | 4.4.3 (2025-02-28) -- "Trophy Case" | 4449 |
| taishan | Linux (openEuler 24.03 LTS) | aarch64 | 4.4.3 (2025-02-28) -- "Trophy Case" | 4426 |
| Click on any hostname to see more info about the system (e.g. compilers) (*) as reported by 'uname -p', except on Windows and Mac OS X | ||||
| Package 2147/2289 | Hostname | OS / Arch | INSTALL | BUILD | CHECK | BUILD BIN | ||||||||
| tidytof 1.0.0 (landing page) Timothy Keyes
| nebbiolo2 | Linux (Ubuntu 24.04.1 LTS) / x86_64 | OK | OK | OK | |||||||||
| palomino8 | Windows Server 2022 Datacenter / x64 | OK | OK | OK | OK | |||||||||
| merida1 | macOS 12.7.5 Monterey / x86_64 | OK | OK | OK | OK | |||||||||
| kjohnson1 | macOS 13.6.6 Ventura / arm64 | OK | OK | OK | OK | |||||||||
| taishan | Linux (openEuler 24.03 LTS) / aarch64 | OK | OK | OK | ||||||||||
|
To the developers/maintainers of the tidytof package: - Allow up to 24 hours (and sometimes 48 hours) for your latest push to git@git.bioconductor.org:packages/tidytof.git to reflect on this report. See Troubleshooting Build Report for more information. - Use the following Renviron settings to reproduce errors and warnings. - If 'R CMD check' started to fail recently on the Linux builder(s) over a missing dependency, add the missing dependency to 'Suggests:' in your DESCRIPTION file. See Renviron.bioc for more information. - See Martin Grigorov's blog post for how to debug Linux ARM64 related issues on a x86_64 host. |
| Package: tidytof |
| Version: 1.0.0 |
| Command: /home/biocbuild/R/R/bin/R CMD check --install=check:tidytof.install-out.txt --library=/home/biocbuild/R/R/site-library --no-vignettes --timings tidytof_1.0.0.tar.gz |
| StartedAt: 2025-04-01 11:20:55 -0000 (Tue, 01 Apr 2025) |
| EndedAt: 2025-04-01 11:29:06 -0000 (Tue, 01 Apr 2025) |
| EllapsedTime: 490.6 seconds |
| RetCode: 0 |
| Status: OK |
| CheckDir: tidytof.Rcheck |
| Warnings: 0 |
##############################################################################
##############################################################################
###
### Running command:
###
### /home/biocbuild/R/R/bin/R CMD check --install=check:tidytof.install-out.txt --library=/home/biocbuild/R/R/site-library --no-vignettes --timings tidytof_1.0.0.tar.gz
###
##############################################################################
##############################################################################
* using log directory ‘/home/biocbuild/bbs-3.20-bioc/meat/tidytof.Rcheck’
* using R version 4.4.3 (2025-02-28)
* using platform: aarch64-unknown-linux-gnu
* R was compiled by
aarch64-unknown-linux-gnu-gcc (GCC) 14.2.0
GNU Fortran (GCC) 14.2.0
* running under: openEuler 24.03 (LTS)
* using session charset: UTF-8
* using option ‘--no-vignettes’
* checking for file ‘tidytof/DESCRIPTION’ ... OK
* checking extension type ... Package
* this is package ‘tidytof’ version ‘1.0.0’
* package encoding: UTF-8
* checking package namespace information ... OK
* checking package dependencies ... OK
* checking if this is a source package ... OK
* checking if there is a namespace ... OK
* checking for hidden files and directories ... OK
* checking for portable file names ... OK
* checking for sufficient/correct file permissions ... OK
* checking whether package ‘tidytof’ can be installed ... OK
* used C++ compiler: ‘aarch64-unknown-linux-gnu-g++ (GCC) 14.2.0’
* checking installed package size ... NOTE
installed size is 5.2Mb
sub-directories of 1Mb or more:
help 2.1Mb
libs 1.3Mb
* checking package directory ... OK
* checking ‘build’ directory ... OK
* checking DESCRIPTION meta-information ... OK
* checking top-level files ... OK
* checking for left-over files ... OK
* checking index information ... OK
* checking package subdirectories ... OK
* checking code files for non-ASCII characters ... OK
* checking R files for syntax errors ... OK
* checking whether the package can be loaded ... OK
* checking whether the package can be loaded with stated dependencies ... OK
* checking whether the package can be unloaded cleanly ... OK
* checking whether the namespace can be loaded with stated dependencies ... OK
* checking whether the namespace can be unloaded cleanly ... OK
* checking loading without being on the library search path ... OK
* checking dependencies in R code ... OK
* checking S3 generic/method consistency ... OK
* checking replacement functions ... OK
* checking foreign function calls ... OK
* checking R code for possible problems ... OK
* checking Rd files ... OK
* checking Rd metadata ... OK
* checking Rd cross-references ... OK
* checking for missing documentation entries ... OK
* checking for code/documentation mismatches ... OK
* checking Rd \usage sections ... OK
* checking Rd contents ... OK
* checking for unstated dependencies in examples ... OK
* checking contents of ‘data’ directory ... OK
* checking data for non-ASCII characters ... OK
* checking data for ASCII and uncompressed saves ... OK
* checking R/sysdata.rda ... OK
* checking line endings in C/C++/Fortran sources/headers ... OK
* checking compiled code ... NOTE
Note: information on .o files is not available
* checking files in ‘vignettes’ ... OK
* checking examples ... OK
Examples with CPU (user + system) or elapsed time > 5s
user system elapsed
tof_assess_clusters_knn 10.943 0.143 11.117
tof_plot_cells_layout 7.591 0.008 7.608
tof_cluster_flowsom 5.864 0.092 5.974
tof_plot_cells_embedding 5.725 0.020 5.766
* checking for unstated dependencies in ‘tests’ ... OK
* checking tests ...
Running ‘spelling.R’
Running ‘testthat.R’
OK
* checking for unstated dependencies in vignettes ... OK
* checking package vignettes ... OK
* checking running R code from vignettes ... SKIPPED
* checking re-building of vignette outputs ... SKIPPED
* checking PDF version of manual ... OK
* DONE
Status: 2 NOTEs
See
‘/home/biocbuild/bbs-3.20-bioc/meat/tidytof.Rcheck/00check.log’
for details.
tidytof.Rcheck/00install.out
############################################################################## ############################################################################## ### ### Running command: ### ### /home/biocbuild/R/R/bin/R CMD INSTALL tidytof ### ############################################################################## ############################################################################## * installing to library ‘/home/biocbuild/R/R-4.4.3/site-library’ * installing *source* package ‘tidytof’ ... ** using staged installation ** libs using C++ compiler: ‘aarch64-unknown-linux-gnu-g++ (GCC) 14.2.0’ /opt/ohpc/pub/compiler/gcc/14.2.0/bin/aarch64-unknown-linux-gnu-g++ -std=gnu++17 -I"/home/biocbuild/R/R-4.4.3/include" -DNDEBUG -I'/home/biocbuild/R/R-4.4.3/site-library/Rcpp/include' -I/usr/local/include -fPIC -g -O2 -Wall -c RcppExports.cpp -o RcppExports.o /opt/ohpc/pub/compiler/gcc/14.2.0/bin/aarch64-unknown-linux-gnu-g++ -std=gnu++17 -I"/home/biocbuild/R/R-4.4.3/include" -DNDEBUG -I'/home/biocbuild/R/R-4.4.3/site-library/Rcpp/include' -I/usr/local/include -fPIC -g -O2 -Wall -c code.cpp -o code.o /opt/ohpc/pub/compiler/gcc/14.2.0/bin/aarch64-unknown-linux-gnu-g++ -std=gnu++17 -shared -L/home/biocbuild/R/R-4.4.3/lib -L/usr/local/lib -o tidytof.so RcppExports.o code.o -L/home/biocbuild/R/R-4.4.3/lib -lR installing to /home/biocbuild/R/R-4.4.3/site-library/00LOCK-tidytof/00new/tidytof/libs ** R ** data ** inst ** byte-compile and prepare package for lazy loading ** help *** installing help indices *** copying figures ** building package indices ** installing vignettes ** testing if installed package can be loaded from temporary location ** checking absolute paths in shared objects and dynamic libraries ** testing if installed package can be loaded from final location ** testing if installed package keeps a record of temporary installation path * DONE (tidytof)
tidytof.Rcheck/tests/spelling.Rout
R version 4.4.3 (2025-02-28) -- "Trophy Case"
Copyright (C) 2025 The R Foundation for Statistical Computing
Platform: aarch64-unknown-linux-gnu
R is free software and comes with ABSOLUTELY NO WARRANTY.
You are welcome to redistribute it under certain conditions.
Type 'license()' or 'licence()' for distribution details.
R is a collaborative project with many contributors.
Type 'contributors()' for more information and
'citation()' on how to cite R or R packages in publications.
Type 'demo()' for some demos, 'help()' for on-line help, or
'help.start()' for an HTML browser interface to help.
Type 'q()' to quit R.
> if (requireNamespace("spelling", quietly = TRUE)) {
+ spelling::spell_check_test(
+ vignettes = TRUE, error = FALSE,
+ skip_on_cran = TRUE
+ )
+ }
NULL
>
> proc.time()
user system elapsed
0.174 0.047 0.207
tidytof.Rcheck/tests/testthat.Rout
R version 4.4.3 (2025-02-28) -- "Trophy Case"
Copyright (C) 2025 The R Foundation for Statistical Computing
Platform: aarch64-unknown-linux-gnu
R is free software and comes with ABSOLUTELY NO WARRANTY.
You are welcome to redistribute it under certain conditions.
Type 'license()' or 'licence()' for distribution details.
R is a collaborative project with many contributors.
Type 'contributors()' for more information and
'citation()' on how to cite R or R packages in publications.
Type 'demo()' for some demos, 'help()' for on-line help, or
'help.start()' for an HTML browser interface to help.
Type 'q()' to quit R.
> Sys.setenv(R_TESTS="")
> library(testthat)
> library(tidytof)
Attaching package: 'tidytof'
The following object is masked from 'package:testthat':
matches
> test_check("tidytof")
Attaching package: 'dplyr'
The following object is masked from 'package:testthat':
matches
The following objects are masked from 'package:stats':
filter, lag
The following objects are masked from 'package:base':
intersect, setdiff, setequal, union
Attaching package: 'purrr'
The following object is masked from 'package:testthat':
is_null
Attaching package: 'tidyr'
The following object is masked from 'package:testthat':
matches
Loading required namespace: diffcyt
Attaching package: 'readr'
The following objects are masked from 'package:testthat':
edition_get, local_edition
[ FAIL 0 | WARN 0 | SKIP 0 | PASS 709 ]
>
> proc.time()
user system elapsed
265.147 3.669 268.187
tidytof.Rcheck/tidytof-Ex.timings
| name | user | system | elapsed | |
| as_SingleCellExperiment | 0.001 | 0.000 | 0.000 | |
| as_flowFrame | 0 | 0 | 0 | |
| as_flowSet | 0.000 | 0.000 | 0.001 | |
| as_seurat | 0 | 0 | 0 | |
| as_tof_tbl | 0.060 | 0.008 | 0.070 | |
| make_flowcore_annotated_data_frame | 0.000 | 0.000 | 0.001 | |
| reexports | 0 | 0 | 0 | |
| rev_asinh | 0 | 0 | 0 | |
| tidytof_example_data | 0.002 | 0.000 | 0.002 | |
| tof_analyze_abundance | 0 | 0 | 0 | |
| tof_analyze_abundance_diffcyt | 0.001 | 0.000 | 0.000 | |
| tof_analyze_abundance_glmm | 0 | 0 | 0 | |
| tof_analyze_abundance_ttest | 0 | 0 | 0 | |
| tof_analyze_expression | 0 | 0 | 0 | |
| tof_analyze_expression_diffcyt | 0.000 | 0.000 | 0.001 | |
| tof_analyze_expression_lmm | 0.001 | 0.000 | 0.000 | |
| tof_analyze_expression_ttest | 0 | 0 | 0 | |
| tof_annotate_clusters | 0.100 | 0.028 | 0.129 | |
| tof_apply_classifier | 0 | 0 | 0 | |
| tof_assess_channels | 0.109 | 0.000 | 0.109 | |
| tof_assess_clusters_distance | 0.548 | 0.076 | 0.625 | |
| tof_assess_clusters_entropy | 0.912 | 0.004 | 0.918 | |
| tof_assess_clusters_knn | 10.943 | 0.143 | 11.117 | |
| tof_assess_flow_rate | 0.928 | 0.016 | 0.946 | |
| tof_assess_flow_rate_tibble | 0.225 | 0.000 | 0.226 | |
| tof_assess_model | 0.417 | 0.004 | 0.422 | |
| tof_batch_correct | 0 | 0 | 0 | |
| tof_batch_correct_quantile | 0 | 0 | 0 | |
| tof_batch_correct_quantile_tibble | 0 | 0 | 0 | |
| tof_batch_correct_rescale | 0 | 0 | 0 | |
| tof_calculate_flow_rate | 0.014 | 0.001 | 0.016 | |
| tof_cluster | 0.443 | 0.008 | 0.452 | |
| tof_cluster_ddpr | 0.228 | 0.028 | 0.256 | |
| tof_cluster_flowsom | 5.864 | 0.092 | 5.974 | |
| tof_cluster_kmeans | 0.039 | 0.000 | 0.039 | |
| tof_cluster_phenograph | 1.485 | 0.003 | 1.492 | |
| tof_cosine_dist | 0 | 0 | 0 | |
| tof_create_grid | 0.060 | 0.004 | 0.065 | |
| tof_downsample | 0.194 | 0.004 | 0.199 | |
| tof_downsample_constant | 0.079 | 0.000 | 0.080 | |
| tof_downsample_density | 0.594 | 0.000 | 0.595 | |
| tof_downsample_prop | 0.086 | 0.004 | 0.090 | |
| tof_estimate_density | 0.392 | 0.008 | 0.401 | |
| tof_extract_central_tendency | 0.229 | 0.000 | 0.229 | |
| tof_extract_emd | 1.199 | 0.016 | 1.219 | |
| tof_extract_features | 0.731 | 0.004 | 0.738 | |
| tof_extract_jsd | 1.302 | 0.052 | 1.361 | |
| tof_extract_proportion | 0.157 | 0.000 | 0.158 | |
| tof_extract_threshold | 0.208 | 0.000 | 0.209 | |
| tof_find_knn | 0.182 | 0.024 | 0.206 | |
| tof_generate_palette | 0.001 | 0.000 | 0.000 | |
| tof_get_model_mixture | 0.285 | 0.000 | 0.286 | |
| tof_get_model_outcomes | 0.281 | 0.000 | 0.283 | |
| tof_get_model_penalty | 0.293 | 0.000 | 0.294 | |
| tof_get_model_training_data | 0.332 | 0.000 | 0.333 | |
| tof_get_model_type | 0.295 | 0.000 | 0.295 | |
| tof_get_model_x | 0.294 | 0.004 | 0.299 | |
| tof_get_model_y | 0.291 | 0.000 | 0.291 | |
| tof_get_panel | 0.048 | 0.000 | 0.048 | |
| tof_log_rank_test | 0 | 0 | 0 | |
| tof_make_knn_graph | 0 | 0 | 0 | |
| tof_make_roc_curve | 0.412 | 0.000 | 0.413 | |
| tof_metacluster | 0.955 | 0.008 | 0.965 | |
| tof_metacluster_consensus | 0.385 | 0.000 | 0.385 | |
| tof_metacluster_flowsom | 0.974 | 0.004 | 0.980 | |
| tof_metacluster_hierarchical | 0.065 | 0.000 | 0.065 | |
| tof_metacluster_kmeans | 0.068 | 0.000 | 0.068 | |
| tof_metacluster_phenograph | 0.09 | 0.00 | 0.09 | |
| tof_plot_cells_density | 0.044 | 0.000 | 0.044 | |
| tof_plot_cells_embedding | 5.725 | 0.020 | 5.766 | |
| tof_plot_cells_layout | 7.591 | 0.008 | 7.608 | |
| tof_plot_cells_scatter | 0.003 | 0.000 | 0.003 | |
| tof_plot_clusters_heatmap | 0.081 | 0.000 | 0.081 | |
| tof_plot_clusters_mst | 0.264 | 0.012 | 0.277 | |
| tof_plot_clusters_volcano | 0.041 | 0.003 | 0.045 | |
| tof_plot_model | 0.763 | 0.017 | 0.782 | |
| tof_plot_sample_features | 0.129 | 0.000 | 0.130 | |
| tof_plot_sample_heatmap | 0.076 | 0.000 | 0.076 | |
| tof_postprocess | 0.119 | 0.003 | 0.123 | |
| tof_predict | 0.326 | 0.000 | 0.327 | |
| tof_preprocess | 0.207 | 0.000 | 0.207 | |
| tof_read_data | 0.117 | 0.001 | 0.117 | |
| tof_reduce_dimensions | 2.531 | 0.027 | 2.572 | |
| tof_reduce_pca | 0.206 | 0.000 | 0.206 | |
| tof_reduce_tsne | 1.355 | 0.000 | 1.357 | |
| tof_reduce_umap | 3.424 | 0.016 | 3.456 | |
| tof_set_panel | 0.096 | 0.000 | 0.096 | |
| tof_spade_density | 0.496 | 0.004 | 0.501 | |
| tof_split_data | 0.057 | 0.004 | 0.061 | |
| tof_split_tidytof_reduced_dimensions | 0 | 0 | 0 | |
| tof_train_model | 2.329 | 0.000 | 2.333 | |
| tof_transform | 0.197 | 0.000 | 0.198 | |
| tof_upsample | 0.312 | 0.000 | 0.312 | |
| tof_upsample_distance | 0.462 | 0.000 | 0.462 | |
| tof_upsample_neighbor | 0.067 | 0.000 | 0.067 | |
| tof_write_data | 0 | 0 | 0 | |
| tof_write_fcs | 0 | 0 | 0 | |
| where | 0 | 0 | 0 | |