| Back to Multiple platform build/check report for BioC 3.20: simplified long |
|
This page was generated on 2025-04-02 19:29 -0400 (Wed, 02 Apr 2025).
| Hostname | OS | Arch (*) | R version | Installed pkgs |
|---|---|---|---|---|
| nebbiolo2 | Linux (Ubuntu 24.04.1 LTS) | x86_64 | 4.4.3 (2025-02-28) -- "Trophy Case" | 4764 |
| palomino8 | Windows Server 2022 Datacenter | x64 | 4.4.3 (2025-02-28 ucrt) -- "Trophy Case" | 4495 |
| merida1 | macOS 12.7.5 Monterey | x86_64 | 4.4.3 (2025-02-28) -- "Trophy Case" | 4522 |
| kjohnson1 | macOS 13.6.6 Ventura | arm64 | 4.4.3 (2025-02-28) -- "Trophy Case" | 4449 |
| taishan | Linux (openEuler 24.03 LTS) | aarch64 | 4.4.3 (2025-02-28) -- "Trophy Case" | 4426 |
| Click on any hostname to see more info about the system (e.g. compilers) (*) as reported by 'uname -p', except on Windows and Mac OS X | ||||
| Package 2147/2289 | Hostname | OS / Arch | INSTALL | BUILD | CHECK | BUILD BIN | ||||||||
| tidytof 1.0.0 (landing page) Timothy Keyes
| nebbiolo2 | Linux (Ubuntu 24.04.1 LTS) / x86_64 | OK | OK | OK | |||||||||
| palomino8 | Windows Server 2022 Datacenter / x64 | OK | OK | OK | OK | |||||||||
| merida1 | macOS 12.7.5 Monterey / x86_64 | OK | OK | OK | OK | |||||||||
| kjohnson1 | macOS 13.6.6 Ventura / arm64 | OK | OK | OK | OK | |||||||||
| taishan | Linux (openEuler 24.03 LTS) / aarch64 | OK | OK | OK | ||||||||||
|
To the developers/maintainers of the tidytof package: - Allow up to 24 hours (and sometimes 48 hours) for your latest push to git@git.bioconductor.org:packages/tidytof.git to reflect on this report. See Troubleshooting Build Report for more information. - Use the following Renviron settings to reproduce errors and warnings. - If 'R CMD check' started to fail recently on the Linux builder(s) over a missing dependency, add the missing dependency to 'Suggests:' in your DESCRIPTION file. See Renviron.bioc for more information. |
| Package: tidytof |
| Version: 1.0.0 |
| Command: /home/biocbuild/bbs-3.20-bioc/R/bin/R CMD check --install=check:tidytof.install-out.txt --library=/home/biocbuild/bbs-3.20-bioc/R/site-library --timings tidytof_1.0.0.tar.gz |
| StartedAt: 2025-04-01 02:56:36 -0400 (Tue, 01 Apr 2025) |
| EndedAt: 2025-04-01 03:07:59 -0400 (Tue, 01 Apr 2025) |
| EllapsedTime: 682.7 seconds |
| RetCode: 0 |
| Status: OK |
| CheckDir: tidytof.Rcheck |
| Warnings: 0 |
##############################################################################
##############################################################################
###
### Running command:
###
### /home/biocbuild/bbs-3.20-bioc/R/bin/R CMD check --install=check:tidytof.install-out.txt --library=/home/biocbuild/bbs-3.20-bioc/R/site-library --timings tidytof_1.0.0.tar.gz
###
##############################################################################
##############################################################################
* using log directory ‘/home/biocbuild/bbs-3.20-bioc/meat/tidytof.Rcheck’
* using R version 4.4.3 (2025-02-28)
* using platform: x86_64-pc-linux-gnu
* R was compiled by
gcc (Ubuntu 13.3.0-6ubuntu2~24.04) 13.3.0
GNU Fortran (Ubuntu 13.3.0-6ubuntu2~24.04) 13.3.0
* running under: Ubuntu 24.04.2 LTS
* using session charset: UTF-8
* checking for file ‘tidytof/DESCRIPTION’ ... OK
* checking extension type ... Package
* this is package ‘tidytof’ version ‘1.0.0’
* package encoding: UTF-8
* checking package namespace information ... OK
* checking package dependencies ... OK
* checking if this is a source package ... OK
* checking if there is a namespace ... OK
* checking for hidden files and directories ... OK
* checking for portable file names ... OK
* checking for sufficient/correct file permissions ... OK
* checking whether package ‘tidytof’ can be installed ... OK
* used C++ compiler: ‘g++ (Ubuntu 13.3.0-6ubuntu2~24.04) 13.3.0’
* checking installed package size ... NOTE
installed size is 5.2Mb
sub-directories of 1Mb or more:
help 2.2Mb
libs 1.2Mb
* checking package directory ... OK
* checking ‘build’ directory ... OK
* checking DESCRIPTION meta-information ... OK
* checking top-level files ... OK
* checking for left-over files ... OK
* checking index information ... OK
* checking package subdirectories ... OK
* checking code files for non-ASCII characters ... OK
* checking R files for syntax errors ... OK
* checking whether the package can be loaded ... OK
* checking whether the package can be loaded with stated dependencies ... OK
* checking whether the package can be unloaded cleanly ... OK
* checking whether the namespace can be loaded with stated dependencies ... OK
* checking whether the namespace can be unloaded cleanly ... OK
* checking loading without being on the library search path ... OK
* checking dependencies in R code ... OK
* checking S3 generic/method consistency ... OK
* checking replacement functions ... OK
* checking foreign function calls ... OK
* checking R code for possible problems ... OK
* checking Rd files ... OK
* checking Rd metadata ... OK
* checking Rd cross-references ... OK
* checking for missing documentation entries ... OK
* checking for code/documentation mismatches ... OK
* checking Rd \usage sections ... OK
* checking Rd contents ... OK
* checking for unstated dependencies in examples ... OK
* checking contents of ‘data’ directory ... OK
* checking data for non-ASCII characters ... OK
* checking data for ASCII and uncompressed saves ... OK
* checking R/sysdata.rda ... OK
* checking line endings in C/C++/Fortran sources/headers ... OK
* checking compiled code ... NOTE
Note: information on .o files is not available
* checking files in ‘vignettes’ ... OK
* checking examples ... OK
Examples with CPU (user + system) or elapsed time > 5s
user system elapsed
tof_assess_clusters_knn 7.498 0.684 8.183
* checking for unstated dependencies in ‘tests’ ... OK
* checking tests ...
Running ‘spelling.R’
Running ‘testthat.R’
OK
* checking for unstated dependencies in vignettes ... OK
* checking package vignettes ... OK
* checking re-building of vignette outputs ... OK
* checking PDF version of manual ... OK
* DONE
Status: 2 NOTEs
See
‘/home/biocbuild/bbs-3.20-bioc/meat/tidytof.Rcheck/00check.log’
for details.
tidytof.Rcheck/00install.out
############################################################################## ############################################################################## ### ### Running command: ### ### /home/biocbuild/bbs-3.20-bioc/R/bin/R CMD INSTALL tidytof ### ############################################################################## ############################################################################## * installing to library ‘/home/biocbuild/bbs-3.20-bioc/R/site-library’ * installing *source* package ‘tidytof’ ... ** using staged installation ** libs using C++ compiler: ‘g++ (Ubuntu 13.3.0-6ubuntu2~24.04) 13.3.0’ g++ -std=gnu++17 -I"/home/biocbuild/bbs-3.20-bioc/R/include" -DNDEBUG -I'/home/biocbuild/bbs-3.20-bioc/R/site-library/Rcpp/include' -I/usr/local/include -fpic -g -O2 -Wall -c RcppExports.cpp -o RcppExports.o g++ -std=gnu++17 -I"/home/biocbuild/bbs-3.20-bioc/R/include" -DNDEBUG -I'/home/biocbuild/bbs-3.20-bioc/R/site-library/Rcpp/include' -I/usr/local/include -fpic -g -O2 -Wall -c code.cpp -o code.o g++ -std=gnu++17 -shared -L/home/biocbuild/bbs-3.20-bioc/R/lib -L/usr/local/lib -o tidytof.so RcppExports.o code.o -L/home/biocbuild/bbs-3.20-bioc/R/lib -lR installing to /home/biocbuild/bbs-3.20-bioc/R/site-library/00LOCK-tidytof/00new/tidytof/libs ** R ** data ** inst ** byte-compile and prepare package for lazy loading ** help *** installing help indices *** copying figures ** building package indices ** installing vignettes ** testing if installed package can be loaded from temporary location ** checking absolute paths in shared objects and dynamic libraries ** testing if installed package can be loaded from final location ** testing if installed package keeps a record of temporary installation path * DONE (tidytof)
tidytof.Rcheck/tests/spelling.Rout
R version 4.4.3 (2025-02-28) -- "Trophy Case"
Copyright (C) 2025 The R Foundation for Statistical Computing
Platform: x86_64-pc-linux-gnu
R is free software and comes with ABSOLUTELY NO WARRANTY.
You are welcome to redistribute it under certain conditions.
Type 'license()' or 'licence()' for distribution details.
R is a collaborative project with many contributors.
Type 'contributors()' for more information and
'citation()' on how to cite R or R packages in publications.
Type 'demo()' for some demos, 'help()' for on-line help, or
'help.start()' for an HTML browser interface to help.
Type 'q()' to quit R.
> if (requireNamespace("spelling", quietly = TRUE)) {
+ spelling::spell_check_test(
+ vignettes = TRUE, error = FALSE,
+ skip_on_cran = TRUE
+ )
+ }
NULL
>
> proc.time()
user system elapsed
0.141 0.030 0.158
tidytof.Rcheck/tests/testthat.Rout
R version 4.4.3 (2025-02-28) -- "Trophy Case"
Copyright (C) 2025 The R Foundation for Statistical Computing
Platform: x86_64-pc-linux-gnu
R is free software and comes with ABSOLUTELY NO WARRANTY.
You are welcome to redistribute it under certain conditions.
Type 'license()' or 'licence()' for distribution details.
R is a collaborative project with many contributors.
Type 'contributors()' for more information and
'citation()' on how to cite R or R packages in publications.
Type 'demo()' for some demos, 'help()' for on-line help, or
'help.start()' for an HTML browser interface to help.
Type 'q()' to quit R.
> Sys.setenv(R_TESTS="")
> library(testthat)
> library(tidytof)
Attaching package: 'tidytof'
The following object is masked from 'package:testthat':
matches
> test_check("tidytof")
Attaching package: 'dplyr'
The following object is masked from 'package:testthat':
matches
The following objects are masked from 'package:stats':
filter, lag
The following objects are masked from 'package:base':
intersect, setdiff, setequal, union
Attaching package: 'purrr'
The following object is masked from 'package:testthat':
is_null
Attaching package: 'tidyr'
The following object is masked from 'package:testthat':
matches
Loading required namespace: diffcyt
Attaching package: 'readr'
The following objects are masked from 'package:testthat':
edition_get, local_edition
[ FAIL 0 | WARN 0 | SKIP 0 | PASS 709 ]
>
> proc.time()
user system elapsed
190.600 3.328 191.484
tidytof.Rcheck/tidytof-Ex.timings
| name | user | system | elapsed | |
| as_SingleCellExperiment | 0 | 0 | 0 | |
| as_flowFrame | 0 | 0 | 0 | |
| as_flowSet | 0 | 0 | 0 | |
| as_seurat | 0.001 | 0.000 | 0.000 | |
| as_tof_tbl | 0.047 | 0.007 | 0.055 | |
| make_flowcore_annotated_data_frame | 0 | 0 | 0 | |
| reexports | 0 | 0 | 0 | |
| rev_asinh | 0.000 | 0.000 | 0.001 | |
| tidytof_example_data | 0.001 | 0.000 | 0.002 | |
| tof_analyze_abundance | 0 | 0 | 0 | |
| tof_analyze_abundance_diffcyt | 0 | 0 | 0 | |
| tof_analyze_abundance_glmm | 0 | 0 | 0 | |
| tof_analyze_abundance_ttest | 0 | 0 | 0 | |
| tof_analyze_expression | 0 | 0 | 0 | |
| tof_analyze_expression_diffcyt | 0 | 0 | 0 | |
| tof_analyze_expression_lmm | 0 | 0 | 0 | |
| tof_analyze_expression_ttest | 0 | 0 | 0 | |
| tof_annotate_clusters | 0.074 | 0.027 | 0.100 | |
| tof_apply_classifier | 0 | 0 | 0 | |
| tof_assess_channels | 0.076 | 0.012 | 0.087 | |
| tof_assess_clusters_distance | 0.411 | 0.054 | 0.465 | |
| tof_assess_clusters_entropy | 0.640 | 0.112 | 0.751 | |
| tof_assess_clusters_knn | 7.498 | 0.684 | 8.183 | |
| tof_assess_flow_rate | 0.622 | 0.055 | 0.677 | |
| tof_assess_flow_rate_tibble | 0.154 | 0.001 | 0.155 | |
| tof_assess_model | 0.291 | 0.009 | 0.301 | |
| tof_batch_correct | 0 | 0 | 0 | |
| tof_batch_correct_quantile | 0 | 0 | 0 | |
| tof_batch_correct_quantile_tibble | 0 | 0 | 0 | |
| tof_batch_correct_rescale | 0 | 0 | 0 | |
| tof_calculate_flow_rate | 0.011 | 0.000 | 0.011 | |
| tof_cluster | 0.403 | 0.017 | 0.419 | |
| tof_cluster_ddpr | 0.158 | 0.000 | 0.158 | |
| tof_cluster_flowsom | 4.782 | 0.160 | 4.942 | |
| tof_cluster_kmeans | 0.028 | 0.000 | 0.029 | |
| tof_cluster_phenograph | 1.386 | 0.000 | 1.386 | |
| tof_cosine_dist | 0 | 0 | 0 | |
| tof_create_grid | 0.041 | 0.001 | 0.042 | |
| tof_downsample | 0.145 | 0.000 | 0.145 | |
| tof_downsample_constant | 0.057 | 0.000 | 0.057 | |
| tof_downsample_density | 0.544 | 0.026 | 0.570 | |
| tof_downsample_prop | 0.055 | 0.003 | 0.057 | |
| tof_estimate_density | 0.388 | 0.010 | 0.398 | |
| tof_extract_central_tendency | 0.143 | 0.001 | 0.143 | |
| tof_extract_emd | 0.758 | 0.011 | 0.769 | |
| tof_extract_features | 0.497 | 0.001 | 0.498 | |
| tof_extract_jsd | 0.816 | 0.019 | 0.835 | |
| tof_extract_proportion | 0.111 | 0.000 | 0.111 | |
| tof_extract_threshold | 0.152 | 0.000 | 0.152 | |
| tof_find_knn | 0.183 | 0.027 | 0.210 | |
| tof_generate_palette | 0 | 0 | 0 | |
| tof_get_model_mixture | 0.189 | 0.016 | 0.205 | |
| tof_get_model_outcomes | 0.188 | 0.001 | 0.189 | |
| tof_get_model_penalty | 0.187 | 0.008 | 0.195 | |
| tof_get_model_training_data | 0.21 | 0.00 | 0.21 | |
| tof_get_model_type | 0.188 | 0.000 | 0.189 | |
| tof_get_model_x | 0.181 | 0.000 | 0.182 | |
| tof_get_model_y | 0.185 | 0.000 | 0.185 | |
| tof_get_panel | 0.032 | 0.002 | 0.034 | |
| tof_log_rank_test | 0.001 | 0.000 | 0.000 | |
| tof_make_knn_graph | 0 | 0 | 0 | |
| tof_make_roc_curve | 0.268 | 0.000 | 0.268 | |
| tof_metacluster | 0.604 | 0.006 | 0.611 | |
| tof_metacluster_consensus | 0.252 | 0.034 | 0.285 | |
| tof_metacluster_flowsom | 0.645 | 0.014 | 0.659 | |
| tof_metacluster_hierarchical | 0.043 | 0.001 | 0.044 | |
| tof_metacluster_kmeans | 0.045 | 0.000 | 0.045 | |
| tof_metacluster_phenograph | 0.061 | 0.003 | 0.064 | |
| tof_plot_cells_density | 0.028 | 0.004 | 0.032 | |
| tof_plot_cells_embedding | 3.254 | 0.009 | 3.268 | |
| tof_plot_cells_layout | 2.658 | 0.000 | 2.658 | |
| tof_plot_cells_scatter | 0.002 | 0.000 | 0.003 | |
| tof_plot_clusters_heatmap | 0.05 | 0.00 | 0.05 | |
| tof_plot_clusters_mst | 0.170 | 0.001 | 0.172 | |
| tof_plot_clusters_volcano | 0.028 | 0.000 | 0.028 | |
| tof_plot_model | 0.505 | 0.001 | 0.506 | |
| tof_plot_sample_features | 0.086 | 0.000 | 0.086 | |
| tof_plot_sample_heatmap | 0.053 | 0.000 | 0.053 | |
| tof_postprocess | 0.080 | 0.001 | 0.080 | |
| tof_predict | 0.212 | 0.000 | 0.212 | |
| tof_preprocess | 0.124 | 0.000 | 0.125 | |
| tof_read_data | 0.072 | 0.000 | 0.072 | |
| tof_reduce_dimensions | 2.022 | 0.028 | 2.048 | |
| tof_reduce_pca | 0.13 | 0.00 | 0.13 | |
| tof_reduce_tsne | 0.933 | 0.002 | 0.936 | |
| tof_reduce_umap | 3.165 | 0.095 | 3.221 | |
| tof_set_panel | 0.066 | 0.001 | 0.067 | |
| tof_spade_density | 0.515 | 0.002 | 0.517 | |
| tof_split_data | 0.044 | 0.000 | 0.044 | |
| tof_split_tidytof_reduced_dimensions | 0 | 0 | 0 | |
| tof_train_model | 1.310 | 0.001 | 1.312 | |
| tof_transform | 0.122 | 0.000 | 0.122 | |
| tof_upsample | 0.206 | 0.000 | 0.205 | |
| tof_upsample_distance | 0.330 | 0.001 | 0.331 | |
| tof_upsample_neighbor | 0.054 | 0.000 | 0.054 | |
| tof_write_data | 0 | 0 | 0 | |
| tof_write_fcs | 0 | 0 | 0 | |
| where | 0 | 0 | 0 | |