| Back to Multiple platform build/check report for BioC 3.20: simplified long |
|
This page was generated on 2025-04-02 19:33 -0400 (Wed, 02 Apr 2025).
| Hostname | OS | Arch (*) | R version | Installed pkgs |
|---|---|---|---|---|
| nebbiolo2 | Linux (Ubuntu 24.04.1 LTS) | x86_64 | 4.4.3 (2025-02-28) -- "Trophy Case" | 4764 |
| palomino8 | Windows Server 2022 Datacenter | x64 | 4.4.3 (2025-02-28 ucrt) -- "Trophy Case" | 4495 |
| merida1 | macOS 12.7.5 Monterey | x86_64 | 4.4.3 (2025-02-28) -- "Trophy Case" | 4522 |
| kjohnson1 | macOS 13.6.6 Ventura | arm64 | 4.4.3 (2025-02-28) -- "Trophy Case" | 4449 |
| taishan | Linux (openEuler 24.03 LTS) | aarch64 | 4.4.3 (2025-02-28) -- "Trophy Case" | 4426 |
| Click on any hostname to see more info about the system (e.g. compilers) (*) as reported by 'uname -p', except on Windows and Mac OS X | ||||
| Package 2147/2289 | Hostname | OS / Arch | INSTALL | BUILD | CHECK | BUILD BIN | ||||||||
| tidytof 1.0.0 (landing page) Timothy Keyes
| nebbiolo2 | Linux (Ubuntu 24.04.1 LTS) / x86_64 | OK | OK | OK | |||||||||
| palomino8 | Windows Server 2022 Datacenter / x64 | OK | OK | OK | OK | |||||||||
| merida1 | macOS 12.7.5 Monterey / x86_64 | OK | OK | OK | OK | |||||||||
| kjohnson1 | macOS 13.6.6 Ventura / arm64 | OK | OK | OK | OK | |||||||||
| taishan | Linux (openEuler 24.03 LTS) / aarch64 | OK | OK | OK | ||||||||||
|
To the developers/maintainers of the tidytof package: - Allow up to 24 hours (and sometimes 48 hours) for your latest push to git@git.bioconductor.org:packages/tidytof.git to reflect on this report. See Troubleshooting Build Report for more information. - Use the following Renviron settings to reproduce errors and warnings. - If 'R CMD check' started to fail recently on the Linux builder(s) over a missing dependency, add the missing dependency to 'Suggests:' in your DESCRIPTION file. See Renviron.bioc for more information. |
| Package: tidytof |
| Version: 1.0.0 |
| Command: /Library/Frameworks/R.framework/Resources/bin/R CMD check --install=check:tidytof.install-out.txt --library=/Library/Frameworks/R.framework/Resources/library --no-vignettes --timings tidytof_1.0.0.tar.gz |
| StartedAt: 2025-04-01 10:17:19 -0400 (Tue, 01 Apr 2025) |
| EndedAt: 2025-04-01 10:30:14 -0400 (Tue, 01 Apr 2025) |
| EllapsedTime: 774.5 seconds |
| RetCode: 0 |
| Status: OK |
| CheckDir: tidytof.Rcheck |
| Warnings: 0 |
##############################################################################
##############################################################################
###
### Running command:
###
### /Library/Frameworks/R.framework/Resources/bin/R CMD check --install=check:tidytof.install-out.txt --library=/Library/Frameworks/R.framework/Resources/library --no-vignettes --timings tidytof_1.0.0.tar.gz
###
##############################################################################
##############################################################################
* using log directory ‘/Users/biocbuild/bbs-3.20-bioc/meat/tidytof.Rcheck’
* using R version 4.4.3 (2025-02-28)
* using platform: x86_64-apple-darwin20
* R was compiled by
Apple clang version 14.0.0 (clang-1400.0.29.202)
GNU Fortran (GCC) 12.2.0
* running under: macOS Monterey 12.7.6
* using session charset: UTF-8
* using option ‘--no-vignettes’
* checking for file ‘tidytof/DESCRIPTION’ ... OK
* checking extension type ... Package
* this is package ‘tidytof’ version ‘1.0.0’
* package encoding: UTF-8
* checking package namespace information ... OK
* checking package dependencies ... OK
* checking if this is a source package ... OK
* checking if there is a namespace ... OK
* checking for hidden files and directories ... OK
* checking for portable file names ... OK
* checking for sufficient/correct file permissions ... OK
* checking whether package ‘tidytof’ can be installed ... OK
* used C++ compiler: ‘Apple clang version 14.0.0 (clang-1400.0.29.202)’
* used SDK: ‘MacOSX11.3.sdk’
* checking installed package size ... OK
* checking package directory ... OK
* checking ‘build’ directory ... OK
* checking DESCRIPTION meta-information ... OK
* checking top-level files ... OK
* checking for left-over files ... OK
* checking index information ... OK
* checking package subdirectories ... OK
* checking code files for non-ASCII characters ... OK
* checking R files for syntax errors ... OK
* checking whether the package can be loaded ... OK
* checking whether the package can be loaded with stated dependencies ... OK
* checking whether the package can be unloaded cleanly ... OK
* checking whether the namespace can be loaded with stated dependencies ... OK
* checking whether the namespace can be unloaded cleanly ... OK
* checking dependencies in R code ... OK
* checking S3 generic/method consistency ... OK
* checking replacement functions ... OK
* checking foreign function calls ... OK
* checking R code for possible problems ... OK
* checking Rd files ... OK
* checking Rd metadata ... OK
* checking Rd cross-references ... OK
* checking for missing documentation entries ... OK
* checking for code/documentation mismatches ... OK
* checking Rd \usage sections ... OK
* checking Rd contents ... OK
* checking for unstated dependencies in examples ... OK
* checking contents of ‘data’ directory ... OK
* checking data for non-ASCII characters ... OK
* checking data for ASCII and uncompressed saves ... OK
* checking R/sysdata.rda ... OK
* checking line endings in C/C++/Fortran sources/headers ... OK
* checking compiled code ... NOTE
Note: information on .o files is not available
* checking files in ‘vignettes’ ... OK
* checking examples ... OK
Examples with CPU (user + system) or elapsed time > 5s
user system elapsed
tof_assess_clusters_knn 18.203 0.092 18.742
tof_cluster_flowsom 9.316 1.053 10.524
tof_plot_cells_layout 6.662 0.025 6.904
tof_plot_cells_embedding 5.556 0.166 5.857
* checking for unstated dependencies in ‘tests’ ... OK
* checking tests ...
Running ‘spelling.R’
Running ‘testthat.R’
OK
* checking for unstated dependencies in vignettes ... OK
* checking package vignettes ... OK
* checking running R code from vignettes ... SKIPPED
* checking re-building of vignette outputs ... SKIPPED
* checking PDF version of manual ... OK
* DONE
Status: 1 NOTE
See
‘/Users/biocbuild/bbs-3.20-bioc/meat/tidytof.Rcheck/00check.log’
for details.
tidytof.Rcheck/00install.out
############################################################################## ############################################################################## ### ### Running command: ### ### /Library/Frameworks/R.framework/Resources/bin/R CMD INSTALL tidytof ### ############################################################################## ############################################################################## * installing to library ‘/Library/Frameworks/R.framework/Versions/4.4-x86_64/Resources/library’ * installing *source* package ‘tidytof’ ... ** using staged installation ** libs using C++ compiler: ‘Apple clang version 14.0.0 (clang-1400.0.29.202)’ using SDK: ‘MacOSX11.3.sdk’ clang++ -arch x86_64 -std=gnu++17 -I"/Library/Frameworks/R.framework/Resources/include" -DNDEBUG -I'/Library/Frameworks/R.framework/Versions/4.4-x86_64/Resources/library/Rcpp/include' -I/opt/R/x86_64/include -fPIC -falign-functions=64 -Wall -g -O2 -c RcppExports.cpp -o RcppExports.o clang++ -arch x86_64 -std=gnu++17 -I"/Library/Frameworks/R.framework/Resources/include" -DNDEBUG -I'/Library/Frameworks/R.framework/Versions/4.4-x86_64/Resources/library/Rcpp/include' -I/opt/R/x86_64/include -fPIC -falign-functions=64 -Wall -g -O2 -c code.cpp -o code.o clang++ -arch x86_64 -std=gnu++17 -dynamiclib -Wl,-headerpad_max_install_names -undefined dynamic_lookup -L/Library/Frameworks/R.framework/Resources/lib -L/opt/R/x86_64/lib -o tidytof.so RcppExports.o code.o -F/Library/Frameworks/R.framework/.. -framework R -Wl,-framework -Wl,CoreFoundation installing to /Library/Frameworks/R.framework/Versions/4.4-x86_64/Resources/library/00LOCK-tidytof/00new/tidytof/libs ** R ** data ** inst ** byte-compile and prepare package for lazy loading ** help *** installing help indices *** copying figures ** building package indices ** installing vignettes ** testing if installed package can be loaded from temporary location ** checking absolute paths in shared objects and dynamic libraries ** testing if installed package can be loaded from final location ** testing if installed package keeps a record of temporary installation path * DONE (tidytof)
tidytof.Rcheck/tests/spelling.Rout
R version 4.4.3 (2025-02-28) -- "Trophy Case"
Copyright (C) 2025 The R Foundation for Statistical Computing
Platform: x86_64-apple-darwin20
R is free software and comes with ABSOLUTELY NO WARRANTY.
You are welcome to redistribute it under certain conditions.
Type 'license()' or 'licence()' for distribution details.
R is a collaborative project with many contributors.
Type 'contributors()' for more information and
'citation()' on how to cite R or R packages in publications.
Type 'demo()' for some demos, 'help()' for on-line help, or
'help.start()' for an HTML browser interface to help.
Type 'q()' to quit R.
> if (requireNamespace("spelling", quietly = TRUE)) {
+ spelling::spell_check_test(
+ vignettes = TRUE, error = FALSE,
+ skip_on_cran = TRUE
+ )
+ }
NULL
>
> proc.time()
user system elapsed
0.329 0.109 0.402
tidytof.Rcheck/tests/testthat.Rout
R version 4.4.3 (2025-02-28) -- "Trophy Case"
Copyright (C) 2025 The R Foundation for Statistical Computing
Platform: x86_64-apple-darwin20
R is free software and comes with ABSOLUTELY NO WARRANTY.
You are welcome to redistribute it under certain conditions.
Type 'license()' or 'licence()' for distribution details.
R is a collaborative project with many contributors.
Type 'contributors()' for more information and
'citation()' on how to cite R or R packages in publications.
Type 'demo()' for some demos, 'help()' for on-line help, or
'help.start()' for an HTML browser interface to help.
Type 'q()' to quit R.
> Sys.setenv(R_TESTS="")
> library(testthat)
> library(tidytof)
Attaching package: 'tidytof'
The following object is masked from 'package:testthat':
matches
> test_check("tidytof")
Attaching package: 'dplyr'
The following object is masked from 'package:testthat':
matches
The following objects are masked from 'package:stats':
filter, lag
The following objects are masked from 'package:base':
intersect, setdiff, setequal, union
Attaching package: 'purrr'
The following object is masked from 'package:testthat':
is_null
Attaching package: 'tidyr'
The following object is masked from 'package:testthat':
matches
Loading required namespace: diffcyt
Attaching package: 'readr'
The following objects are masked from 'package:testthat':
edition_get, local_edition
[ FAIL 0 | WARN 0 | SKIP 0 | PASS 709 ]
>
> proc.time()
user system elapsed
380.669 9.803 398.244
tidytof.Rcheck/tidytof-Ex.timings
| name | user | system | elapsed | |
| as_SingleCellExperiment | 0.000 | 0.000 | 0.001 | |
| as_flowFrame | 0.000 | 0.000 | 0.001 | |
| as_flowSet | 0.000 | 0.001 | 0.001 | |
| as_seurat | 0.001 | 0.001 | 0.001 | |
| as_tof_tbl | 0.102 | 0.011 | 0.115 | |
| make_flowcore_annotated_data_frame | 0.000 | 0.001 | 0.001 | |
| reexports | 0.000 | 0.001 | 0.001 | |
| rev_asinh | 0.001 | 0.001 | 0.001 | |
| tidytof_example_data | 0.003 | 0.002 | 0.006 | |
| tof_analyze_abundance | 0.000 | 0.001 | 0.001 | |
| tof_analyze_abundance_diffcyt | 0.001 | 0.000 | 0.000 | |
| tof_analyze_abundance_glmm | 0.000 | 0.000 | 0.001 | |
| tof_analyze_abundance_ttest | 0.000 | 0.000 | 0.001 | |
| tof_analyze_expression | 0.000 | 0.001 | 0.000 | |
| tof_analyze_expression_diffcyt | 0.000 | 0.001 | 0.000 | |
| tof_analyze_expression_lmm | 0.000 | 0.001 | 0.001 | |
| tof_analyze_expression_ttest | 0.000 | 0.001 | 0.001 | |
| tof_annotate_clusters | 0.201 | 0.029 | 0.232 | |
| tof_apply_classifier | 0.001 | 0.001 | 0.000 | |
| tof_assess_channels | 0.171 | 0.021 | 0.194 | |
| tof_assess_clusters_distance | 0.980 | 0.099 | 1.084 | |
| tof_assess_clusters_entropy | 1.818 | 0.011 | 1.837 | |
| tof_assess_clusters_knn | 18.203 | 0.092 | 18.742 | |
| tof_assess_flow_rate | 1.628 | 0.016 | 1.826 | |
| tof_assess_flow_rate_tibble | 0.420 | 0.004 | 0.465 | |
| tof_assess_model | 0.733 | 0.011 | 0.808 | |
| tof_batch_correct | 0 | 0 | 0 | |
| tof_batch_correct_quantile | 0.001 | 0.000 | 0.000 | |
| tof_batch_correct_quantile_tibble | 0 | 0 | 0 | |
| tof_batch_correct_rescale | 0.000 | 0.000 | 0.001 | |
| tof_calculate_flow_rate | 0.028 | 0.002 | 0.032 | |
| tof_cluster | 0.875 | 0.028 | 0.979 | |
| tof_cluster_ddpr | 0.414 | 0.004 | 0.418 | |
| tof_cluster_flowsom | 9.316 | 1.053 | 10.524 | |
| tof_cluster_kmeans | 0.062 | 0.001 | 0.068 | |
| tof_cluster_phenograph | 2.940 | 0.063 | 3.142 | |
| tof_cosine_dist | 0 | 0 | 0 | |
| tof_create_grid | 0.145 | 0.009 | 0.162 | |
| tof_downsample | 0.333 | 0.007 | 0.358 | |
| tof_downsample_constant | 0.146 | 0.002 | 0.152 | |
| tof_downsample_density | 0.946 | 0.007 | 1.002 | |
| tof_downsample_prop | 0.151 | 0.002 | 0.164 | |
| tof_estimate_density | 0.614 | 0.005 | 0.646 | |
| tof_extract_central_tendency | 0.431 | 0.019 | 0.475 | |
| tof_extract_emd | 1.951 | 0.098 | 2.129 | |
| tof_extract_features | 1.288 | 0.026 | 1.362 | |
| tof_extract_jsd | 2.058 | 0.160 | 2.318 | |
| tof_extract_proportion | 0.266 | 0.003 | 0.271 | |
| tof_extract_threshold | 0.339 | 0.002 | 0.346 | |
| tof_find_knn | 0.384 | 0.564 | 1.008 | |
| tof_generate_palette | 0.000 | 0.000 | 0.001 | |
| tof_get_model_mixture | 0.463 | 0.004 | 0.477 | |
| tof_get_model_outcomes | 0.446 | 0.003 | 0.460 | |
| tof_get_model_penalty | 0.478 | 0.006 | 0.506 | |
| tof_get_model_training_data | 0.530 | 0.005 | 0.537 | |
| tof_get_model_type | 0.459 | 0.003 | 0.465 | |
| tof_get_model_x | 0.492 | 0.008 | 0.511 | |
| tof_get_model_y | 0.495 | 0.006 | 0.542 | |
| tof_get_panel | 0.078 | 0.002 | 0.087 | |
| tof_log_rank_test | 0 | 0 | 0 | |
| tof_make_knn_graph | 0 | 0 | 0 | |
| tof_make_roc_curve | 0.692 | 0.005 | 0.741 | |
| tof_metacluster | 1.722 | 0.065 | 1.826 | |
| tof_metacluster_consensus | 0.668 | 0.026 | 0.703 | |
| tof_metacluster_flowsom | 1.836 | 0.061 | 1.958 | |
| tof_metacluster_hierarchical | 0.112 | 0.001 | 0.115 | |
| tof_metacluster_kmeans | 0.119 | 0.002 | 0.122 | |
| tof_metacluster_phenograph | 0.160 | 0.003 | 0.169 | |
| tof_plot_cells_density | 0.069 | 0.002 | 0.073 | |
| tof_plot_cells_embedding | 5.556 | 0.166 | 5.857 | |
| tof_plot_cells_layout | 6.662 | 0.025 | 6.904 | |
| tof_plot_cells_scatter | 0.005 | 0.001 | 0.006 | |
| tof_plot_clusters_heatmap | 0.119 | 0.002 | 0.121 | |
| tof_plot_clusters_mst | 0.407 | 0.004 | 0.413 | |
| tof_plot_clusters_volcano | 0.068 | 0.002 | 0.069 | |
| tof_plot_model | 1.194 | 0.009 | 1.209 | |
| tof_plot_sample_features | 0.220 | 0.002 | 0.223 | |
| tof_plot_sample_heatmap | 0.100 | 0.002 | 0.102 | |
| tof_postprocess | 0.204 | 0.003 | 0.209 | |
| tof_predict | 0.482 | 0.003 | 0.487 | |
| tof_preprocess | 0.346 | 0.004 | 0.355 | |
| tof_read_data | 0.156 | 0.003 | 0.160 | |
| tof_reduce_dimensions | 3.505 | 0.070 | 3.595 | |
| tof_reduce_pca | 0.298 | 0.004 | 0.303 | |
| tof_reduce_tsne | 1.499 | 0.031 | 1.537 | |
| tof_reduce_umap | 4.240 | 0.051 | 4.282 | |
| tof_set_panel | 0.171 | 0.003 | 0.185 | |
| tof_spade_density | 0.760 | 0.007 | 0.780 | |
| tof_split_data | 0.098 | 0.003 | 0.102 | |
| tof_split_tidytof_reduced_dimensions | 0.000 | 0.001 | 0.001 | |
| tof_train_model | 2.982 | 0.024 | 3.038 | |
| tof_transform | 0.314 | 0.004 | 0.322 | |
| tof_upsample | 0.494 | 0.004 | 0.501 | |
| tof_upsample_distance | 1.193 | 0.006 | 1.201 | |
| tof_upsample_neighbor | 0.101 | 0.003 | 0.104 | |
| tof_write_data | 0.000 | 0.001 | 0.001 | |
| tof_write_fcs | 0.000 | 0.001 | 0.000 | |
| where | 0.000 | 0.000 | 0.001 | |