| Back to Multiple platform build/check report for BioC 3.20: simplified long |
|
This page was generated on 2024-11-20 12:07 -0500 (Wed, 20 Nov 2024).
| Hostname | OS | Arch (*) | R version | Installed pkgs |
|---|---|---|---|---|
| teran2 | Linux (Ubuntu 24.04.1 LTS) | x86_64 | 4.4.2 (2024-10-31) -- "Pile of Leaves" | 4481 |
| nebbiolo2 | Linux (Ubuntu 24.04.1 LTS) | x86_64 | 4.4.2 (2024-10-31) -- "Pile of Leaves" | 4479 |
| palomino8 | Windows Server 2022 Datacenter | x64 | 4.4.2 (2024-10-31 ucrt) -- "Pile of Leaves" | 4359 |
| lconway | macOS 12.7.1 Monterey | x86_64 | 4.4.1 (2024-06-14) -- "Race for Your Life" | 4539 |
| kunpeng2 | Linux (openEuler 22.03 LTS-SP1) | aarch64 | 4.4.1 (2024-06-14) -- "Race for Your Life" | 4493 |
| Click on any hostname to see more info about the system (e.g. compilers) (*) as reported by 'uname -p', except on Windows and Mac OS X | ||||
| Package 2009/2289 | Hostname | OS / Arch | INSTALL | BUILD | CHECK | BUILD BIN | ||||||||
| sparrow 1.12.0 (landing page) Steve Lianoglou
| teran2 | Linux (Ubuntu 24.04.1 LTS) / x86_64 | OK | OK | OK | |||||||||
| nebbiolo2 | Linux (Ubuntu 24.04.1 LTS) / x86_64 | OK | OK | OK | ||||||||||
| palomino8 | Windows Server 2022 Datacenter / x64 | OK | OK | OK | OK | |||||||||
| lconway | macOS 12.7.1 Monterey / x86_64 | OK | OK | OK | OK | |||||||||
| kunpeng2 | Linux (openEuler 22.03 LTS-SP1) / aarch64 | OK | OK | OK | ||||||||||
|
To the developers/maintainers of the sparrow package: - Allow up to 24 hours (and sometimes 48 hours) for your latest push to git@git.bioconductor.org:packages/sparrow.git to reflect on this report. See Troubleshooting Build Report for more information. - Use the following Renviron settings to reproduce errors and warnings. - If 'R CMD check' started to fail recently on the Linux builder(s) over a missing dependency, add the missing dependency to 'Suggests:' in your DESCRIPTION file. See Renviron.bioc for more information. |
| Package: sparrow |
| Version: 1.12.0 |
| Command: /Library/Frameworks/R.framework/Resources/bin/R CMD check --install=check:sparrow.install-out.txt --library=/Library/Frameworks/R.framework/Resources/library --no-vignettes --timings sparrow_1.12.0.tar.gz |
| StartedAt: 2024-11-20 02:53:42 -0500 (Wed, 20 Nov 2024) |
| EndedAt: 2024-11-20 03:04:42 -0500 (Wed, 20 Nov 2024) |
| EllapsedTime: 660.2 seconds |
| RetCode: 0 |
| Status: OK |
| CheckDir: sparrow.Rcheck |
| Warnings: 0 |
##############################################################################
##############################################################################
###
### Running command:
###
### /Library/Frameworks/R.framework/Resources/bin/R CMD check --install=check:sparrow.install-out.txt --library=/Library/Frameworks/R.framework/Resources/library --no-vignettes --timings sparrow_1.12.0.tar.gz
###
##############################################################################
##############################################################################
* using log directory ‘/Users/biocbuild/bbs-3.20-bioc/meat/sparrow.Rcheck’
* using R version 4.4.1 (2024-06-14)
* using platform: x86_64-apple-darwin20
* R was compiled by
Apple clang version 14.0.0 (clang-1400.0.29.202)
GNU Fortran (GCC) 12.2.0
* running under: macOS Monterey 12.7.6
* using session charset: UTF-8
* using option ‘--no-vignettes’
* checking for file ‘sparrow/DESCRIPTION’ ... OK
* checking extension type ... Package
* this is package ‘sparrow’ version ‘1.12.0’
* package encoding: UTF-8
* checking package namespace information ... OK
* checking package dependencies ...Warning: unable to access index for repository https://CRAN.R-project.org/src/contrib:
cannot open URL 'https://CRAN.R-project.org/src/contrib/PACKAGES'
OK
* checking if this is a source package ... OK
* checking if there is a namespace ... OK
* checking for hidden files and directories ... OK
* checking for portable file names ... OK
* checking for sufficient/correct file permissions ... OK
* checking whether package ‘sparrow’ can be installed ... OK
* checking installed package size ... OK
* checking package directory ... OK
* checking ‘build’ directory ... OK
* checking DESCRIPTION meta-information ... NOTE
License stub is invalid DCF.
* checking top-level files ... OK
* checking for left-over files ... OK
* checking index information ... OK
* checking package subdirectories ... OK
* checking code files for non-ASCII characters ... OK
* checking R files for syntax errors ... OK
* checking whether the package can be loaded ... OK
* checking whether the package can be loaded with stated dependencies ... OK
* checking whether the package can be unloaded cleanly ... OK
* checking whether the namespace can be loaded with stated dependencies ... OK
* checking whether the namespace can be unloaded cleanly ... OK
* checking whether startup messages can be suppressed ... OK
* checking dependencies in R code ... OK
* checking S3 generic/method consistency ... OK
* checking replacement functions ... OK
* checking foreign function calls ... OK
* checking R code for possible problems ... NOTE
geneSetsStats: no visible binding for global variable ‘direction’
Undefined global functions or variables:
direction
* checking Rd files ... OK
* checking Rd metadata ... OK
* checking Rd cross-references ... OK
* checking for missing documentation entries ... OK
* checking for code/documentation mismatches ... OK
* checking Rd \usage sections ... OK
* checking Rd contents ... OK
* checking for unstated dependencies in examples ... OK
* checking line endings in Makefiles ... OK
* checking for GNU extensions in Makefiles ... OK
* checking include directives in Makefiles ... OK
* checking files in ‘vignettes’ ... OK
* checking examples ... OK
Examples with CPU (user + system) or elapsed time > 5s
user system elapsed
goseq 6.229 0.357 6.616
* checking for unstated dependencies in ‘tests’ ... OK
* checking tests ...
Running ‘testthat.R’
OK
* checking for unstated dependencies in vignettes ... OK
* checking package vignettes ... OK
* checking running R code from vignettes ... SKIPPED
* checking re-building of vignette outputs ... SKIPPED
* checking PDF version of manual ... OK
* DONE
Status: 2 NOTEs
See
‘/Users/biocbuild/bbs-3.20-bioc/meat/sparrow.Rcheck/00check.log’
for details.
sparrow.Rcheck/00install.out
############################################################################## ############################################################################## ### ### Running command: ### ### /Library/Frameworks/R.framework/Resources/bin/R CMD INSTALL sparrow ### ############################################################################## ############################################################################## * installing to library ‘/Library/Frameworks/R.framework/Versions/4.4-x86_64/Resources/library’ * installing *source* package ‘sparrow’ ... ** using staged installation ** R ** inst ** byte-compile and prepare package for lazy loading ** help *** installing help indices *** copying figures ** building package indices ** installing vignettes ** testing if installed package can be loaded from temporary location ** testing if installed package can be loaded from final location ** testing if installed package keeps a record of temporary installation path * DONE (sparrow)
sparrow.Rcheck/tests/testthat.Rout
R version 4.4.1 (2024-06-14) -- "Race for Your Life"
Copyright (C) 2024 The R Foundation for Statistical Computing
Platform: x86_64-apple-darwin20
R is free software and comes with ABSOLUTELY NO WARRANTY.
You are welcome to redistribute it under certain conditions.
Type 'license()' or 'licence()' for distribution details.
R is a collaborative project with many contributors.
Type 'contributors()' for more information and
'citation()' on how to cite R or R packages in publications.
Type 'demo()' for some demos, 'help()' for on-line help, or
'help.start()' for an HTML browser interface to help.
Type 'q()' to quit R.
> library("sparrow")
> library("testthat")
> library("data.table")
> library("dplyr")
Attaching package: 'dplyr'
The following objects are masked from 'package:data.table':
between, first, last
The following object is masked from 'package:testthat':
matches
The following object is masked from 'package:sparrow':
combine
The following objects are masked from 'package:stats':
filter, lag
The following objects are masked from 'package:base':
intersect, setdiff, setequal, union
>
> test_check("sparrow")
Attaching package: 'magrittr'
The following objects are masked from 'package:testthat':
equals, is_less_than, not
[ FAIL 0 | WARN 0 | SKIP 1 | PASS 1493 ]
══ Skipped tests (1) ═══════════════════════════════════════════════════════════
• empty test (1): 'test-MultiGSEAResult.R:3:1'
[ FAIL 0 | WARN 0 | SKIP 1 | PASS 1493 ]
>
> ## Remove temporary files that were generated
> test.dir <- system.file('tests', package = "sparrow")
> pdfs <- dir(test.dir, "\\.pdf$", full.names=TRUE)
> if (length(pdfs)) {
+ unlink(pdfs)
+ }
>
>
> proc.time()
user system elapsed
227.795 17.255 239.949
sparrow.Rcheck/sparrow-Ex.timings
| name | user | system | elapsed | |
| GeneSetDb-class | 0.056 | 0.002 | 0.058 | |
| SparrowResult-utilities | 2.324 | 0.082 | 2.413 | |
| addGeneSetMetadata | 0.039 | 0.001 | 0.040 | |
| annotateGeneSetMembership | 2.608 | 0.118 | 2.733 | |
| calculateIndividualLogFC | 1.090 | 0.030 | 1.121 | |
| collectionMetadata | 0.042 | 0.002 | 0.044 | |
| combine-GeneSetDb-GeneSetDb-method | 0.053 | 0.002 | 0.055 | |
| combine-SparrowResult-SparrowResult-method | 0.104 | 0.020 | 0.125 | |
| conform | 0.281 | 0.016 | 0.297 | |
| conversion | 0.403 | 0.023 | 0.427 | |
| convertIdentifiers | 0.108 | 0.005 | 0.113 | |
| corplot | 0.055 | 0.002 | 0.057 | |
| eigenWeightedMean | 2.341 | 0.065 | 2.412 | |
| examples | 0.224 | 0.052 | 0.276 | |
| failWith | 0 | 0 | 0 | |
| featureIdMap | 0.361 | 0.015 | 0.377 | |
| featureIds | 0.869 | 0.012 | 0.884 | |
| geneSet | 0.053 | 0.003 | 0.056 | |
| geneSetCollectionURLfunction | 0.037 | 0.001 | 0.037 | |
| geneSetSummaryByGenes | 1.908 | 0.091 | 2.003 | |
| geneSets | 0.034 | 0.002 | 0.036 | |
| geneSetsStats | 2.359 | 0.071 | 2.436 | |
| getKeggCollection | 0 | 0 | 0 | |
| getMSigCollection | 0.001 | 0.000 | 0.000 | |
| getPantherCollection | 0.000 | 0.000 | 0.001 | |
| getReactomeCollection | 0 | 0 | 0 | |
| goseq | 6.229 | 0.357 | 6.616 | |
| gsdScore | 0.682 | 0.029 | 0.711 | |
| gskey | 0.002 | 0.000 | 0.002 | |
| hasGeneSet | 0.038 | 0.001 | 0.038 | |
| hasGeneSetCollection | 0.035 | 0.001 | 0.035 | |
| incidenceMatrix | 1.535 | 0.038 | 1.578 | |
| iplot | 0.844 | 0.106 | 0.959 | |
| is.active | 0.267 | 0.046 | 0.316 | |
| logFC | 1.839 | 0.071 | 1.913 | |
| mgheatmap | 0 | 0 | 0 | |
| mgheatmap2 | 0 | 0 | 0 | |
| msg | 0 | 0 | 0 | |
| ora | 0.196 | 0.010 | 0.210 | |
| p.matrix | 0.064 | 0.001 | 0.065 | |
| randomGeneSetDb | 0.058 | 0.006 | 0.066 | |
| renameCollections | 0.049 | 0.001 | 0.049 | |
| renameRows | 0.321 | 0.019 | 0.340 | |
| results | 0.078 | 0.003 | 0.082 | |
| scale_rows | 0.003 | 0.000 | 0.003 | |
| scoreSingleSamples | 3.106 | 0.213 | 3.337 | |
| seas | 4.408 | 0.208 | 4.632 | |
| sparrow_methods | 0.002 | 0.000 | 0.003 | |
| species_info | 0.004 | 0.001 | 0.006 | |
| subset.GeneSetDb | 0.044 | 0.000 | 0.045 | |
| subsetByFeatures | 0.053 | 0.003 | 0.056 | |
| validateInputs | 0.094 | 0.008 | 0.104 | |
| volcanoPlot | 1.505 | 0.091 | 1.605 | |
| volcanoStatsTable | 0.054 | 0.001 | 0.055 | |
| zScore | 0.547 | 0.016 | 0.565 | |