| Back to Multiple platform build/check report for BioC 3.20: simplified long |
|
This page was generated on 2024-11-20 12:08 -0500 (Wed, 20 Nov 2024).
| Hostname | OS | Arch (*) | R version | Installed pkgs |
|---|---|---|---|---|
| teran2 | Linux (Ubuntu 24.04.1 LTS) | x86_64 | 4.4.2 (2024-10-31) -- "Pile of Leaves" | 4481 |
| nebbiolo2 | Linux (Ubuntu 24.04.1 LTS) | x86_64 | 4.4.2 (2024-10-31) -- "Pile of Leaves" | 4479 |
| palomino8 | Windows Server 2022 Datacenter | x64 | 4.4.2 (2024-10-31 ucrt) -- "Pile of Leaves" | 4359 |
| lconway | macOS 12.7.1 Monterey | x86_64 | 4.4.1 (2024-06-14) -- "Race for Your Life" | 4539 |
| kunpeng2 | Linux (openEuler 22.03 LTS-SP1) | aarch64 | 4.4.1 (2024-06-14) -- "Race for Your Life" | 4493 |
| Click on any hostname to see more info about the system (e.g. compilers) (*) as reported by 'uname -p', except on Windows and Mac OS X | ||||
| Package 2009/2289 | Hostname | OS / Arch | INSTALL | BUILD | CHECK | BUILD BIN | ||||||||
| sparrow 1.12.0 (landing page) Steve Lianoglou
| teran2 | Linux (Ubuntu 24.04.1 LTS) / x86_64 | OK | OK | OK | |||||||||
| nebbiolo2 | Linux (Ubuntu 24.04.1 LTS) / x86_64 | OK | OK | OK | ||||||||||
| palomino8 | Windows Server 2022 Datacenter / x64 | OK | OK | OK | OK | |||||||||
| lconway | macOS 12.7.1 Monterey / x86_64 | OK | OK | OK | OK | |||||||||
| kunpeng2 | Linux (openEuler 22.03 LTS-SP1) / aarch64 | OK | OK | OK | ||||||||||
|
To the developers/maintainers of the sparrow package: - Allow up to 24 hours (and sometimes 48 hours) for your latest push to git@git.bioconductor.org:packages/sparrow.git to reflect on this report. See Troubleshooting Build Report for more information. - Use the following Renviron settings to reproduce errors and warnings. - If 'R CMD check' started to fail recently on the Linux builder(s) over a missing dependency, add the missing dependency to 'Suggests:' in your DESCRIPTION file. See Renviron.bioc for more information. - See Martin Grigorov's blog post for how to debug Linux ARM64 related issues on a x86_64 host. |
| Package: sparrow |
| Version: 1.12.0 |
| Command: /home/biocbuild/R/R/bin/R CMD check --install=check:sparrow.install-out.txt --library=/home/biocbuild/R/R/site-library --no-vignettes --timings sparrow_1.12.0.tar.gz |
| StartedAt: 2024-11-20 12:41:44 -0000 (Wed, 20 Nov 2024) |
| EndedAt: 2024-11-20 12:54:02 -0000 (Wed, 20 Nov 2024) |
| EllapsedTime: 738.3 seconds |
| RetCode: 0 |
| Status: OK |
| CheckDir: sparrow.Rcheck |
| Warnings: 0 |
##############################################################################
##############################################################################
###
### Running command:
###
### /home/biocbuild/R/R/bin/R CMD check --install=check:sparrow.install-out.txt --library=/home/biocbuild/R/R/site-library --no-vignettes --timings sparrow_1.12.0.tar.gz
###
##############################################################################
##############################################################################
* using log directory ‘/home/biocbuild/bbs-3.20-bioc/meat/sparrow.Rcheck’
* using R version 4.4.1 (2024-06-14)
* using platform: aarch64-unknown-linux-gnu
* R was compiled by
gcc (GCC) 12.2.1 20220819 (openEuler 12.2.1-14)
GNU Fortran (GCC) 10.3.1
* running under: openEuler 22.03 (LTS-SP1)
* using session charset: UTF-8
* using option ‘--no-vignettes’
* checking for file ‘sparrow/DESCRIPTION’ ... OK
* checking extension type ... Package
* this is package ‘sparrow’ version ‘1.12.0’
* package encoding: UTF-8
* checking package namespace information ... OK
* checking package dependencies ... OK
* checking if this is a source package ... OK
* checking if there is a namespace ... OK
* checking for hidden files and directories ... OK
* checking for portable file names ... OK
* checking for sufficient/correct file permissions ... OK
* checking whether package ‘sparrow’ can be installed ... OK
* checking installed package size ... OK
* checking package directory ... OK
* checking ‘build’ directory ... OK
* checking DESCRIPTION meta-information ... NOTE
License stub is invalid DCF.
* checking top-level files ... OK
* checking for left-over files ... OK
* checking index information ... OK
* checking package subdirectories ... OK
* checking code files for non-ASCII characters ... OK
* checking R files for syntax errors ... OK
* checking whether the package can be loaded ... OK
* checking whether the package can be loaded with stated dependencies ... OK
* checking whether the package can be unloaded cleanly ... OK
* checking whether the namespace can be loaded with stated dependencies ... OK
* checking whether the namespace can be unloaded cleanly ... OK
* checking loading without being on the library search path ... OK
* checking whether startup messages can be suppressed ... OK
* checking dependencies in R code ... OK
* checking S3 generic/method consistency ... OK
* checking replacement functions ... OK
* checking foreign function calls ... OK
* checking R code for possible problems ... NOTE
geneSetsStats: no visible binding for global variable ‘direction’
Undefined global functions or variables:
direction
* checking Rd files ... OK
* checking Rd metadata ... OK
* checking Rd cross-references ... OK
* checking for missing documentation entries ... OK
* checking for code/documentation mismatches ... OK
* checking Rd \usage sections ... OK
* checking Rd contents ... OK
* checking for unstated dependencies in examples ... OK
* checking line endings in Makefiles ... OK
* checking for GNU extensions in Makefiles ... OK
* checking include directives in Makefiles ... OK
* checking files in ‘vignettes’ ... OK
* checking examples ... OK
Examples with CPU (user + system) or elapsed time > 5s
user system elapsed
goseq 10.712 0.203 10.124
seas 8.864 0.095 8.494
geneSetsStats 6.567 0.103 6.029
scoreSingleSamples 6.247 0.040 5.933
annotateGeneSetMembership 5.814 0.057 5.489
geneSetSummaryByGenes 5.320 0.068 5.009
SparrowResult-utilities 5.186 0.096 4.907
* checking for unstated dependencies in ‘tests’ ... OK
* checking tests ...
Running ‘testthat.R’
OK
* checking for unstated dependencies in vignettes ... OK
* checking package vignettes ... OK
* checking running R code from vignettes ... SKIPPED
* checking re-building of vignette outputs ... SKIPPED
* checking PDF version of manual ... OK
* DONE
Status: 2 NOTEs
See
‘/home/biocbuild/bbs-3.20-bioc/meat/sparrow.Rcheck/00check.log’
for details.
sparrow.Rcheck/00install.out
############################################################################## ############################################################################## ### ### Running command: ### ### /home/biocbuild/R/R/bin/R CMD INSTALL sparrow ### ############################################################################## ############################################################################## * installing to library ‘/home/biocbuild/R/R-4.4.1/site-library’ * installing *source* package ‘sparrow’ ... ** using staged installation ** R ** inst ** byte-compile and prepare package for lazy loading ** help *** installing help indices *** copying figures ** building package indices ** installing vignettes ** testing if installed package can be loaded from temporary location ** testing if installed package can be loaded from final location ** testing if installed package keeps a record of temporary installation path * DONE (sparrow)
sparrow.Rcheck/tests/testthat.Rout
R version 4.4.1 (2024-06-14) -- "Race for Your Life"
Copyright (C) 2024 The R Foundation for Statistical Computing
Platform: aarch64-unknown-linux-gnu
R is free software and comes with ABSOLUTELY NO WARRANTY.
You are welcome to redistribute it under certain conditions.
Type 'license()' or 'licence()' for distribution details.
R is a collaborative project with many contributors.
Type 'contributors()' for more information and
'citation()' on how to cite R or R packages in publications.
Type 'demo()' for some demos, 'help()' for on-line help, or
'help.start()' for an HTML browser interface to help.
Type 'q()' to quit R.
> library("sparrow")
> library("testthat")
> library("data.table")
> library("dplyr")
Attaching package: 'dplyr'
The following objects are masked from 'package:data.table':
between, first, last
The following object is masked from 'package:testthat':
matches
The following object is masked from 'package:sparrow':
combine
The following objects are masked from 'package:stats':
filter, lag
The following objects are masked from 'package:base':
intersect, setdiff, setequal, union
>
> test_check("sparrow")
Attaching package: 'magrittr'
The following objects are masked from 'package:testthat':
equals, is_less_than, not
[ FAIL 0 | WARN 0 | SKIP 1 | PASS 1493 ]
══ Skipped tests (1) ═══════════════════════════════════════════════════════════
• empty test (1): 'test-MultiGSEAResult.R:3:1'
[ FAIL 0 | WARN 0 | SKIP 1 | PASS 1493 ]
>
> ## Remove temporary files that were generated
> test.dir <- system.file('tests', package = "sparrow")
> pdfs <- dir(test.dir, "\\.pdf$", full.names=TRUE)
> if (length(pdfs)) {
+ unlink(pdfs)
+ }
>
>
> proc.time()
user system elapsed
452.397 10.498 417.548
sparrow.Rcheck/sparrow-Ex.timings
| name | user | system | elapsed | |
| GeneSetDb-class | 0.1 | 0.0 | 0.1 | |
| SparrowResult-utilities | 5.186 | 0.096 | 4.907 | |
| addGeneSetMetadata | 0.09 | 0.00 | 0.08 | |
| annotateGeneSetMembership | 5.814 | 0.057 | 5.489 | |
| calculateIndividualLogFC | 2.559 | 0.019 | 2.501 | |
| collectionMetadata | 0.105 | 0.000 | 0.093 | |
| combine-GeneSetDb-GeneSetDb-method | 0.137 | 0.000 | 0.114 | |
| combine-SparrowResult-SparrowResult-method | 0.154 | 0.000 | 0.156 | |
| conform | 0.674 | 0.000 | 0.581 | |
| conversion | 0.937 | 0.008 | 0.821 | |
| convertIdentifiers | 0.263 | 0.000 | 0.225 | |
| corplot | 0.115 | 0.004 | 0.119 | |
| eigenWeightedMean | 4.204 | 0.028 | 4.053 | |
| examples | 0.498 | 0.024 | 0.438 | |
| failWith | 0.000 | 0.000 | 0.001 | |
| featureIdMap | 0.660 | 0.004 | 0.570 | |
| featureIds | 0.810 | 0.035 | 0.746 | |
| geneSet | 0.103 | 0.004 | 0.097 | |
| geneSetCollectionURLfunction | 0.069 | 0.004 | 0.064 | |
| geneSetSummaryByGenes | 5.320 | 0.068 | 5.009 | |
| geneSets | 0.071 | 0.000 | 0.064 | |
| geneSetsStats | 6.567 | 0.103 | 6.029 | |
| getKeggCollection | 0 | 0 | 0 | |
| getMSigCollection | 0 | 0 | 0 | |
| getPantherCollection | 0 | 0 | 0 | |
| getReactomeCollection | 0 | 0 | 0 | |
| goseq | 10.712 | 0.203 | 10.124 | |
| gsdScore | 1.475 | 0.000 | 1.294 | |
| gskey | 0.003 | 0.000 | 0.003 | |
| hasGeneSet | 0.079 | 0.000 | 0.069 | |
| hasGeneSetCollection | 0.079 | 0.000 | 0.068 | |
| incidenceMatrix | 1.602 | 0.004 | 1.515 | |
| iplot | 1.494 | 0.036 | 1.520 | |
| is.active | 0.412 | 0.004 | 0.408 | |
| logFC | 4.335 | 0.076 | 4.109 | |
| mgheatmap | 0 | 0 | 0 | |
| mgheatmap2 | 0 | 0 | 0 | |
| msg | 0.001 | 0.000 | 0.000 | |
| ora | 0.378 | 0.008 | 0.386 | |
| p.matrix | 0.089 | 0.004 | 0.093 | |
| randomGeneSetDb | 0.103 | 0.004 | 0.108 | |
| renameCollections | 0.105 | 0.000 | 0.091 | |
| renameRows | 0.608 | 0.000 | 0.525 | |
| results | 0.118 | 0.000 | 0.118 | |
| scale_rows | 0.004 | 0.000 | 0.004 | |
| scoreSingleSamples | 6.247 | 0.040 | 5.933 | |
| seas | 8.864 | 0.095 | 8.494 | |
| sparrow_methods | 0.003 | 0.000 | 0.003 | |
| species_info | 0.006 | 0.000 | 0.006 | |
| subset.GeneSetDb | 0.091 | 0.000 | 0.081 | |
| subsetByFeatures | 0.114 | 0.000 | 0.097 | |
| validateInputs | 1.645 | 0.008 | 1.645 | |
| volcanoPlot | 2.498 | 0.028 | 2.580 | |
| volcanoStatsTable | 0.071 | 0.000 | 0.070 | |
| zScore | 1.228 | 0.008 | 1.137 | |