| Back to Multiple platform build/check report for BioC 3.20: simplified long |
|
This page was generated on 2025-03-13 12:05 -0400 (Thu, 13 Mar 2025).
| Hostname | OS | Arch (*) | R version | Installed pkgs |
|---|---|---|---|---|
| nebbiolo2 | Linux (Ubuntu 24.04.1 LTS) | x86_64 | 4.4.3 (2025-02-28) -- "Trophy Case" | 4722 |
| palomino8 | Windows Server 2022 Datacenter | x64 | 4.4.3 (2025-02-28 ucrt) -- "Trophy Case" | 4487 |
| merida1 | macOS 12.7.5 Monterey | x86_64 | 4.4.3 (2025-02-28) -- "Trophy Case" | 4514 |
| kjohnson1 | macOS 13.6.6 Ventura | arm64 | 4.4.3 (2025-02-28) -- "Trophy Case" | 4441 |
| taishan | Linux (openEuler 24.03 LTS) | aarch64 | 4.4.3 (2025-02-28) -- "Trophy Case" | 4391 |
| Click on any hostname to see more info about the system (e.g. compilers) (*) as reported by 'uname -p', except on Windows and Mac OS X | ||||
| Package 2009/2289 | Hostname | OS / Arch | INSTALL | BUILD | CHECK | BUILD BIN | ||||||||
| sparrow 1.12.0 (landing page) Steve Lianoglou
| nebbiolo2 | Linux (Ubuntu 24.04.1 LTS) / x86_64 | OK | OK | OK | |||||||||
| palomino8 | Windows Server 2022 Datacenter / x64 | OK | OK | OK | OK | |||||||||
| merida1 | macOS 12.7.5 Monterey / x86_64 | OK | OK | OK | OK | |||||||||
| kjohnson1 | macOS 13.6.6 Ventura / arm64 | OK | OK | OK | OK | |||||||||
| taishan | Linux (openEuler 24.03 LTS) / aarch64 | OK | OK | TIMEOUT | ||||||||||
|
To the developers/maintainers of the sparrow package: - Allow up to 24 hours (and sometimes 48 hours) for your latest push to git@git.bioconductor.org:packages/sparrow.git to reflect on this report. See Troubleshooting Build Report for more information. - Use the following Renviron settings to reproduce errors and warnings. - If 'R CMD check' started to fail recently on the Linux builder(s) over a missing dependency, add the missing dependency to 'Suggests:' in your DESCRIPTION file. See Renviron.bioc for more information. |
| Package: sparrow |
| Version: 1.12.0 |
| Command: /home/biocbuild/bbs-3.20-bioc/R/bin/R CMD check --install=check:sparrow.install-out.txt --library=/home/biocbuild/bbs-3.20-bioc/R/site-library --timings sparrow_1.12.0.tar.gz |
| StartedAt: 2025-03-11 02:31:40 -0400 (Tue, 11 Mar 2025) |
| EndedAt: 2025-03-11 02:42:53 -0400 (Tue, 11 Mar 2025) |
| EllapsedTime: 672.7 seconds |
| RetCode: 0 |
| Status: OK |
| CheckDir: sparrow.Rcheck |
| Warnings: 0 |
##############################################################################
##############################################################################
###
### Running command:
###
### /home/biocbuild/bbs-3.20-bioc/R/bin/R CMD check --install=check:sparrow.install-out.txt --library=/home/biocbuild/bbs-3.20-bioc/R/site-library --timings sparrow_1.12.0.tar.gz
###
##############################################################################
##############################################################################
* using log directory ‘/home/biocbuild/bbs-3.20-bioc/meat/sparrow.Rcheck’
* using R version 4.4.3 (2025-02-28)
* using platform: x86_64-pc-linux-gnu
* R was compiled by
gcc (Ubuntu 13.3.0-6ubuntu2~24.04) 13.3.0
GNU Fortran (Ubuntu 13.3.0-6ubuntu2~24.04) 13.3.0
* running under: Ubuntu 24.04.2 LTS
* using session charset: UTF-8
* checking for file ‘sparrow/DESCRIPTION’ ... OK
* checking extension type ... Package
* this is package ‘sparrow’ version ‘1.12.0’
* package encoding: UTF-8
* checking package namespace information ... OK
* checking package dependencies ... OK
* checking if this is a source package ... OK
* checking if there is a namespace ... OK
* checking for hidden files and directories ... OK
* checking for portable file names ... OK
* checking for sufficient/correct file permissions ... OK
* checking whether package ‘sparrow’ can be installed ... OK
* checking installed package size ... OK
* checking package directory ... OK
* checking ‘build’ directory ... OK
* checking DESCRIPTION meta-information ... NOTE
License stub is invalid DCF.
* checking top-level files ... OK
* checking for left-over files ... OK
* checking index information ... OK
* checking package subdirectories ... OK
* checking code files for non-ASCII characters ... OK
* checking R files for syntax errors ... OK
* checking whether the package can be loaded ... OK
* checking whether the package can be loaded with stated dependencies ... OK
* checking whether the package can be unloaded cleanly ... OK
* checking whether the namespace can be loaded with stated dependencies ... OK
* checking whether the namespace can be unloaded cleanly ... OK
* checking loading without being on the library search path ... OK
* checking whether startup messages can be suppressed ... OK
* checking dependencies in R code ... OK
* checking S3 generic/method consistency ... OK
* checking replacement functions ... OK
* checking foreign function calls ... OK
* checking R code for possible problems ... NOTE
geneSetsStats: no visible binding for global variable ‘direction’
Undefined global functions or variables:
direction
* checking Rd files ... OK
* checking Rd metadata ... OK
* checking Rd cross-references ... OK
* checking for missing documentation entries ... OK
* checking for code/documentation mismatches ... OK
* checking Rd \usage sections ... OK
* checking Rd contents ... OK
* checking for unstated dependencies in examples ... OK
* checking line endings in Makefiles ... OK
* checking for GNU extensions in Makefiles ... OK
* checking include directives in Makefiles ... OK
* checking files in ‘vignettes’ ... OK
* checking examples ... OK
Examples with CPU (user + system) or elapsed time > 5s
user system elapsed
goseq 8.501 0.257 7.848
seas 5.308 0.068 4.436
geneSetsStats 5.205 0.028 3.497
* checking for unstated dependencies in ‘tests’ ... OK
* checking tests ...
Running ‘testthat.R’
OK
* checking for unstated dependencies in vignettes ... OK
* checking package vignettes ... OK
* checking re-building of vignette outputs ... OK
* checking PDF version of manual ... OK
* DONE
Status: 2 NOTEs
See
‘/home/biocbuild/bbs-3.20-bioc/meat/sparrow.Rcheck/00check.log’
for details.
sparrow.Rcheck/00install.out
############################################################################## ############################################################################## ### ### Running command: ### ### /home/biocbuild/bbs-3.20-bioc/R/bin/R CMD INSTALL sparrow ### ############################################################################## ############################################################################## * installing to library ‘/home/biocbuild/bbs-3.20-bioc/R/site-library’ * installing *source* package ‘sparrow’ ... ** using staged installation ** R ** inst ** byte-compile and prepare package for lazy loading ** help *** installing help indices *** copying figures ** building package indices ** installing vignettes ** testing if installed package can be loaded from temporary location ** testing if installed package can be loaded from final location ** testing if installed package keeps a record of temporary installation path * DONE (sparrow)
sparrow.Rcheck/tests/testthat.Rout
R version 4.4.3 (2025-02-28) -- "Trophy Case"
Copyright (C) 2025 The R Foundation for Statistical Computing
Platform: x86_64-pc-linux-gnu
R is free software and comes with ABSOLUTELY NO WARRANTY.
You are welcome to redistribute it under certain conditions.
Type 'license()' or 'licence()' for distribution details.
R is a collaborative project with many contributors.
Type 'contributors()' for more information and
'citation()' on how to cite R or R packages in publications.
Type 'demo()' for some demos, 'help()' for on-line help, or
'help.start()' for an HTML browser interface to help.
Type 'q()' to quit R.
> library("sparrow")
> library("testthat")
> library("data.table")
> library("dplyr")
Attaching package: 'dplyr'
The following objects are masked from 'package:data.table':
between, first, last
The following object is masked from 'package:testthat':
matches
The following object is masked from 'package:sparrow':
combine
The following objects are masked from 'package:stats':
filter, lag
The following objects are masked from 'package:base':
intersect, setdiff, setequal, union
>
> test_check("sparrow")
Attaching package: 'magrittr'
The following objects are masked from 'package:testthat':
equals, is_less_than, not
[ FAIL 0 | WARN 0 | SKIP 1 | PASS 1493 ]
══ Skipped tests (1) ═══════════════════════════════════════════════════════════
• empty test (1): 'test-MultiGSEAResult.R:3:1'
[ FAIL 0 | WARN 0 | SKIP 1 | PASS 1493 ]
>
> ## Remove temporary files that were generated
> test.dir <- system.file('tests', package = "sparrow")
> pdfs <- dir(test.dir, "\\.pdf$", full.names=TRUE)
> if (length(pdfs)) {
+ unlink(pdfs)
+ }
>
>
> proc.time()
user system elapsed
316.947 17.615 287.936
sparrow.Rcheck/sparrow-Ex.timings
| name | user | system | elapsed | |
| GeneSetDb-class | 0.086 | 0.001 | 0.071 | |
| SparrowResult-utilities | 4.687 | 0.127 | 3.924 | |
| addGeneSetMetadata | 0.100 | 0.000 | 0.076 | |
| annotateGeneSetMembership | 4.517 | 0.154 | 3.789 | |
| calculateIndividualLogFC | 1.392 | 0.018 | 1.410 | |
| collectionMetadata | 0.084 | 0.002 | 0.062 | |
| combine-GeneSetDb-GeneSetDb-method | 0.131 | 0.000 | 0.081 | |
| combine-SparrowResult-SparrowResult-method | 0.115 | 0.006 | 0.118 | |
| conform | 0.415 | 0.002 | 0.390 | |
| conversion | 0.648 | 0.023 | 0.562 | |
| convertIdentifiers | 0.246 | 0.004 | 0.158 | |
| corplot | 0.101 | 0.002 | 0.103 | |
| eigenWeightedMean | 3.198 | 0.082 | 3.232 | |
| examples | 0.281 | 0.016 | 0.297 | |
| failWith | 0 | 0 | 0 | |
| featureIdMap | 0.406 | 0.019 | 0.399 | |
| featureIds | 0.439 | 0.001 | 0.401 | |
| geneSet | 0.105 | 0.001 | 0.071 | |
| geneSetCollectionURLfunction | 0.080 | 0.000 | 0.052 | |
| geneSetSummaryByGenes | 3.791 | 0.060 | 2.807 | |
| geneSets | 0.077 | 0.000 | 0.048 | |
| geneSetsStats | 5.205 | 0.028 | 3.497 | |
| getKeggCollection | 0.000 | 0.001 | 0.000 | |
| getMSigCollection | 0 | 0 | 0 | |
| getPantherCollection | 0 | 0 | 0 | |
| getReactomeCollection | 0 | 0 | 0 | |
| goseq | 8.501 | 0.257 | 7.848 | |
| gsdScore | 1.996 | 0.002 | 1.949 | |
| gskey | 0.000 | 0.002 | 0.003 | |
| hasGeneSet | 0.080 | 0.001 | 0.055 | |
| hasGeneSetCollection | 0.075 | 0.000 | 0.049 | |
| incidenceMatrix | 1.012 | 0.054 | 1.035 | |
| iplot | 1.103 | 0.058 | 1.093 | |
| is.active | 1.416 | 0.018 | 1.408 | |
| logFC | 3.401 | 0.093 | 2.632 | |
| mgheatmap | 0 | 0 | 0 | |
| mgheatmap2 | 0 | 0 | 0 | |
| msg | 0.001 | 0.000 | 0.001 | |
| ora | 0.216 | 0.007 | 0.217 | |
| p.matrix | 0.080 | 0.004 | 0.083 | |
| randomGeneSetDb | 0.078 | 0.006 | 0.078 | |
| renameCollections | 0.107 | 0.004 | 0.072 | |
| renameRows | 0.356 | 0.033 | 0.386 | |
| results | 0.096 | 0.003 | 0.098 | |
| scale_rows | 0.004 | 0.000 | 0.004 | |
| scoreSingleSamples | 3.826 | 0.034 | 3.723 | |
| seas | 5.308 | 0.068 | 4.436 | |
| sparrow_methods | 0.002 | 0.000 | 0.002 | |
| species_info | 0.005 | 0.000 | 0.005 | |
| subset.GeneSetDb | 0.084 | 0.000 | 0.057 | |
| subsetByFeatures | 0.165 | 0.009 | 0.125 | |
| validateInputs | 0.153 | 0.005 | 0.130 | |
| volcanoPlot | 1.718 | 0.041 | 1.759 | |
| volcanoStatsTable | 0.135 | 0.001 | 0.136 | |
| zScore | 0.854 | 0.011 | 0.815 | |