| Back to Multiple platform build/check report for BioC 3.20: simplified long |
|
This page was generated on 2024-11-20 12:07 -0500 (Wed, 20 Nov 2024).
| Hostname | OS | Arch (*) | R version | Installed pkgs |
|---|---|---|---|---|
| teran2 | Linux (Ubuntu 24.04.1 LTS) | x86_64 | 4.4.2 (2024-10-31) -- "Pile of Leaves" | 4481 |
| nebbiolo2 | Linux (Ubuntu 24.04.1 LTS) | x86_64 | 4.4.2 (2024-10-31) -- "Pile of Leaves" | 4479 |
| palomino8 | Windows Server 2022 Datacenter | x64 | 4.4.2 (2024-10-31 ucrt) -- "Pile of Leaves" | 4359 |
| lconway | macOS 12.7.1 Monterey | x86_64 | 4.4.1 (2024-06-14) -- "Race for Your Life" | 4539 |
| kunpeng2 | Linux (openEuler 22.03 LTS-SP1) | aarch64 | 4.4.1 (2024-06-14) -- "Race for Your Life" | 4493 |
| Click on any hostname to see more info about the system (e.g. compilers) (*) as reported by 'uname -p', except on Windows and Mac OS X | ||||
| Package 1938/2289 | Hostname | OS / Arch | INSTALL | BUILD | CHECK | BUILD BIN | ||||||||
| sesame 1.24.0 (landing page) Wanding Zhou
| teran2 | Linux (Ubuntu 24.04.1 LTS) / x86_64 | OK | ERROR | skipped | |||||||||
| nebbiolo2 | Linux (Ubuntu 24.04.1 LTS) / x86_64 | OK | OK | OK | ||||||||||
| palomino8 | Windows Server 2022 Datacenter / x64 | OK | OK | OK | OK | |||||||||
| lconway | macOS 12.7.1 Monterey / x86_64 | OK | OK | OK | OK | |||||||||
| kunpeng2 | Linux (openEuler 22.03 LTS-SP1) / aarch64 | OK | OK | OK | ||||||||||
|
To the developers/maintainers of the sesame package: - Allow up to 24 hours (and sometimes 48 hours) for your latest push to git@git.bioconductor.org:packages/sesame.git to reflect on this report. See Troubleshooting Build Report for more information. - Use the following Renviron settings to reproduce errors and warnings. - If 'R CMD check' started to fail recently on the Linux builder(s) over a missing dependency, add the missing dependency to 'Suggests:' in your DESCRIPTION file. See Renviron.bioc for more information. |
| Package: sesame |
| Version: 1.24.0 |
| Command: /Library/Frameworks/R.framework/Resources/bin/R CMD check --install=check:sesame.install-out.txt --library=/Library/Frameworks/R.framework/Resources/library --no-vignettes --timings sesame_1.24.0.tar.gz |
| StartedAt: 2024-11-20 02:38:43 -0500 (Wed, 20 Nov 2024) |
| EndedAt: 2024-11-20 02:53:42 -0500 (Wed, 20 Nov 2024) |
| EllapsedTime: 898.2 seconds |
| RetCode: 0 |
| Status: OK |
| CheckDir: sesame.Rcheck |
| Warnings: 0 |
##############################################################################
##############################################################################
###
### Running command:
###
### /Library/Frameworks/R.framework/Resources/bin/R CMD check --install=check:sesame.install-out.txt --library=/Library/Frameworks/R.framework/Resources/library --no-vignettes --timings sesame_1.24.0.tar.gz
###
##############################################################################
##############################################################################
* using log directory ‘/Users/biocbuild/bbs-3.20-bioc/meat/sesame.Rcheck’
* using R version 4.4.1 (2024-06-14)
* using platform: x86_64-apple-darwin20
* R was compiled by
Apple clang version 14.0.0 (clang-1400.0.29.202)
GNU Fortran (GCC) 12.2.0
* running under: macOS Monterey 12.7.6
* using session charset: UTF-8
* using option ‘--no-vignettes’
* checking for file ‘sesame/DESCRIPTION’ ... OK
* checking extension type ... Package
* this is package ‘sesame’ version ‘1.24.0’
* package encoding: UTF-8
* checking package namespace information ... OK
* checking package dependencies ...Warning: unable to access index for repository https://CRAN.R-project.org/src/contrib:
cannot open URL 'https://CRAN.R-project.org/src/contrib/PACKAGES'
OK
* checking if this is a source package ... OK
* checking if there is a namespace ... OK
* checking for hidden files and directories ... OK
* checking for portable file names ... OK
* checking for sufficient/correct file permissions ... OK
* checking whether package ‘sesame’ can be installed ... OK
* checking installed package size ... OK
* checking package directory ... OK
* checking ‘build’ directory ... OK
* checking DESCRIPTION meta-information ... OK
* checking top-level files ... OK
* checking for left-over files ... OK
* checking index information ... OK
* checking package subdirectories ... OK
* checking code files for non-ASCII characters ... OK
* checking R files for syntax errors ... OK
* checking whether the package can be loaded ... OK
* checking whether the package can be loaded with stated dependencies ... OK
* checking whether the package can be unloaded cleanly ... OK
* checking whether the namespace can be loaded with stated dependencies ... OK
* checking whether the namespace can be unloaded cleanly ... OK
* checking whether startup messages can be suppressed ... OK
* checking dependencies in R code ... OK
* checking S3 generic/method consistency ... OK
* checking replacement functions ... OK
* checking foreign function calls ... OK
* checking R code for possible problems ... OK
* checking Rd files ... OK
* checking Rd metadata ... OK
* checking Rd cross-references ... OK
* checking for missing documentation entries ... OK
* checking for code/documentation mismatches ... OK
* checking Rd \usage sections ... OK
* checking Rd contents ... OK
* checking for unstated dependencies in examples ... OK
* checking files in ‘vignettes’ ... OK
* checking examples ... OK
Examples with CPU (user + system) or elapsed time > 5s
user system elapsed
testEnrichmentGene 32.103 2.378 34.657
imputeBetasByGenomicNeighbors 24.162 0.943 25.162
KYCG_plotMeta 17.350 0.796 18.266
sesameQC_calcStats 16.791 1.347 18.188
inferSex 17.009 0.876 17.942
KYCG_plotEnrichAll 14.833 0.946 15.900
ELBAR 12.850 2.332 15.265
sesameQC_plotHeatSNPs 13.754 0.996 14.812
imputeBetas 12.930 1.003 13.992
KYCG_annoProbes 10.400 0.586 11.048
diffRefSet 10.024 0.451 10.503
inferSpecies 9.527 0.512 10.076
sesameQC_plotBar 9.657 0.231 9.911
sesameQC_plotBetaByDesign 8.688 1.142 9.865
KYCG_plotMetaEnrichment 9.135 0.448 9.662
compareMouseStrainReference 8.769 0.269 9.064
testEnrichmentSEA 8.006 0.882 8.954
matchDesign 8.309 0.567 8.930
getRefSet 8.179 0.401 8.619
KYCG_buildGeneDBs 8.216 0.331 8.593
visualizeGene 8.136 0.385 8.565
compareReference 7.601 0.428 8.051
DML 6.929 0.846 7.820
sdf_read_table 6.649 0.260 6.932
DMR 6.013 0.192 6.244
inferStrain 5.554 0.534 6.107
inferTissue 4.913 1.052 5.986
dbStats 5.230 0.459 5.712
dyeBiasNL 5.223 0.384 5.618
estimateLeukocyte 4.732 0.347 5.093
* checking for unstated dependencies in ‘tests’ ... OK
* checking tests ...
Running ‘testthat.R’
OK
* checking for unstated dependencies in vignettes ... OK
* checking package vignettes ... OK
* checking running R code from vignettes ... SKIPPED
* checking re-building of vignette outputs ... SKIPPED
* checking PDF version of manual ... OK
* DONE
Status: OK
sesame.Rcheck/00install.out
############################################################################## ############################################################################## ### ### Running command: ### ### /Library/Frameworks/R.framework/Resources/bin/R CMD INSTALL sesame ### ############################################################################## ############################################################################## * installing to library ‘/Library/Frameworks/R.framework/Versions/4.4-x86_64/Resources/library’ * installing *source* package ‘sesame’ ... ** using staged installation ** R ** inst ** byte-compile and prepare package for lazy loading ** help *** installing help indices ** building package indices ** installing vignettes ** testing if installed package can be loaded from temporary location ** testing if installed package can be loaded from final location ** testing if installed package keeps a record of temporary installation path * DONE (sesame)
sesame.Rcheck/tests/testthat.Rout
R version 4.4.1 (2024-06-14) -- "Race for Your Life"
Copyright (C) 2024 The R Foundation for Statistical Computing
Platform: x86_64-apple-darwin20
R is free software and comes with ABSOLUTELY NO WARRANTY.
You are welcome to redistribute it under certain conditions.
Type 'license()' or 'licence()' for distribution details.
R is a collaborative project with many contributors.
Type 'contributors()' for more information and
'citation()' on how to cite R or R packages in publications.
Type 'demo()' for some demos, 'help()' for on-line help, or
'help.start()' for an HTML browser interface to help.
Type 'q()' to quit R.
> library(testthat)
> library(sesame)
Loading required package: sesameData
Loading required package: ExperimentHub
Loading required package: BiocGenerics
Attaching package: 'BiocGenerics'
The following objects are masked from 'package:stats':
IQR, mad, sd, var, xtabs
The following objects are masked from 'package:base':
Filter, Find, Map, Position, Reduce, anyDuplicated, aperm, append,
as.data.frame, basename, cbind, colnames, dirname, do.call,
duplicated, eval, evalq, get, grep, grepl, intersect, is.unsorted,
lapply, mapply, match, mget, order, paste, pmax, pmax.int, pmin,
pmin.int, rank, rbind, rownames, sapply, saveRDS, setdiff, table,
tapply, union, unique, unsplit, which.max, which.min
Loading required package: AnnotationHub
Loading required package: BiocFileCache
Loading required package: dbplyr
Loading sesameData.
----------------------------------------------------------
| SEnsible Step-wise Analysis of DNA MEthylation (SeSAMe)
| --------------------------------------------------------
| Please cache auxiliary data by "sesameDataCache()".
| This needs to be done only once per SeSAMe installation.
----------------------------------------------------------
>
> test_check("sesame")
[ FAIL 0 | WARN 0 | SKIP 0 | PASS 5 ]
>
> proc.time()
user system elapsed
16.216 1.393 17.678
sesame.Rcheck/sesame-Ex.timings
| name | user | system | elapsed | |
| BetaValueToMValue | 0 | 0 | 0 | |
| DML | 6.929 | 0.846 | 7.820 | |
| DMLpredict | 0.967 | 0.078 | 1.055 | |
| DMR | 6.013 | 0.192 | 6.244 | |
| ELBAR | 12.850 | 2.332 | 15.265 | |
| KYCG_annoProbes | 10.400 | 0.586 | 11.048 | |
| KYCG_buildGeneDBs | 8.216 | 0.331 | 8.593 | |
| KYCG_getDBs | 2.081 | 0.195 | 2.296 | |
| KYCG_listDBGroups | 0.240 | 0.021 | 0.261 | |
| KYCG_loadDBs | 0 | 0 | 0 | |
| KYCG_plotBar | 0.146 | 0.004 | 0.149 | |
| KYCG_plotDot | 0.252 | 0.002 | 0.255 | |
| KYCG_plotEnrichAll | 14.833 | 0.946 | 15.900 | |
| KYCG_plotLollipop | 0.134 | 0.003 | 0.139 | |
| KYCG_plotManhattan | 1.110 | 0.144 | 1.262 | |
| KYCG_plotMeta | 17.350 | 0.796 | 18.266 | |
| KYCG_plotMetaEnrichment | 9.135 | 0.448 | 9.662 | |
| KYCG_plotPointRange | 1.565 | 0.142 | 1.719 | |
| KYCG_plotSetEnrichment | 4.027 | 0.429 | 4.472 | |
| KYCG_plotVolcano | 0.110 | 0.008 | 0.118 | |
| KYCG_plotWaterfall | 1.891 | 0.124 | 2.034 | |
| MValueToBetaValue | 0 | 0 | 0 | |
| SigDF | 0.211 | 0.031 | 0.243 | |
| addMask | 0.069 | 0.000 | 0.071 | |
| aggregateTestEnrichments | 1.418 | 0.139 | 1.563 | |
| betasCollapseToPfx | 0.009 | 0.000 | 0.010 | |
| bisConversionControl | 3.616 | 0.175 | 3.804 | |
| calcEffectSize | 0.842 | 0.068 | 0.915 | |
| checkLevels | 2.355 | 0.270 | 2.632 | |
| cnSegmentation | 0.198 | 0.038 | 0.237 | |
| compareMouseStrainReference | 8.769 | 0.269 | 9.064 | |
| compareMouseTissueReference | 0.000 | 0.001 | 0.000 | |
| compareReference | 7.601 | 0.428 | 8.051 | |
| controls | 1.376 | 0.115 | 1.495 | |
| createUCSCtrack | 4.181 | 0.222 | 4.415 | |
| dbStats | 5.230 | 0.459 | 5.712 | |
| deidentify | 4.126 | 0.217 | 4.367 | |
| detectionPnegEcdf | 2.060 | 0.087 | 2.153 | |
| diffRefSet | 10.024 | 0.451 | 10.503 | |
| dmContrasts | 1.551 | 0.242 | 1.802 | |
| dyeBiasCorr | 2.033 | 0.130 | 2.169 | |
| dyeBiasCorrMostBalanced | 4.424 | 0.170 | 4.612 | |
| dyeBiasL | 2.152 | 0.112 | 2.268 | |
| dyeBiasNL | 5.223 | 0.384 | 5.618 | |
| estimateLeukocyte | 4.732 | 0.347 | 5.093 | |
| formatVCF | 1.457 | 0.184 | 1.648 | |
| getAFTypeIbySumAlleles | 1.133 | 0.178 | 1.314 | |
| getAFs | 0.813 | 0.077 | 0.892 | |
| getBetas | 0.609 | 0.092 | 0.705 | |
| getMask | 4.320 | 0.336 | 4.674 | |
| getRefSet | 8.179 | 0.401 | 8.619 | |
| imputeBetas | 12.930 | 1.003 | 13.992 | |
| imputeBetasByGenomicNeighbors | 24.162 | 0.943 | 25.162 | |
| imputeBetasMatrixByMean | 0.001 | 0.000 | 0.001 | |
| inferEthnicity | 0.001 | 0.000 | 0.001 | |
| inferInfiniumIChannel | 0.294 | 0.342 | 0.645 | |
| inferSex | 17.009 | 0.876 | 17.942 | |
| inferSpecies | 9.527 | 0.512 | 10.076 | |
| inferStrain | 5.554 | 0.534 | 6.107 | |
| inferTissue | 4.913 | 1.052 | 5.986 | |
| initFileSet | 0.919 | 0.175 | 1.101 | |
| listAvailableMasks | 0.933 | 0.189 | 1.128 | |
| mLiftOver | 0.000 | 0.001 | 0.001 | |
| mapFileSet | 0.029 | 0.002 | 0.030 | |
| mapToMammal40 | 1.926 | 0.267 | 2.203 | |
| matchDesign | 8.309 | 0.567 | 8.930 | |
| meanIntensity | 2.019 | 0.218 | 2.249 | |
| medianTotalIntensity | 0.647 | 0.056 | 0.707 | |
| noMasked | 2.911 | 0.433 | 3.364 | |
| noob | 1.608 | 0.026 | 1.640 | |
| openSesame | 3.705 | 0.548 | 4.272 | |
| openSesameToFile | 1.086 | 0.040 | 1.133 | |
| pOOBAH | 1.029 | 0.018 | 1.049 | |
| palgen | 0.033 | 0.006 | 0.041 | |
| parseGEOsignalMU | 2.626 | 0.762 | 3.400 | |
| predictAge | 1.714 | 0.116 | 1.838 | |
| predictAgeHorvath353 | 0 | 0 | 0 | |
| predictAgeSkinBlood | 0 | 0 | 0 | |
| predictMouseAgeInMonth | 0 | 0 | 0 | |
| prefixMask | 0.425 | 0.001 | 0.427 | |
| prefixMaskButC | 0.120 | 0.001 | 0.120 | |
| prefixMaskButCG | 0.048 | 0.001 | 0.049 | |
| prepSesame | 2.532 | 0.161 | 2.705 | |
| prepSesameList | 0.001 | 0.001 | 0.001 | |
| print.DMLSummary | 2.317 | 0.721 | 3.058 | |
| print.fileSet | 0.861 | 0.140 | 1.005 | |
| probeID_designType | 0.000 | 0.001 | 0.000 | |
| probeSuccessRate | 3.897 | 0.487 | 4.406 | |
| qualityMask | 1.733 | 0.276 | 2.032 | |
| reIdentify | 3.122 | 0.154 | 3.291 | |
| readFileSet | 0.044 | 0.002 | 0.046 | |
| readIDATpair | 0.103 | 0.001 | 0.106 | |
| recommendedMaskNames | 0.000 | 0.001 | 0.000 | |
| resetMask | 0.360 | 0.052 | 0.416 | |
| scrub | 1.811 | 0.008 | 1.822 | |
| scrubSoft | 2.624 | 0.683 | 3.361 | |
| sdfPlatform | 0.211 | 0.040 | 0.253 | |
| sdf_read_table | 6.649 | 0.260 | 6.932 | |
| sdf_write_table | 2.081 | 0.109 | 2.211 | |
| searchIDATprefixes | 0.003 | 0.002 | 0.006 | |
| sesame-package | 1.560 | 0.102 | 1.666 | |
| sesameAnno_attachManifest | 0.000 | 0.000 | 0.001 | |
| sesameAnno_buildAddressFile | 0.000 | 0.000 | 0.001 | |
| sesameAnno_buildManifestGRanges | 0.000 | 0.000 | 0.001 | |
| sesameAnno_download | 0 | 0 | 0 | |
| sesameAnno_readManifestTSV | 0 | 0 | 0 | |
| sesameQC_calcStats | 16.791 | 1.347 | 18.188 | |
| sesameQC_getStats | 1.528 | 0.002 | 1.532 | |
| sesameQC_plotBar | 9.657 | 0.231 | 9.911 | |
| sesameQC_plotBetaByDesign | 8.688 | 1.142 | 9.865 | |
| sesameQC_plotHeatSNPs | 13.754 | 0.996 | 14.812 | |
| sesameQC_plotIntensVsBetas | 1.447 | 0.113 | 1.570 | |
| sesameQC_plotRedGrnQQ | 1.040 | 0.156 | 1.209 | |
| sesameQC_rankStats | 2.735 | 0.223 | 2.981 | |
| sesameQCtoDF | 1.685 | 0.011 | 1.706 | |
| sesame_checkVersion | 0.003 | 0.001 | 0.003 | |
| sesamize | 0 | 0 | 0 | |
| setMask | 0.219 | 0.028 | 0.249 | |
| signalMU | 0.623 | 0.044 | 0.671 | |
| sliceFileSet | 0.029 | 0.002 | 0.031 | |
| summaryExtractTest | 2.255 | 0.736 | 3.010 | |
| testEnrichment | 4.165 | 0.613 | 4.810 | |
| testEnrichmentGene | 32.103 | 2.378 | 34.657 | |
| testEnrichmentSEA | 8.006 | 0.882 | 8.954 | |
| totalIntensities | 2.367 | 0.172 | 2.566 | |
| updateSigDF | 2.492 | 0.319 | 2.829 | |
| visualizeGene | 8.136 | 0.385 | 8.565 | |
| visualizeProbes | 1.023 | 0.021 | 1.046 | |
| visualizeRegion | 0.272 | 0.002 | 0.276 | |
| visualizeSegments | 1.725 | 0.498 | 2.232 | |