| Back to Multiple platform build/check report for BioC 3.20: simplified long |
|
This page was generated on 2024-11-20 12:08 -0500 (Wed, 20 Nov 2024).
| Hostname | OS | Arch (*) | R version | Installed pkgs |
|---|---|---|---|---|
| teran2 | Linux (Ubuntu 24.04.1 LTS) | x86_64 | 4.4.2 (2024-10-31) -- "Pile of Leaves" | 4481 |
| nebbiolo2 | Linux (Ubuntu 24.04.1 LTS) | x86_64 | 4.4.2 (2024-10-31) -- "Pile of Leaves" | 4479 |
| palomino8 | Windows Server 2022 Datacenter | x64 | 4.4.2 (2024-10-31 ucrt) -- "Pile of Leaves" | 4359 |
| lconway | macOS 12.7.1 Monterey | x86_64 | 4.4.1 (2024-06-14) -- "Race for Your Life" | 4539 |
| kunpeng2 | Linux (openEuler 22.03 LTS-SP1) | aarch64 | 4.4.1 (2024-06-14) -- "Race for Your Life" | 4493 |
| Click on any hostname to see more info about the system (e.g. compilers) (*) as reported by 'uname -p', except on Windows and Mac OS X | ||||
| Package 1938/2289 | Hostname | OS / Arch | INSTALL | BUILD | CHECK | BUILD BIN | ||||||||
| sesame 1.24.0 (landing page) Wanding Zhou
| teran2 | Linux (Ubuntu 24.04.1 LTS) / x86_64 | OK | ERROR | skipped | |||||||||
| nebbiolo2 | Linux (Ubuntu 24.04.1 LTS) / x86_64 | OK | OK | OK | ||||||||||
| palomino8 | Windows Server 2022 Datacenter / x64 | OK | OK | OK | OK | |||||||||
| lconway | macOS 12.7.1 Monterey / x86_64 | OK | OK | OK | OK | |||||||||
| kunpeng2 | Linux (openEuler 22.03 LTS-SP1) / aarch64 | OK | OK | OK | ||||||||||
|
To the developers/maintainers of the sesame package: - Allow up to 24 hours (and sometimes 48 hours) for your latest push to git@git.bioconductor.org:packages/sesame.git to reflect on this report. See Troubleshooting Build Report for more information. - Use the following Renviron settings to reproduce errors and warnings. - If 'R CMD check' started to fail recently on the Linux builder(s) over a missing dependency, add the missing dependency to 'Suggests:' in your DESCRIPTION file. See Renviron.bioc for more information. - See Martin Grigorov's blog post for how to debug Linux ARM64 related issues on a x86_64 host. |
| Package: sesame |
| Version: 1.24.0 |
| Command: /home/biocbuild/R/R/bin/R CMD check --install=check:sesame.install-out.txt --library=/home/biocbuild/R/R/site-library --no-vignettes --timings sesame_1.24.0.tar.gz |
| StartedAt: 2024-11-20 12:24:25 -0000 (Wed, 20 Nov 2024) |
| EndedAt: 2024-11-20 12:41:55 -0000 (Wed, 20 Nov 2024) |
| EllapsedTime: 1049.8 seconds |
| RetCode: 0 |
| Status: OK |
| CheckDir: sesame.Rcheck |
| Warnings: 0 |
##############################################################################
##############################################################################
###
### Running command:
###
### /home/biocbuild/R/R/bin/R CMD check --install=check:sesame.install-out.txt --library=/home/biocbuild/R/R/site-library --no-vignettes --timings sesame_1.24.0.tar.gz
###
##############################################################################
##############################################################################
* using log directory ‘/home/biocbuild/bbs-3.20-bioc/meat/sesame.Rcheck’
* using R version 4.4.1 (2024-06-14)
* using platform: aarch64-unknown-linux-gnu
* R was compiled by
gcc (GCC) 12.2.1 20220819 (openEuler 12.2.1-14)
GNU Fortran (GCC) 10.3.1
* running under: openEuler 22.03 (LTS-SP1)
* using session charset: UTF-8
* using option ‘--no-vignettes’
* checking for file ‘sesame/DESCRIPTION’ ... OK
* checking extension type ... Package
* this is package ‘sesame’ version ‘1.24.0’
* package encoding: UTF-8
* checking package namespace information ... OK
* checking package dependencies ... OK
* checking if this is a source package ... OK
* checking if there is a namespace ... OK
* checking for hidden files and directories ... OK
* checking for portable file names ... OK
* checking for sufficient/correct file permissions ... OK
* checking whether package ‘sesame’ can be installed ... OK
* checking installed package size ... OK
* checking package directory ... OK
* checking ‘build’ directory ... OK
* checking DESCRIPTION meta-information ... OK
* checking top-level files ... OK
* checking for left-over files ... OK
* checking index information ... OK
* checking package subdirectories ... OK
* checking code files for non-ASCII characters ... OK
* checking R files for syntax errors ... OK
* checking whether the package can be loaded ... OK
* checking whether the package can be loaded with stated dependencies ... OK
* checking whether the package can be unloaded cleanly ... OK
* checking whether the namespace can be loaded with stated dependencies ... OK
* checking whether the namespace can be unloaded cleanly ... OK
* checking loading without being on the library search path ... OK
* checking whether startup messages can be suppressed ... OK
* checking dependencies in R code ... OK
* checking S3 generic/method consistency ... OK
* checking replacement functions ... OK
* checking foreign function calls ... OK
* checking R code for possible problems ... OK
* checking Rd files ... OK
* checking Rd metadata ... OK
* checking Rd cross-references ... OK
* checking for missing documentation entries ... OK
* checking for code/documentation mismatches ... OK
* checking Rd \usage sections ... OK
* checking Rd contents ... OK
* checking for unstated dependencies in examples ... OK
* checking files in ‘vignettes’ ... OK
* checking examples ... OK
Examples with CPU (user + system) or elapsed time > 5s
user system elapsed
imputeBetasByGenomicNeighbors 45.179 0.896 46.273
testEnrichmentGene 43.282 0.799 44.170
sesameQC_calcStats 29.932 0.441 30.487
inferSex 28.614 0.379 29.092
imputeBetas 28.020 0.536 28.793
KYCG_plotMeta 25.742 0.219 26.008
sesameQC_plotHeatSNPs 23.650 0.200 23.889
ELBAR 21.594 0.303 21.933
KYCG_plotEnrichAll 20.937 0.480 21.463
inferSpecies 18.408 0.780 19.267
sesameQC_plotBetaByDesign 18.637 0.206 18.900
matchDesign 17.485 0.259 17.817
compareMouseStrainReference 16.161 0.112 16.307
compareReference 14.696 0.243 14.966
KYCG_annoProbes 14.021 0.204 14.246
diffRefSet 13.839 0.168 14.042
KYCG_plotMetaEnrichment 12.812 0.160 12.993
testEnrichmentSEA 12.820 0.116 12.958
sesameQC_plotBar 12.575 0.319 12.959
getRefSet 12.105 0.139 12.291
KYCG_buildGeneDBs 10.831 0.240 11.088
inferStrain 9.916 0.323 10.274
visualizeGene 9.801 0.200 10.019
DML 9.539 0.259 9.820
DMR 9.388 0.140 9.548
estimateLeukocyte 8.860 0.176 9.060
sdf_read_table 8.757 0.155 8.946
dyeBiasNL 8.698 0.044 8.761
inferTissue 8.551 0.155 8.738
dbStats 8.358 0.128 8.505
getMask 7.493 0.172 7.688
KYCG_plotSetEnrichment 7.434 0.123 7.572
deidentify 7.307 0.091 7.421
openSesame 6.706 0.160 6.956
scrubSoft 6.449 0.111 6.585
createUCSCtrack 6.345 0.160 6.525
probeSuccessRate 6.193 0.171 6.394
dyeBiasCorrMostBalanced 6.077 0.091 6.188
reIdentify 6.007 0.083 6.111
testEnrichment 5.896 0.151 6.060
sesameQC_rankStats 5.173 0.072 5.258
* checking for unstated dependencies in ‘tests’ ... OK
* checking tests ...
Running ‘testthat.R’
OK
* checking for unstated dependencies in vignettes ... OK
* checking package vignettes ... OK
* checking running R code from vignettes ... SKIPPED
* checking re-building of vignette outputs ... SKIPPED
* checking PDF version of manual ... OK
* DONE
Status: OK
sesame.Rcheck/00install.out
############################################################################## ############################################################################## ### ### Running command: ### ### /home/biocbuild/R/R/bin/R CMD INSTALL sesame ### ############################################################################## ############################################################################## * installing to library ‘/home/biocbuild/R/R-4.4.1/site-library’ * installing *source* package ‘sesame’ ... ** using staged installation ** R ** inst ** byte-compile and prepare package for lazy loading ** help *** installing help indices ** building package indices ** installing vignettes ** testing if installed package can be loaded from temporary location ** testing if installed package can be loaded from final location ** testing if installed package keeps a record of temporary installation path * DONE (sesame)
sesame.Rcheck/tests/testthat.Rout
R version 4.4.1 (2024-06-14) -- "Race for Your Life"
Copyright (C) 2024 The R Foundation for Statistical Computing
Platform: aarch64-unknown-linux-gnu
R is free software and comes with ABSOLUTELY NO WARRANTY.
You are welcome to redistribute it under certain conditions.
Type 'license()' or 'licence()' for distribution details.
R is a collaborative project with many contributors.
Type 'contributors()' for more information and
'citation()' on how to cite R or R packages in publications.
Type 'demo()' for some demos, 'help()' for on-line help, or
'help.start()' for an HTML browser interface to help.
Type 'q()' to quit R.
> library(testthat)
> library(sesame)
Loading required package: sesameData
Loading required package: ExperimentHub
Loading required package: BiocGenerics
Attaching package: 'BiocGenerics'
The following objects are masked from 'package:stats':
IQR, mad, sd, var, xtabs
The following objects are masked from 'package:base':
Filter, Find, Map, Position, Reduce, anyDuplicated, aperm, append,
as.data.frame, basename, cbind, colnames, dirname, do.call,
duplicated, eval, evalq, get, grep, grepl, intersect, is.unsorted,
lapply, mapply, match, mget, order, paste, pmax, pmax.int, pmin,
pmin.int, rank, rbind, rownames, sapply, saveRDS, setdiff, table,
tapply, union, unique, unsplit, which.max, which.min
Loading required package: AnnotationHub
Loading required package: BiocFileCache
Loading required package: dbplyr
Loading sesameData.
----------------------------------------------------------
| SEnsible Step-wise Analysis of DNA MEthylation (SeSAMe)
| --------------------------------------------------------
| Please cache auxiliary data by "sesameDataCache()".
| This needs to be done only once per SeSAMe installation.
----------------------------------------------------------
>
> test_check("sesame")
[ FAIL 0 | WARN 0 | SKIP 0 | PASS 5 ]
>
> proc.time()
user system elapsed
22.280 0.739 22.955
sesame.Rcheck/sesame-Ex.timings
| name | user | system | elapsed | |
| BetaValueToMValue | 0 | 0 | 0 | |
| DML | 9.539 | 0.259 | 9.820 | |
| DMLpredict | 1.484 | 0.028 | 1.515 | |
| DMR | 9.388 | 0.140 | 9.548 | |
| ELBAR | 21.594 | 0.303 | 21.933 | |
| KYCG_annoProbes | 14.021 | 0.204 | 14.246 | |
| KYCG_buildGeneDBs | 10.831 | 0.240 | 11.088 | |
| KYCG_getDBs | 3.030 | 0.056 | 3.091 | |
| KYCG_listDBGroups | 0.033 | 0.000 | 0.034 | |
| KYCG_loadDBs | 0 | 0 | 0 | |
| KYCG_plotBar | 0.203 | 0.043 | 0.248 | |
| KYCG_plotDot | 0.779 | 0.004 | 0.784 | |
| KYCG_plotEnrichAll | 20.937 | 0.480 | 21.463 | |
| KYCG_plotLollipop | 0.203 | 0.003 | 0.207 | |
| KYCG_plotManhattan | 1.589 | 0.007 | 1.600 | |
| KYCG_plotMeta | 25.742 | 0.219 | 26.008 | |
| KYCG_plotMetaEnrichment | 12.812 | 0.160 | 12.993 | |
| KYCG_plotPointRange | 2.580 | 0.020 | 2.605 | |
| KYCG_plotSetEnrichment | 7.434 | 0.123 | 7.572 | |
| KYCG_plotVolcano | 0.180 | 0.000 | 0.181 | |
| KYCG_plotWaterfall | 3.012 | 0.084 | 3.102 | |
| MValueToBetaValue | 0 | 0 | 0 | |
| SigDF | 0.352 | 0.012 | 0.365 | |
| addMask | 0.116 | 0.000 | 0.117 | |
| aggregateTestEnrichments | 2.469 | 0.012 | 2.485 | |
| betasCollapseToPfx | 0.016 | 0.000 | 0.016 | |
| bisConversionControl | 4.851 | 0.108 | 4.970 | |
| calcEffectSize | 1.357 | 0.028 | 1.387 | |
| checkLevels | 3.777 | 0.072 | 3.867 | |
| cnSegmentation | 0.335 | 0.020 | 0.355 | |
| compareMouseStrainReference | 16.161 | 0.112 | 16.307 | |
| compareMouseTissueReference | 0 | 0 | 0 | |
| compareReference | 14.696 | 0.243 | 14.966 | |
| controls | 2.162 | 0.028 | 2.194 | |
| createUCSCtrack | 6.345 | 0.160 | 6.525 | |
| dbStats | 8.358 | 0.128 | 8.505 | |
| deidentify | 7.307 | 0.091 | 7.421 | |
| detectionPnegEcdf | 3.115 | 0.024 | 3.146 | |
| diffRefSet | 13.839 | 0.168 | 14.042 | |
| dmContrasts | 2.311 | 0.032 | 2.348 | |
| dyeBiasCorr | 3.525 | 0.060 | 3.594 | |
| dyeBiasCorrMostBalanced | 6.077 | 0.091 | 6.188 | |
| dyeBiasL | 3.791 | 0.080 | 3.880 | |
| dyeBiasNL | 8.698 | 0.044 | 8.761 | |
| estimateLeukocyte | 8.860 | 0.176 | 9.060 | |
| formatVCF | 2.309 | 0.039 | 2.356 | |
| getAFTypeIbySumAlleles | 2.139 | 0.091 | 2.237 | |
| getAFs | 1.581 | 0.056 | 1.640 | |
| getBetas | 1.076 | 0.036 | 1.114 | |
| getMask | 7.493 | 0.172 | 7.688 | |
| getRefSet | 12.105 | 0.139 | 12.291 | |
| imputeBetas | 28.020 | 0.536 | 28.793 | |
| imputeBetasByGenomicNeighbors | 45.179 | 0.896 | 46.273 | |
| imputeBetasMatrixByMean | 0.001 | 0.000 | 0.001 | |
| inferEthnicity | 0 | 0 | 0 | |
| inferInfiniumIChannel | 0.338 | 0.099 | 0.439 | |
| inferSex | 28.614 | 0.379 | 29.092 | |
| inferSpecies | 18.408 | 0.780 | 19.267 | |
| inferStrain | 9.916 | 0.323 | 10.274 | |
| inferTissue | 8.551 | 0.155 | 8.738 | |
| initFileSet | 1.284 | 0.052 | 1.342 | |
| listAvailableMasks | 1.460 | 0.048 | 1.512 | |
| mLiftOver | 0.001 | 0.000 | 0.000 | |
| mapFileSet | 0.032 | 0.008 | 0.044 | |
| mapToMammal40 | 3.383 | 0.079 | 3.478 | |
| matchDesign | 17.485 | 0.259 | 17.817 | |
| meanIntensity | 3.146 | 0.107 | 3.267 | |
| medianTotalIntensity | 1.302 | 0.056 | 1.364 | |
| noMasked | 4.306 | 0.084 | 4.409 | |
| noob | 3.552 | 0.079 | 3.645 | |
| openSesame | 6.706 | 0.160 | 6.956 | |
| openSesameToFile | 2.021 | 0.044 | 2.075 | |
| pOOBAH | 1.736 | 0.008 | 1.750 | |
| palgen | 0.055 | 0.000 | 0.059 | |
| parseGEOsignalMU | 4.087 | 0.095 | 4.199 | |
| predictAge | 2.376 | 0.119 | 2.506 | |
| predictAgeHorvath353 | 0 | 0 | 0 | |
| predictAgeSkinBlood | 0 | 0 | 0 | |
| predictMouseAgeInMonth | 0 | 0 | 0 | |
| prefixMask | 0.501 | 0.004 | 0.507 | |
| prefixMaskButC | 0.141 | 0.000 | 0.141 | |
| prefixMaskButCG | 0.057 | 0.000 | 0.057 | |
| prepSesame | 4.761 | 0.115 | 4.899 | |
| prepSesameList | 0.002 | 0.000 | 0.002 | |
| print.DMLSummary | 3.645 | 0.155 | 3.816 | |
| print.fileSet | 1.364 | 0.056 | 1.427 | |
| probeID_designType | 0 | 0 | 0 | |
| probeSuccessRate | 6.193 | 0.171 | 6.394 | |
| qualityMask | 2.934 | 0.064 | 3.007 | |
| reIdentify | 6.007 | 0.083 | 6.111 | |
| readFileSet | 0.055 | 0.000 | 0.055 | |
| readIDATpair | 0.142 | 0.000 | 0.143 | |
| recommendedMaskNames | 0 | 0 | 0 | |
| resetMask | 0.536 | 0.016 | 0.553 | |
| scrub | 3.964 | 0.068 | 4.047 | |
| scrubSoft | 6.449 | 0.111 | 6.585 | |
| sdfPlatform | 0.332 | 0.048 | 0.382 | |
| sdf_read_table | 8.757 | 0.155 | 8.946 | |
| sdf_write_table | 2.155 | 0.060 | 2.223 | |
| searchIDATprefixes | 0.002 | 0.004 | 0.015 | |
| sesame-package | 2.571 | 0.104 | 2.691 | |
| sesameAnno_attachManifest | 0 | 0 | 0 | |
| sesameAnno_buildAddressFile | 0 | 0 | 0 | |
| sesameAnno_buildManifestGRanges | 0 | 0 | 0 | |
| sesameAnno_download | 0 | 0 | 0 | |
| sesameAnno_readManifestTSV | 0 | 0 | 0 | |
| sesameQC_calcStats | 29.932 | 0.441 | 30.487 | |
| sesameQC_getStats | 2.424 | 0.016 | 2.447 | |
| sesameQC_plotBar | 12.575 | 0.319 | 12.959 | |
| sesameQC_plotBetaByDesign | 18.637 | 0.206 | 18.900 | |
| sesameQC_plotHeatSNPs | 23.650 | 0.200 | 23.889 | |
| sesameQC_plotIntensVsBetas | 3.220 | 0.020 | 3.245 | |
| sesameQC_plotRedGrnQQ | 1.783 | 0.036 | 1.822 | |
| sesameQC_rankStats | 5.173 | 0.072 | 5.258 | |
| sesameQCtoDF | 2.398 | 0.004 | 2.406 | |
| sesame_checkVersion | 0.004 | 0.000 | 0.004 | |
| sesamize | 0 | 0 | 0 | |
| setMask | 0.134 | 0.004 | 0.138 | |
| signalMU | 1.450 | 0.012 | 1.465 | |
| sliceFileSet | 0.043 | 0.000 | 0.042 | |
| summaryExtractTest | 3.361 | 0.104 | 3.472 | |
| testEnrichment | 5.896 | 0.151 | 6.060 | |
| testEnrichmentGene | 43.282 | 0.799 | 44.170 | |
| testEnrichmentSEA | 12.820 | 0.116 | 12.958 | |
| totalIntensities | 3.305 | 0.059 | 3.371 | |
| updateSigDF | 4.053 | 0.080 | 4.142 | |
| visualizeGene | 9.801 | 0.200 | 10.019 | |
| visualizeProbes | 3.594 | 0.044 | 3.643 | |
| visualizeRegion | 0.478 | 0.004 | 0.483 | |
| visualizeSegments | 2.014 | 0.076 | 2.094 | |