| Back to Multiple platform build/check report for BioC 3.20: simplified long |
|
This page was generated on 2024-11-09 21:31 -0500 (Sat, 09 Nov 2024).
| Hostname | OS | Arch (*) | R version | Installed pkgs |
|---|---|---|---|---|
| teran2 | Linux (Ubuntu 24.04.1 LTS) | x86_64 | 4.4.1 (2024-06-14) -- "Race for Your Life" | 4505 |
| palomino8 | Windows Server 2022 Datacenter | x64 | 4.4.1 (2024-06-14 ucrt) -- "Race for Your Life" | 4506 |
| lconway | macOS 12.7.1 Monterey | x86_64 | 4.4.1 (2024-06-14) -- "Race for Your Life" | 4538 |
| kjohnson3 | macOS 13.6.5 Ventura | arm64 | 4.4.1 (2024-06-14) -- "Race for Your Life" | 4486 |
| kunpeng2 | Linux (openEuler 22.03 LTS-SP1) | aarch64 | 4.4.1 (2024-06-14) -- "Race for Your Life" | 4493 |
| Click on any hostname to see more info about the system (e.g. compilers) (*) as reported by 'uname -p', except on Windows and Mac OS X | ||||
| Package 1464/2289 | Hostname | OS / Arch | INSTALL | BUILD | CHECK | BUILD BIN | ||||||||
| ontoProc 2.0.0 (landing page) Vincent Carey
| teran2 | Linux (Ubuntu 24.04.1 LTS) / x86_64 | OK | OK | OK | |||||||||
| palomino8 | Windows Server 2022 Datacenter / x64 | OK | OK | OK | OK | |||||||||
| lconway | macOS 12.7.1 Monterey / x86_64 | OK | OK | OK | OK | |||||||||
| kjohnson3 | macOS 13.6.5 Ventura / arm64 | OK | OK | OK | OK | |||||||||
| kunpeng2 | Linux (openEuler 22.03 LTS-SP1) / aarch64 | OK | OK | OK | ||||||||||
|
To the developers/maintainers of the ontoProc package: - Allow up to 24 hours (and sometimes 48 hours) for your latest push to git@git.bioconductor.org:packages/ontoProc.git to reflect on this report. See Troubleshooting Build Report for more information. - Use the following Renviron settings to reproduce errors and warnings. - If 'R CMD check' started to fail recently on the Linux builder(s) over a missing dependency, add the missing dependency to 'Suggests:' in your DESCRIPTION file. See Renviron.bioc for more information. |
| Package: ontoProc |
| Version: 2.0.0 |
| Command: /Library/Frameworks/R.framework/Resources/bin/R CMD check --install=check:ontoProc.install-out.txt --library=/Library/Frameworks/R.framework/Resources/library --no-vignettes --timings ontoProc_2.0.0.tar.gz |
| StartedAt: 2024-11-09 09:00:51 -0500 (Sat, 09 Nov 2024) |
| EndedAt: 2024-11-09 09:08:49 -0500 (Sat, 09 Nov 2024) |
| EllapsedTime: 477.6 seconds |
| RetCode: 0 |
| Status: OK |
| CheckDir: ontoProc.Rcheck |
| Warnings: 0 |
##############################################################################
##############################################################################
###
### Running command:
###
### /Library/Frameworks/R.framework/Resources/bin/R CMD check --install=check:ontoProc.install-out.txt --library=/Library/Frameworks/R.framework/Resources/library --no-vignettes --timings ontoProc_2.0.0.tar.gz
###
##############################################################################
##############################################################################
* using log directory ‘/Users/biocbuild/bbs-3.20-bioc/meat/ontoProc.Rcheck’
* using R version 4.4.1 (2024-06-14)
* using platform: aarch64-apple-darwin20
* R was compiled by
Apple clang version 14.0.0 (clang-1400.0.29.202)
GNU Fortran (GCC) 12.2.0
* running under: macOS Ventura 13.6.7
* using session charset: UTF-8
* using option ‘--no-vignettes’
* checking for file ‘ontoProc/DESCRIPTION’ ... OK
* this is package ‘ontoProc’ version ‘2.0.0’
* package encoding: UTF-8
* checking package namespace information ... OK
* checking package dependencies ...Warning: unable to access index for repository https://CRAN.R-project.org/src/contrib:
cannot open URL 'https://CRAN.R-project.org/src/contrib/PACKAGES'
OK
* checking if this is a source package ... OK
* checking if there is a namespace ... OK
* checking for hidden files and directories ... OK
* checking for portable file names ... OK
* checking for sufficient/correct file permissions ... OK
* checking whether package ‘ontoProc’ can be installed ... OK
* checking installed package size ... NOTE
installed size is 10.4Mb
sub-directories of 1Mb or more:
app 1.9Mb
data 1.8Mb
ontoRda 2.8Mb
owl 3.3Mb
* checking package directory ... OK
* checking ‘build’ directory ... OK
* checking DESCRIPTION meta-information ... OK
* checking top-level files ... OK
* checking for left-over files ... OK
* checking index information ... OK
* checking package subdirectories ... OK
* checking code files for non-ASCII characters ... OK
* checking R files for syntax errors ... OK
* checking whether the package can be loaded ... OK
* checking whether the package can be loaded with stated dependencies ... OK
* checking whether the package can be unloaded cleanly ... OK
* checking whether the namespace can be loaded with stated dependencies ... OK
* checking whether the namespace can be unloaded cleanly ... OK
* checking dependencies in R code ... OK
* checking S3 generic/method consistency ... OK
* checking replacement functions ... OK
* checking foreign function calls ... OK
* checking R code for possible problems ... NOTE
CLfeat : prupdate: no visible binding for global variable ‘PROSYM’
CLfeat : prupdate: no visible binding for global variable ‘PRID’
CLfeat : prupdate: no visible binding for global variable ‘SYMBOL’
ctmarks : server: no visible binding for global variable ‘text’
ctmarks : server: no visible binding for global variable ‘packDesc2022’
ctmarks : server: no visible binding for global variable ‘packDesc2021’
ctmarks: no visible binding for global variable ‘cumu’
dropStop: no visible binding for global variable ‘stopWords’
getOnto: no visible binding for global variable ‘rdatadateadded’
getOnto: no visible binding for global variable ‘title’
getOnto: no visible binding for global variable ‘description’
ldfToTerm: no visible binding for global variable ‘PROSYM’
sym2CellOnto: no visible binding for global variable ‘PROSYM’
sym2CellOnto: no visible binding for global variable ‘SYMBOL’
Undefined global functions or variables:
PRID PROSYM SYMBOL cumu description packDesc2021 packDesc2022
rdatadateadded stopWords text title
Consider adding
importFrom("graphics", "text", "title")
to your NAMESPACE file.
* checking Rd files ... OK
* checking Rd metadata ... OK
* checking Rd cross-references ... OK
* checking for missing documentation entries ... OK
* checking for code/documentation mismatches ... OK
* checking Rd \usage sections ... NOTE
S3 methods shown with full name in Rd file 'plot.owlents.Rd':
‘plot.owlents’
The \usage entries for S3 methods should use the \method markup and not
their full name.
See chapter ‘Writing R documentation files’ in the ‘Writing R
Extensions’ manual.
* checking Rd contents ... OK
* checking for unstated dependencies in examples ... OK
* checking contents of ‘data’ directory ... OK
* checking data for non-ASCII characters ... NOTE
Note: found 162 marked UTF-8 strings
* checking data for ASCII and uncompressed saves ... OK
* checking files in ‘vignettes’ ... OK
* checking examples ... OK
Examples with CPU (user + system) or elapsed time > 5s
user system elapsed
sym2CellOnto 16.067 0.264 16.675
CLfeats 10.358 0.346 11.489
siblings_TAG 8.924 0.330 9.704
owl2cache 6.063 0.113 6.775
fastGrep 5.444 0.134 5.735
nomenCheckup 5.332 0.139 5.617
labels.owlents 5.259 0.150 6.192
getLeavesFromTerm 4.924 0.110 5.208
findCommonAncestors 3.327 0.143 5.935
search_labels 0.073 0.012 19.884
bioregistry_ols_resources 0.015 0.006 5.240
* checking for unstated dependencies in ‘tests’ ... OK
* checking tests ...
Running ‘test.R’
OK
* checking for unstated dependencies in vignettes ... OK
* checking package vignettes ... OK
* checking running R code from vignettes ... SKIPPED
* checking re-building of vignette outputs ... SKIPPED
* checking PDF version of manual ... OK
* DONE
Status: 4 NOTEs
See
‘/Users/biocbuild/bbs-3.20-bioc/meat/ontoProc.Rcheck/00check.log’
for details.
ontoProc.Rcheck/00install.out
############################################################################## ############################################################################## ### ### Running command: ### ### /Library/Frameworks/R.framework/Resources/bin/R CMD INSTALL ontoProc ### ############################################################################## ############################################################################## * installing to library ‘/Library/Frameworks/R.framework/Versions/4.4-arm64/Resources/library’ * installing *source* package ‘ontoProc’ ... ** using staged installation ** R ** data ** inst ** byte-compile and prepare package for lazy loading ** help *** installing help indices ** building package indices ** installing vignettes ** testing if installed package can be loaded from temporary location ** testing if installed package can be loaded from final location ** testing if installed package keeps a record of temporary installation path * DONE (ontoProc)
ontoProc.Rcheck/tests/test.Rout
R version 4.4.1 (2024-06-14) -- "Race for Your Life"
Copyright (C) 2024 The R Foundation for Statistical Computing
Platform: aarch64-apple-darwin20
R is free software and comes with ABSOLUTELY NO WARRANTY.
You are welcome to redistribute it under certain conditions.
Type 'license()' or 'licence()' for distribution details.
R is a collaborative project with many contributors.
Type 'contributors()' for more information and
'citation()' on how to cite R or R packages in publications.
Type 'demo()' for some demos, 'help()' for on-line help, or
'help.start()' for an HTML browser interface to help.
Type 'q()' to quit R.
>
> library(ontoProc)
Loading required package: ontologyIndex
> library(testthat)
>
> test_check("ontoProc")
[ FAIL 0 | WARN 0 | SKIP 0 | PASS 12 ]
>
>
> proc.time()
user system elapsed
39.021 1.628 41.971
ontoProc.Rcheck/ontoProc-Ex.timings
| name | user | system | elapsed | |
| CLfeats | 10.358 | 0.346 | 11.489 | |
| PROSYM | 0.091 | 0.001 | 0.091 | |
| TermSet-class | 3.032 | 0.133 | 3.320 | |
| allGOterms | 0.035 | 0.001 | 0.035 | |
| ancestors | 3.937 | 0.109 | 3.697 | |
| ancestors_names | 1.028 | 0.026 | 1.054 | |
| bioregistry_ols_resources | 0.015 | 0.006 | 5.240 | |
| cellTypeToGO | 0.623 | 0.026 | 0.652 | |
| children_names | 0.947 | 0.010 | 0.958 | |
| cleanCLOnames | 4.243 | 0.100 | 4.532 | |
| common_classes | 3.861 | 0.162 | 4.189 | |
| ctmarks | 0 | 0 | 0 | |
| cyclicSigset | 0.002 | 0.000 | 0.002 | |
| demoApp | 0 | 0 | 0 | |
| dropStop | 0.001 | 0.001 | 0.002 | |
| fastGrep | 5.444 | 0.134 | 5.735 | |
| findCommonAncestors | 3.327 | 0.143 | 5.935 | |
| getLeavesFromTerm | 4.924 | 0.110 | 5.208 | |
| getOnto | 2.611 | 0.106 | 2.873 | |
| humrna | 0.003 | 0.000 | 0.004 | |
| labels.owlents | 5.259 | 0.150 | 6.192 | |
| ldfToTerms | 0.975 | 0.017 | 0.992 | |
| liberalMap | 2.531 | 0.095 | 2.881 | |
| makeSelectInput | 0.001 | 0.000 | 0.000 | |
| make_graphNEL_from_ontology_plot | 2.659 | 0.094 | 2.901 | |
| mapOneNaive | 2.729 | 0.090 | 2.968 | |
| minicorpus | 0.001 | 0.000 | 0.001 | |
| nomenCheckup | 5.332 | 0.139 | 5.617 | |
| onto_plot2 | 2.463 | 0.090 | 2.723 | |
| onto_roots | 0 | 0 | 0 | |
| owl2cache | 6.063 | 0.113 | 6.775 | |
| packDesc2019 | 0.001 | 0.000 | 0.001 | |
| packDesc2021 | 0.000 | 0.001 | 0.001 | |
| packDesc2022 | 0.000 | 0.000 | 0.001 | |
| packDesc2023 | 0.001 | 0.001 | 0.001 | |
| parents | 0.900 | 0.009 | 0.909 | |
| plot.owlents | 1.154 | 0.012 | 1.167 | |
| recognizedPredicates | 0 | 0 | 0 | |
| search_labels | 0.073 | 0.012 | 19.884 | |
| secLevGen | 2.971 | 0.103 | 3.443 | |
| selectFromMap | 2.619 | 0.130 | 2.894 | |
| setup_entities | 1.172 | 0.011 | 1.184 | |
| setup_entities2 | 0.100 | 0.003 | 0.103 | |
| seur3kTab | 0.002 | 0.001 | 0.002 | |
| siblings_TAG | 8.924 | 0.330 | 9.704 | |
| stopWords | 0.001 | 0.001 | 0.001 | |
| subclasses | 1.187 | 0.012 | 1.199 | |
| sym2CellOnto | 16.067 | 0.264 | 16.675 | |
| valid_ontonames | 0 | 0 | 0 | |