| Back to Multiple platform build/check report for BioC 3.20: simplified long |
|
This page was generated on 2024-11-20 12:06 -0500 (Wed, 20 Nov 2024).
| Hostname | OS | Arch (*) | R version | Installed pkgs |
|---|---|---|---|---|
| teran2 | Linux (Ubuntu 24.04.1 LTS) | x86_64 | 4.4.2 (2024-10-31) -- "Pile of Leaves" | 4481 |
| nebbiolo2 | Linux (Ubuntu 24.04.1 LTS) | x86_64 | 4.4.2 (2024-10-31) -- "Pile of Leaves" | 4479 |
| palomino8 | Windows Server 2022 Datacenter | x64 | 4.4.2 (2024-10-31 ucrt) -- "Pile of Leaves" | 4359 |
| lconway | macOS 12.7.1 Monterey | x86_64 | 4.4.1 (2024-06-14) -- "Race for Your Life" | 4539 |
| kunpeng2 | Linux (openEuler 22.03 LTS-SP1) | aarch64 | 4.4.1 (2024-06-14) -- "Race for Your Life" | 4493 |
| Click on any hostname to see more info about the system (e.g. compilers) (*) as reported by 'uname -p', except on Windows and Mac OS X | ||||
| Package 1464/2289 | Hostname | OS / Arch | INSTALL | BUILD | CHECK | BUILD BIN | ||||||||
| ontoProc 2.0.0 (landing page) Vincent Carey
| teran2 | Linux (Ubuntu 24.04.1 LTS) / x86_64 | OK | OK | OK | |||||||||
| nebbiolo2 | Linux (Ubuntu 24.04.1 LTS) / x86_64 | OK | OK | OK | ||||||||||
| palomino8 | Windows Server 2022 Datacenter / x64 | OK | OK | OK | OK | |||||||||
| lconway | macOS 12.7.1 Monterey / x86_64 | OK | OK | OK | OK | |||||||||
| kunpeng2 | Linux (openEuler 22.03 LTS-SP1) / aarch64 | OK | OK | OK | ||||||||||
|
To the developers/maintainers of the ontoProc package: - Allow up to 24 hours (and sometimes 48 hours) for your latest push to git@git.bioconductor.org:packages/ontoProc.git to reflect on this report. See Troubleshooting Build Report for more information. - Use the following Renviron settings to reproduce errors and warnings. - If 'R CMD check' started to fail recently on the Linux builder(s) over a missing dependency, add the missing dependency to 'Suggests:' in your DESCRIPTION file. See Renviron.bioc for more information. |
| Package: ontoProc |
| Version: 2.0.0 |
| Command: /Library/Frameworks/R.framework/Resources/bin/R CMD check --install=check:ontoProc.install-out.txt --library=/Library/Frameworks/R.framework/Resources/library --no-vignettes --timings ontoProc_2.0.0.tar.gz |
| StartedAt: 2024-11-20 00:48:43 -0500 (Wed, 20 Nov 2024) |
| EndedAt: 2024-11-20 01:06:28 -0500 (Wed, 20 Nov 2024) |
| EllapsedTime: 1064.8 seconds |
| RetCode: 0 |
| Status: OK |
| CheckDir: ontoProc.Rcheck |
| Warnings: 0 |
##############################################################################
##############################################################################
###
### Running command:
###
### /Library/Frameworks/R.framework/Resources/bin/R CMD check --install=check:ontoProc.install-out.txt --library=/Library/Frameworks/R.framework/Resources/library --no-vignettes --timings ontoProc_2.0.0.tar.gz
###
##############################################################################
##############################################################################
* using log directory ‘/Users/biocbuild/bbs-3.20-bioc/meat/ontoProc.Rcheck’
* using R version 4.4.1 (2024-06-14)
* using platform: x86_64-apple-darwin20
* R was compiled by
Apple clang version 14.0.0 (clang-1400.0.29.202)
GNU Fortran (GCC) 12.2.0
* running under: macOS Monterey 12.7.6
* using session charset: UTF-8
* using option ‘--no-vignettes’
* checking for file ‘ontoProc/DESCRIPTION’ ... OK
* this is package ‘ontoProc’ version ‘2.0.0’
* package encoding: UTF-8
* checking package namespace information ... OK
* checking package dependencies ...Warning: unable to access index for repository https://CRAN.R-project.org/src/contrib:
cannot open URL 'https://CRAN.R-project.org/src/contrib/PACKAGES'
OK
* checking if this is a source package ... OK
* checking if there is a namespace ... OK
* checking for hidden files and directories ... OK
* checking for portable file names ... OK
* checking for sufficient/correct file permissions ... OK
* checking whether package ‘ontoProc’ can be installed ... OK
* checking installed package size ... NOTE
installed size is 10.4Mb
sub-directories of 1Mb or more:
app 1.9Mb
data 1.8Mb
ontoRda 2.8Mb
owl 3.3Mb
* checking package directory ... OK
* checking ‘build’ directory ... OK
* checking DESCRIPTION meta-information ... OK
* checking top-level files ... OK
* checking for left-over files ... OK
* checking index information ... OK
* checking package subdirectories ... OK
* checking code files for non-ASCII characters ... OK
* checking R files for syntax errors ... OK
* checking whether the package can be loaded ... OK
* checking whether the package can be loaded with stated dependencies ... OK
* checking whether the package can be unloaded cleanly ... OK
* checking whether the namespace can be loaded with stated dependencies ... OK
* checking whether the namespace can be unloaded cleanly ... OK
* checking dependencies in R code ... OK
* checking S3 generic/method consistency ... OK
* checking replacement functions ... OK
* checking foreign function calls ... OK
* checking R code for possible problems ... NOTE
CLfeat : prupdate: no visible binding for global variable ‘PROSYM’
CLfeat : prupdate: no visible binding for global variable ‘PRID’
CLfeat : prupdate: no visible binding for global variable ‘SYMBOL’
ctmarks : server: no visible binding for global variable ‘text’
ctmarks : server: no visible binding for global variable ‘packDesc2022’
ctmarks : server: no visible binding for global variable ‘packDesc2021’
ctmarks: no visible binding for global variable ‘cumu’
dropStop: no visible binding for global variable ‘stopWords’
getOnto: no visible binding for global variable ‘rdatadateadded’
getOnto: no visible binding for global variable ‘title’
getOnto: no visible binding for global variable ‘description’
ldfToTerm: no visible binding for global variable ‘PROSYM’
sym2CellOnto: no visible binding for global variable ‘PROSYM’
sym2CellOnto: no visible binding for global variable ‘SYMBOL’
Undefined global functions or variables:
PRID PROSYM SYMBOL cumu description packDesc2021 packDesc2022
rdatadateadded stopWords text title
Consider adding
importFrom("graphics", "text", "title")
to your NAMESPACE file.
* checking Rd files ... OK
* checking Rd metadata ... OK
* checking Rd cross-references ... OK
* checking for missing documentation entries ... OK
* checking for code/documentation mismatches ... OK
* checking Rd \usage sections ... NOTE
S3 methods shown with full name in Rd file 'plot.owlents.Rd':
‘plot.owlents’
The \usage entries for S3 methods should use the \method markup and not
their full name.
See chapter ‘Writing R documentation files’ in the ‘Writing R
Extensions’ manual.
* checking Rd contents ... OK
* checking for unstated dependencies in examples ... OK
* checking contents of ‘data’ directory ... OK
* checking data for non-ASCII characters ... NOTE
Note: found 162 marked UTF-8 strings
* checking data for ASCII and uncompressed saves ... OK
* checking files in ‘vignettes’ ... OK
* checking examples ... OK
Examples with CPU (user + system) or elapsed time > 5s
user system elapsed
sym2CellOnto 30.891 0.840 32.538
CLfeats 23.164 1.126 25.998
nomenCheckup 17.838 0.656 27.366
siblings_TAG 17.454 0.826 19.362
fastGrep 14.634 0.829 15.847
cleanCLOnames 12.842 0.908 14.428
labels.owlents 12.204 0.647 14.156
owl2cache 10.546 1.192 13.277
getLeavesFromTerm 11.069 0.274 11.544
ancestors 9.623 0.744 14.935
onto_plot2 8.411 1.820 98.718
common_classes 8.959 0.613 12.029
findCommonAncestors 7.399 0.391 8.016
TermSet-class 7.090 0.337 7.733
mapOneNaive 7.025 0.296 7.631
secLevGen 6.135 0.536 31.659
getOnto 6.166 0.247 6.603
liberalMap 6.126 0.231 6.919
make_graphNEL_from_ontology_plot 6.082 0.229 6.478
selectFromMap 5.698 0.272 6.258
search_labels 0.301 0.042 92.975
bioregistry_ols_resources 0.037 0.053 64.983
* checking for unstated dependencies in ‘tests’ ... OK
* checking tests ...
Running ‘test.R’
OK
* checking for unstated dependencies in vignettes ... OK
* checking package vignettes ... OK
* checking running R code from vignettes ... SKIPPED
* checking re-building of vignette outputs ... SKIPPED
* checking PDF version of manual ... OK
* DONE
Status: 4 NOTEs
See
‘/Users/biocbuild/bbs-3.20-bioc/meat/ontoProc.Rcheck/00check.log’
for details.
ontoProc.Rcheck/00install.out
############################################################################## ############################################################################## ### ### Running command: ### ### /Library/Frameworks/R.framework/Resources/bin/R CMD INSTALL ontoProc ### ############################################################################## ############################################################################## * installing to library ‘/Library/Frameworks/R.framework/Versions/4.4-x86_64/Resources/library’ * installing *source* package ‘ontoProc’ ... ** using staged installation ** R ** data ** inst ** byte-compile and prepare package for lazy loading ** help *** installing help indices ** building package indices ** installing vignettes ** testing if installed package can be loaded from temporary location ** testing if installed package can be loaded from final location ** testing if installed package keeps a record of temporary installation path * DONE (ontoProc)
ontoProc.Rcheck/tests/test.Rout
R version 4.4.1 (2024-06-14) -- "Race for Your Life"
Copyright (C) 2024 The R Foundation for Statistical Computing
Platform: x86_64-apple-darwin20
R is free software and comes with ABSOLUTELY NO WARRANTY.
You are welcome to redistribute it under certain conditions.
Type 'license()' or 'licence()' for distribution details.
R is a collaborative project with many contributors.
Type 'contributors()' for more information and
'citation()' on how to cite R or R packages in publications.
Type 'demo()' for some demos, 'help()' for on-line help, or
'help.start()' for an HTML browser interface to help.
Type 'q()' to quit R.
>
> library(ontoProc)
Loading required package: ontologyIndex
> library(testthat)
>
> test_check("ontoProc")
[ FAIL 0 | WARN 0 | SKIP 0 | PASS 12 ]
>
>
> proc.time()
user system elapsed
88.102 5.166 102.908
ontoProc.Rcheck/ontoProc-Ex.timings
| name | user | system | elapsed | |
| CLfeats | 23.164 | 1.126 | 25.998 | |
| PROSYM | 0.185 | 0.003 | 0.188 | |
| TermSet-class | 7.090 | 0.337 | 7.733 | |
| allGOterms | 0.072 | 0.002 | 0.074 | |
| ancestors | 9.623 | 0.744 | 14.935 | |
| ancestors_names | 2.630 | 0.113 | 2.746 | |
| bioregistry_ols_resources | 0.037 | 0.053 | 64.983 | |
| cellTypeToGO | 1.811 | 0.293 | 2.401 | |
| children_names | 4.075 | 0.212 | 4.319 | |
| cleanCLOnames | 12.842 | 0.908 | 14.428 | |
| common_classes | 8.959 | 0.613 | 12.029 | |
| ctmarks | 0.001 | 0.000 | 0.000 | |
| cyclicSigset | 0.005 | 0.000 | 0.006 | |
| demoApp | 0 | 0 | 0 | |
| dropStop | 0.002 | 0.002 | 0.004 | |
| fastGrep | 14.634 | 0.829 | 15.847 | |
| findCommonAncestors | 7.399 | 0.391 | 8.016 | |
| getLeavesFromTerm | 11.069 | 0.274 | 11.544 | |
| getOnto | 6.166 | 0.247 | 6.603 | |
| humrna | 0.005 | 0.001 | 0.007 | |
| labels.owlents | 12.204 | 0.647 | 14.156 | |
| ldfToTerms | 1.914 | 0.021 | 1.937 | |
| liberalMap | 6.126 | 0.231 | 6.919 | |
| makeSelectInput | 0.000 | 0.001 | 0.001 | |
| make_graphNEL_from_ontology_plot | 6.082 | 0.229 | 6.478 | |
| mapOneNaive | 7.025 | 0.296 | 7.631 | |
| minicorpus | 0.001 | 0.002 | 0.003 | |
| nomenCheckup | 17.838 | 0.656 | 27.366 | |
| onto_plot2 | 8.411 | 1.820 | 98.718 | |
| onto_roots | 0.000 | 0.001 | 0.001 | |
| owl2cache | 10.546 | 1.192 | 13.277 | |
| packDesc2019 | 0.003 | 0.002 | 0.027 | |
| packDesc2021 | 0.003 | 0.002 | 0.026 | |
| packDesc2022 | 0.003 | 0.001 | 0.026 | |
| packDesc2023 | 0.003 | 0.001 | 0.025 | |
| parents | 2.769 | 0.102 | 2.990 | |
| plot.owlents | 3.452 | 0.109 | 3.759 | |
| recognizedPredicates | 0.000 | 0.001 | 0.001 | |
| search_labels | 0.301 | 0.042 | 92.975 | |
| secLevGen | 6.135 | 0.536 | 31.659 | |
| selectFromMap | 5.698 | 0.272 | 6.258 | |
| setup_entities | 2.565 | 0.049 | 2.617 | |
| setup_entities2 | 0.216 | 0.008 | 0.224 | |
| seur3kTab | 0.003 | 0.001 | 0.024 | |
| siblings_TAG | 17.454 | 0.826 | 19.362 | |
| stopWords | 0.001 | 0.001 | 0.024 | |
| subclasses | 2.655 | 0.050 | 2.708 | |
| sym2CellOnto | 30.891 | 0.840 | 32.538 | |
| valid_ontonames | 0 | 0 | 0 | |