| Back to Multiple platform build/check report for BioC 3.20: simplified long |
|
This page was generated on 2024-11-20 12:07 -0500 (Wed, 20 Nov 2024).
| Hostname | OS | Arch (*) | R version | Installed pkgs |
|---|---|---|---|---|
| teran2 | Linux (Ubuntu 24.04.1 LTS) | x86_64 | 4.4.2 (2024-10-31) -- "Pile of Leaves" | 4481 |
| nebbiolo2 | Linux (Ubuntu 24.04.1 LTS) | x86_64 | 4.4.2 (2024-10-31) -- "Pile of Leaves" | 4479 |
| palomino8 | Windows Server 2022 Datacenter | x64 | 4.4.2 (2024-10-31 ucrt) -- "Pile of Leaves" | 4359 |
| lconway | macOS 12.7.1 Monterey | x86_64 | 4.4.1 (2024-06-14) -- "Race for Your Life" | 4539 |
| kunpeng2 | Linux (openEuler 22.03 LTS-SP1) | aarch64 | 4.4.1 (2024-06-14) -- "Race for Your Life" | 4493 |
| Click on any hostname to see more info about the system (e.g. compilers) (*) as reported by 'uname -p', except on Windows and Mac OS X | ||||
| Package 1464/2289 | Hostname | OS / Arch | INSTALL | BUILD | CHECK | BUILD BIN | ||||||||
| ontoProc 2.0.0 (landing page) Vincent Carey
| teran2 | Linux (Ubuntu 24.04.1 LTS) / x86_64 | OK | OK | OK | |||||||||
| nebbiolo2 | Linux (Ubuntu 24.04.1 LTS) / x86_64 | OK | OK | OK | ||||||||||
| palomino8 | Windows Server 2022 Datacenter / x64 | OK | OK | OK | OK | |||||||||
| lconway | macOS 12.7.1 Monterey / x86_64 | OK | OK | OK | OK | |||||||||
| kunpeng2 | Linux (openEuler 22.03 LTS-SP1) / aarch64 | OK | OK | OK | ||||||||||
|
To the developers/maintainers of the ontoProc package: - Allow up to 24 hours (and sometimes 48 hours) for your latest push to git@git.bioconductor.org:packages/ontoProc.git to reflect on this report. See Troubleshooting Build Report for more information. - Use the following Renviron settings to reproduce errors and warnings. - If 'R CMD check' started to fail recently on the Linux builder(s) over a missing dependency, add the missing dependency to 'Suggests:' in your DESCRIPTION file. See Renviron.bioc for more information. - See Martin Grigorov's blog post for how to debug Linux ARM64 related issues on a x86_64 host. |
| Package: ontoProc |
| Version: 2.0.0 |
| Command: /home/biocbuild/R/R/bin/R CMD check --install=check:ontoProc.install-out.txt --library=/home/biocbuild/R/R/site-library --no-vignettes --timings ontoProc_2.0.0.tar.gz |
| StartedAt: 2024-11-20 10:41:11 -0000 (Wed, 20 Nov 2024) |
| EndedAt: 2024-11-20 11:00:49 -0000 (Wed, 20 Nov 2024) |
| EllapsedTime: 1178.2 seconds |
| RetCode: 0 |
| Status: OK |
| CheckDir: ontoProc.Rcheck |
| Warnings: 0 |
##############################################################################
##############################################################################
###
### Running command:
###
### /home/biocbuild/R/R/bin/R CMD check --install=check:ontoProc.install-out.txt --library=/home/biocbuild/R/R/site-library --no-vignettes --timings ontoProc_2.0.0.tar.gz
###
##############################################################################
##############################################################################
* using log directory ‘/home/biocbuild/bbs-3.20-bioc/meat/ontoProc.Rcheck’
* using R version 4.4.1 (2024-06-14)
* using platform: aarch64-unknown-linux-gnu
* R was compiled by
gcc (GCC) 12.2.1 20220819 (openEuler 12.2.1-14)
GNU Fortran (GCC) 10.3.1
* running under: openEuler 22.03 (LTS-SP1)
* using session charset: UTF-8
* using option ‘--no-vignettes’
* checking for file ‘ontoProc/DESCRIPTION’ ... OK
* this is package ‘ontoProc’ version ‘2.0.0’
* package encoding: UTF-8
* checking package namespace information ... OK
* checking package dependencies ... OK
* checking if this is a source package ... OK
* checking if there is a namespace ... OK
* checking for hidden files and directories ... OK
* checking for portable file names ... OK
* checking for sufficient/correct file permissions ... OK
* checking whether package ‘ontoProc’ can be installed ... OK
* checking installed package size ... NOTE
installed size is 10.5Mb
sub-directories of 1Mb or more:
app 1.9Mb
data 1.8Mb
ontoRda 2.8Mb
owl 3.3Mb
* checking package directory ... OK
* checking ‘build’ directory ... OK
* checking DESCRIPTION meta-information ... OK
* checking top-level files ... OK
* checking for left-over files ... OK
* checking index information ... OK
* checking package subdirectories ... OK
* checking code files for non-ASCII characters ... OK
* checking R files for syntax errors ... OK
* checking whether the package can be loaded ... OK
* checking whether the package can be loaded with stated dependencies ... OK
* checking whether the package can be unloaded cleanly ... OK
* checking whether the namespace can be loaded with stated dependencies ... OK
* checking whether the namespace can be unloaded cleanly ... OK
* checking loading without being on the library search path ... OK
* checking dependencies in R code ... OK
* checking S3 generic/method consistency ... OK
* checking replacement functions ... OK
* checking foreign function calls ... OK
* checking R code for possible problems ... NOTE
CLfeat : prupdate: no visible binding for global variable ‘PROSYM’
CLfeat : prupdate: no visible binding for global variable ‘PRID’
CLfeat : prupdate: no visible binding for global variable ‘SYMBOL’
ctmarks : server: no visible binding for global variable ‘text’
ctmarks : server: no visible binding for global variable ‘packDesc2022’
ctmarks : server: no visible binding for global variable ‘packDesc2021’
ctmarks: no visible binding for global variable ‘cumu’
dropStop: no visible binding for global variable ‘stopWords’
getOnto: no visible binding for global variable ‘rdatadateadded’
getOnto: no visible binding for global variable ‘title’
getOnto: no visible binding for global variable ‘description’
ldfToTerm: no visible binding for global variable ‘PROSYM’
sym2CellOnto: no visible binding for global variable ‘PROSYM’
sym2CellOnto: no visible binding for global variable ‘SYMBOL’
Undefined global functions or variables:
PRID PROSYM SYMBOL cumu description packDesc2021 packDesc2022
rdatadateadded stopWords text title
Consider adding
importFrom("graphics", "text", "title")
to your NAMESPACE file.
* checking Rd files ... OK
* checking Rd metadata ... OK
* checking Rd cross-references ... OK
* checking for missing documentation entries ... OK
* checking for code/documentation mismatches ... OK
* checking Rd \usage sections ... NOTE
S3 methods shown with full name in Rd file 'plot.owlents.Rd':
‘plot.owlents’
The \usage entries for S3 methods should use the \method markup and not
their full name.
See chapter ‘Writing R documentation files’ in the ‘Writing R
Extensions’ manual.
* checking Rd contents ... OK
* checking for unstated dependencies in examples ... OK
* checking contents of ‘data’ directory ... OK
* checking data for non-ASCII characters ... NOTE
Note: found 162 marked UTF-8 strings
* checking data for ASCII and uncompressed saves ... OK
* checking files in ‘vignettes’ ... OK
* checking examples ... OK
Examples with CPU (user + system) or elapsed time > 5s
user system elapsed
sym2CellOnto 55.916 2.904 64.535
CLfeats 34.181 3.441 48.231
siblings_TAG 27.530 0.954 37.349
labels.owlents 23.801 1.677 89.612
owl2cache 23.544 1.930 50.347
getLeavesFromTerm 20.215 1.018 24.276
nomenCheckup 17.948 1.198 22.253
cleanCLOnames 15.918 1.810 21.573
fastGrep 16.469 1.125 20.973
ancestors 16.712 0.802 18.026
common_classes 15.519 1.576 20.096
getOnto 11.731 2.029 24.171
selectFromMap 10.635 1.658 15.881
liberalMap 10.658 1.552 22.714
TermSet-class 10.223 1.030 14.614
make_graphNEL_from_ontology_plot 9.894 1.025 13.787
secLevGen 9.295 1.416 14.578
findCommonAncestors 9.305 0.731 14.566
onto_plot2 8.822 0.576 12.378
mapOneNaive 8.264 0.491 11.616
parents 7.440 0.718 8.175
plot.owlents 7.729 0.372 8.117
subclasses 7.055 0.335 7.404
children_names 6.851 0.151 7.017
ancestors_names 6.808 0.144 6.966
setup_entities 6.512 0.116 6.645
search_labels 0.487 0.190 88.878
bioregistry_ols_resources 0.053 0.014 17.283
* checking for unstated dependencies in ‘tests’ ... OK
* checking tests ...
Running ‘test.R’
OK
* checking for unstated dependencies in vignettes ... OK
* checking package vignettes ... OK
* checking running R code from vignettes ... SKIPPED
* checking re-building of vignette outputs ... SKIPPED
* checking PDF version of manual ... OK
* DONE
Status: 4 NOTEs
See
‘/home/biocbuild/bbs-3.20-bioc/meat/ontoProc.Rcheck/00check.log’
for details.
ontoProc.Rcheck/00install.out
############################################################################## ############################################################################## ### ### Running command: ### ### /home/biocbuild/R/R/bin/R CMD INSTALL ontoProc ### ############################################################################## ############################################################################## * installing to library ‘/home/biocbuild/R/R-4.4.1/site-library’ * installing *source* package ‘ontoProc’ ... ** using staged installation ** R ** data ** inst ** byte-compile and prepare package for lazy loading ** help *** installing help indices ** building package indices ** installing vignettes ** testing if installed package can be loaded from temporary location ** testing if installed package can be loaded from final location ** testing if installed package keeps a record of temporary installation path * DONE (ontoProc)
ontoProc.Rcheck/tests/test.Rout
R version 4.4.1 (2024-06-14) -- "Race for Your Life"
Copyright (C) 2024 The R Foundation for Statistical Computing
Platform: aarch64-unknown-linux-gnu
R is free software and comes with ABSOLUTELY NO WARRANTY.
You are welcome to redistribute it under certain conditions.
Type 'license()' or 'licence()' for distribution details.
R is a collaborative project with many contributors.
Type 'contributors()' for more information and
'citation()' on how to cite R or R packages in publications.
Type 'demo()' for some demos, 'help()' for on-line help, or
'help.start()' for an HTML browser interface to help.
Type 'q()' to quit R.
>
> library(ontoProc)
Loading required package: ontologyIndex
> library(testthat)
>
> test_check("ontoProc")
[ FAIL 0 | WARN 0 | SKIP 0 | PASS 12 ]
>
>
> proc.time()
user system elapsed
164.276 5.246 189.811
ontoProc.Rcheck/ontoProc-Ex.timings
| name | user | system | elapsed | |
| CLfeats | 34.181 | 3.441 | 48.231 | |
| PROSYM | 0.228 | 0.012 | 0.241 | |
| TermSet-class | 10.223 | 1.030 | 14.614 | |
| allGOterms | 0.099 | 0.004 | 0.104 | |
| ancestors | 16.712 | 0.802 | 18.026 | |
| ancestors_names | 6.808 | 0.144 | 6.966 | |
| bioregistry_ols_resources | 0.053 | 0.014 | 17.283 | |
| cellTypeToGO | 1.797 | 0.089 | 1.888 | |
| children_names | 6.851 | 0.151 | 7.017 | |
| cleanCLOnames | 15.918 | 1.810 | 21.573 | |
| common_classes | 15.519 | 1.576 | 20.096 | |
| ctmarks | 0 | 0 | 0 | |
| cyclicSigset | 0.010 | 0.000 | 0.011 | |
| demoApp | 0 | 0 | 0 | |
| dropStop | 0.005 | 0.000 | 0.005 | |
| fastGrep | 16.469 | 1.125 | 20.973 | |
| findCommonAncestors | 9.305 | 0.731 | 14.566 | |
| getLeavesFromTerm | 20.215 | 1.018 | 24.276 | |
| getOnto | 11.731 | 2.029 | 24.171 | |
| humrna | 0.013 | 0.000 | 0.013 | |
| labels.owlents | 23.801 | 1.677 | 89.612 | |
| ldfToTerms | 2.674 | 0.111 | 3.025 | |
| liberalMap | 10.658 | 1.552 | 22.714 | |
| makeSelectInput | 0.000 | 0.000 | 0.001 | |
| make_graphNEL_from_ontology_plot | 9.894 | 1.025 | 13.787 | |
| mapOneNaive | 8.264 | 0.491 | 11.616 | |
| minicorpus | 0.001 | 0.000 | 0.002 | |
| nomenCheckup | 17.948 | 1.198 | 22.253 | |
| onto_plot2 | 8.822 | 0.576 | 12.378 | |
| onto_roots | 0.001 | 0.000 | 0.001 | |
| owl2cache | 23.544 | 1.930 | 50.347 | |
| packDesc2019 | 0.000 | 0.009 | 0.010 | |
| packDesc2021 | 0.000 | 0.004 | 0.003 | |
| packDesc2022 | 0.001 | 0.003 | 0.004 | |
| packDesc2023 | 0.004 | 0.000 | 0.004 | |
| parents | 7.440 | 0.718 | 8.175 | |
| plot.owlents | 7.729 | 0.372 | 8.117 | |
| recognizedPredicates | 0.000 | 0.000 | 0.001 | |
| search_labels | 0.487 | 0.190 | 88.878 | |
| secLevGen | 9.295 | 1.416 | 14.578 | |
| selectFromMap | 10.635 | 1.658 | 15.881 | |
| setup_entities | 6.512 | 0.116 | 6.645 | |
| setup_entities2 | 0.503 | 0.059 | 0.564 | |
| seur3kTab | 0.000 | 0.004 | 0.005 | |
| siblings_TAG | 27.530 | 0.954 | 37.349 | |
| stopWords | 0.001 | 0.000 | 0.001 | |
| subclasses | 7.055 | 0.335 | 7.404 | |
| sym2CellOnto | 55.916 | 2.904 | 64.535 | |
| valid_ontonames | 0 | 0 | 0 | |