| Back to Multiple platform build/check report for BioC 3.20: simplified long |
|
This page was generated on 2025-04-02 19:35 -0400 (Wed, 02 Apr 2025).
| Hostname | OS | Arch (*) | R version | Installed pkgs |
|---|---|---|---|---|
| nebbiolo2 | Linux (Ubuntu 24.04.1 LTS) | x86_64 | 4.4.3 (2025-02-28) -- "Trophy Case" | 4764 |
| palomino8 | Windows Server 2022 Datacenter | x64 | 4.4.3 (2025-02-28 ucrt) -- "Trophy Case" | 4495 |
| merida1 | macOS 12.7.5 Monterey | x86_64 | 4.4.3 (2025-02-28) -- "Trophy Case" | 4522 |
| kjohnson1 | macOS 13.6.6 Ventura | arm64 | 4.4.3 (2025-02-28) -- "Trophy Case" | 4449 |
| taishan | Linux (openEuler 24.03 LTS) | aarch64 | 4.4.3 (2025-02-28) -- "Trophy Case" | 4426 |
| Click on any hostname to see more info about the system (e.g. compilers) (*) as reported by 'uname -p', except on Windows and Mac OS X | ||||
| Package 778/2289 | Hostname | OS / Arch | INSTALL | BUILD | CHECK | BUILD BIN | ||||||||
| gDRcore 1.4.4 (landing page) Arkadiusz Gladki
| nebbiolo2 | Linux (Ubuntu 24.04.1 LTS) / x86_64 | OK | OK | OK | |||||||||
| palomino8 | Windows Server 2022 Datacenter / x64 | OK | OK | OK | OK | |||||||||
| merida1 | macOS 12.7.5 Monterey / x86_64 | OK | OK | OK | OK | |||||||||
| kjohnson1 | macOS 13.6.6 Ventura / arm64 | OK | OK | OK | OK | |||||||||
| taishan | Linux (openEuler 24.03 LTS) / aarch64 | OK | OK | OK | ||||||||||
|
To the developers/maintainers of the gDRcore package: - Allow up to 24 hours (and sometimes 48 hours) for your latest push to git@git.bioconductor.org:packages/gDRcore.git to reflect on this report. See Troubleshooting Build Report for more information. - Use the following Renviron settings to reproduce errors and warnings. - If 'R CMD check' started to fail recently on the Linux builder(s) over a missing dependency, add the missing dependency to 'Suggests:' in your DESCRIPTION file. See Renviron.bioc for more information. - See Martin Grigorov's blog post for how to debug Linux ARM64 related issues on a x86_64 host. |
| Package: gDRcore |
| Version: 1.4.4 |
| Command: /home/biocbuild/R/R/bin/R CMD check --install=check:gDRcore.install-out.txt --library=/home/biocbuild/R/R/site-library --no-vignettes --timings gDRcore_1.4.4.tar.gz |
| StartedAt: 2025-04-01 06:40:21 -0000 (Tue, 01 Apr 2025) |
| EndedAt: 2025-04-01 06:47:27 -0000 (Tue, 01 Apr 2025) |
| EllapsedTime: 426.4 seconds |
| RetCode: 0 |
| Status: OK |
| CheckDir: gDRcore.Rcheck |
| Warnings: 0 |
##############################################################################
##############################################################################
###
### Running command:
###
### /home/biocbuild/R/R/bin/R CMD check --install=check:gDRcore.install-out.txt --library=/home/biocbuild/R/R/site-library --no-vignettes --timings gDRcore_1.4.4.tar.gz
###
##############################################################################
##############################################################################
* using log directory ‘/home/biocbuild/bbs-3.20-bioc/meat/gDRcore.Rcheck’
* using R version 4.4.3 (2025-02-28)
* using platform: aarch64-unknown-linux-gnu
* R was compiled by
aarch64-unknown-linux-gnu-gcc (GCC) 14.2.0
GNU Fortran (GCC) 14.2.0
* running under: openEuler 24.03 (LTS)
* using session charset: UTF-8
* using option ‘--no-vignettes’
* checking for file ‘gDRcore/DESCRIPTION’ ... OK
* checking extension type ... Package
* this is package ‘gDRcore’ version ‘1.4.4’
* package encoding: UTF-8
* checking package namespace information ... OK
* checking package dependencies ... OK
* checking if this is a source package ... OK
* checking if there is a namespace ... OK
* checking for hidden files and directories ... OK
* checking for portable file names ... OK
* checking for sufficient/correct file permissions ... OK
* checking whether package ‘gDRcore’ can be installed ... OK
* used C++ compiler: ‘aarch64-unknown-linux-gnu-g++ (GCC) 14.2.0’
* checking installed package size ... OK
* checking package directory ... OK
* checking ‘build’ directory ... OK
* checking DESCRIPTION meta-information ... OK
* checking top-level files ... OK
* checking for left-over files ... OK
* checking index information ... OK
* checking package subdirectories ... OK
* checking code files for non-ASCII characters ... OK
* checking R files for syntax errors ... OK
* checking whether the package can be loaded ... OK
* checking whether the package can be loaded with stated dependencies ... OK
* checking whether the package can be unloaded cleanly ... OK
* checking whether the namespace can be loaded with stated dependencies ... OK
* checking whether the namespace can be unloaded cleanly ... OK
* checking loading without being on the library search path ... OK
* checking whether startup messages can be suppressed ... OK
* checking dependencies in R code ... OK
* checking S3 generic/method consistency ... OK
* checking replacement functions ... OK
* checking foreign function calls ... OK
* checking R code for possible problems ... OK
* checking Rd files ... OK
* checking Rd metadata ... OK
* checking Rd cross-references ... OK
* checking for missing documentation entries ... OK
* checking for code/documentation mismatches ... OK
* checking Rd \usage sections ... OK
* checking Rd contents ... OK
* checking for unstated dependencies in examples ... OK
* checking line endings in C/C++/Fortran sources/headers ... OK
* checking compiled code ... NOTE
Note: information on .o files is not available
* checking files in ‘vignettes’ ... OK
* checking examples ... OK
Examples with CPU (user + system) or elapsed time > 5s
user system elapsed
runDrugResponseProcessingPipelineFxns 24.144 0.166 24.336
annotate_dt_with_cell_line 6.278 0.180 6.474
* checking for unstated dependencies in ‘tests’ ... OK
* checking tests ...
Running ‘testthat.R’
OK
* checking for unstated dependencies in vignettes ... OK
* checking package vignettes ... OK
* checking running R code from vignettes ... SKIPPED
* checking re-building of vignette outputs ... SKIPPED
* checking PDF version of manual ... OK
* DONE
Status: 1 NOTE
See
‘/home/biocbuild/bbs-3.20-bioc/meat/gDRcore.Rcheck/00check.log’
for details.
gDRcore.Rcheck/00install.out
############################################################################## ############################################################################## ### ### Running command: ### ### /home/biocbuild/R/R/bin/R CMD INSTALL gDRcore ### ############################################################################## ############################################################################## * installing to library ‘/home/biocbuild/R/R-4.4.3/site-library’ * installing *source* package ‘gDRcore’ ... ** using staged installation ** libs using C++ compiler: ‘aarch64-unknown-linux-gnu-g++ (GCC) 14.2.0’ /opt/ohpc/pub/compiler/gcc/14.2.0/bin/aarch64-unknown-linux-gnu-g++ -std=gnu++17 -I"/home/biocbuild/R/R-4.4.3/include" -DNDEBUG -I/usr/local/include -fPIC -g -O2 -Wall -c gDRcore.cpp -o gDRcore.o /opt/ohpc/pub/compiler/gcc/14.2.0/bin/aarch64-unknown-linux-gnu-g++ -std=gnu++17 -shared -L/home/biocbuild/R/R-4.4.3/lib -L/usr/local/lib -o gDRcore.so gDRcore.o -L/home/biocbuild/R/R-4.4.3/lib -lR installing to /home/biocbuild/R/R-4.4.3/site-library/00LOCK-gDRcore/00new/gDRcore/libs ** R ** inst ** byte-compile and prepare package for lazy loading ** help *** installing help indices ** building package indices ** installing vignettes ** testing if installed package can be loaded from temporary location ** checking absolute paths in shared objects and dynamic libraries ** testing if installed package can be loaded from final location ** testing if installed package keeps a record of temporary installation path * DONE (gDRcore)
gDRcore.Rcheck/tests/testthat.Rout
R version 4.4.3 (2025-02-28) -- "Trophy Case"
Copyright (C) 2025 The R Foundation for Statistical Computing
Platform: aarch64-unknown-linux-gnu
R is free software and comes with ABSOLUTELY NO WARRANTY.
You are welcome to redistribute it under certain conditions.
Type 'license()' or 'licence()' for distribution details.
R is a collaborative project with many contributors.
Type 'contributors()' for more information and
'citation()' on how to cite R or R packages in publications.
Type 'demo()' for some demos, 'help()' for on-line help, or
'help.start()' for an HTML browser interface to help.
Type 'q()' to quit R.
> library("gDRcore")
> library("testthat")
>
> test_check("gDRcore")
INFO [2025-04-01 06:46:49]
INFO [2025-04-01 06:46:49]
INFO [2025-04-01 06:46:49]
INFO [2025-04-01 06:47:12] Manifest loaded successfully
INFO [2025-04-01 06:47:12] Reading Template_7daytreated.xlsx with load_templates_xlsx
INFO [2025-04-01 06:47:12] Loading Template_7daytreated.xlsx
INFO [2025-04-01 06:47:12] Loading Template_Untreated.xlsx
INFO [2025-04-01 06:47:13] Templates loaded successfully!
INFO [2025-04-01 06:47:13] Reading file /home/biocbuild/R/R-4.4.3/site-library/gDRimport/extdata/data1/RawData_day0.xlsx, sheet Readout_0077vs0068_day7
INFO [2025-04-01 06:47:13] Plate 201904190a read; 384 wells
INFO [2025-04-01 06:47:13] Plate 201904190b read; 384 wells
INFO [2025-04-01 06:47:13] Plate 201904190c read; 384 wells
INFO [2025-04-01 06:47:13] Plate 201904190d read; 384 wells
INFO [2025-04-01 06:47:13] Plate 201904190e read; 384 wells
INFO [2025-04-01 06:47:13] Plate 201904190f read; 384 wells
INFO [2025-04-01 06:47:13] File done
INFO [2025-04-01 06:47:13] Reading file /home/biocbuild/R/R-4.4.3/site-library/gDRimport/extdata/data1/RawData_day7.xlsx, sheet Readout_0077vs0068_day7
INFO [2025-04-01 06:47:14] Plate 201904197a read; 384 wells
INFO [2025-04-01 06:47:14] Plate 201904197b read; 384 wells
INFO [2025-04-01 06:47:14] Plate 201904197c read; 384 wells
INFO [2025-04-01 06:47:14] Plate 201904197d read; 384 wells
INFO [2025-04-01 06:47:14] Plate 201904197e read; 384 wells
INFO [2025-04-01 06:47:14] Plate 201904197f read; 384 wells
INFO [2025-04-01 06:47:14] File done
INFO [2025-04-01 06:47:14] Manifest loaded successfully
INFO [2025-04-01 06:47:14] Reading Template_7daytreated.xlsx with load_templates_xlsx
INFO [2025-04-01 06:47:14] Loading Template_7daytreated.xlsx
INFO [2025-04-01 06:47:14] Loading Template_Untreated.xlsx
INFO [2025-04-01 06:47:14] Templates loaded successfully!
INFO [2025-04-01 06:47:14] Reading file /home/biocbuild/R/R-4.4.3/site-library/gDRimport/extdata/data1/RawData_day0.xlsx, sheet Readout_0077vs0068_day7
INFO [2025-04-01 06:47:15] Plate 201904190a read; 384 wells
INFO [2025-04-01 06:47:15] Plate 201904190b read; 384 wells
INFO [2025-04-01 06:47:15] Plate 201904190c read; 384 wells
INFO [2025-04-01 06:47:15] Plate 201904190d read; 384 wells
INFO [2025-04-01 06:47:15] Plate 201904190e read; 384 wells
INFO [2025-04-01 06:47:15] Plate 201904190f read; 384 wells
INFO [2025-04-01 06:47:15] File done
INFO [2025-04-01 06:47:15] Reading file /home/biocbuild/R/R-4.4.3/site-library/gDRimport/extdata/data1/RawData_day7.xlsx, sheet Readout_0077vs0068_day7
INFO [2025-04-01 06:47:15] Plate 201904197a read; 384 wells
INFO [2025-04-01 06:47:15] Plate 201904197b read; 384 wells
INFO [2025-04-01 06:47:15] Plate 201904197c read; 384 wells
INFO [2025-04-01 06:47:15] Plate 201904197d read; 384 wells
INFO [2025-04-01 06:47:15] Plate 201904197e read; 384 wells
INFO [2025-04-01 06:47:15] Plate 201904197f read; 384 wells
INFO [2025-04-01 06:47:15] File done
[ FAIL 0 | WARN 0 | SKIP 0 | PASS 225 ]
>
> proc.time()
user system elapsed
307.474 2.855 310.922
gDRcore.Rcheck/gDRcore-Ex.timings
| name | user | system | elapsed | |
| annotate_dt_with_cell_line | 6.278 | 0.180 | 6.474 | |
| annotate_dt_with_drug | 0.020 | 0.000 | 0.019 | |
| calculate_GR_value | 0.003 | 0.000 | 0.003 | |
| calculate_excess | 0.075 | 0.028 | 0.103 | |
| calculate_matrix_metric | 0.026 | 0.000 | 0.026 | |
| calculate_score | 0.053 | 0.000 | 0.053 | |
| cleanup_metadata | 0.848 | 0.016 | 0.865 | |
| convert_mae_to_raw_data | 1.965 | 0.068 | 2.037 | |
| convert_se_to_raw_data | 0.124 | 0.000 | 0.122 | |
| data_model | 0.001 | 0.000 | 0.001 | |
| dot-standardize_conc | 0.001 | 0.000 | 0.001 | |
| fit_SE.combinations | 3.777 | 0.079 | 3.879 | |
| get_cell_line_annotation | 0.007 | 0.000 | 0.008 | |
| get_cellline_annotation_from_dt | 0.012 | 0.001 | 0.013 | |
| get_default_nested_identifiers | 0.001 | 0.000 | 0.002 | |
| get_drug_annotation | 0.009 | 0.000 | 0.009 | |
| get_drug_annotation_from_dt | 0.008 | 0.000 | 0.008 | |
| grr_matches | 0.022 | 0.000 | 0.021 | |
| identify_data_type | 0.069 | 0.003 | 0.073 | |
| identify_keys | 0.165 | 0.008 | 0.173 | |
| map_conc_to_standardized_conc | 0.005 | 0.000 | 0.005 | |
| map_df | 0.165 | 0.016 | 0.181 | |
| map_ids_to_fits | 0.002 | 0.000 | 0.002 | |
| merge_data | 2.078 | 0.056 | 2.151 | |
| prepare_input | 2.018 | 0.020 | 2.033 | |
| process_perturbations | 0.01 | 0.00 | 0.01 | |
| replace_conc_with_standardized_conc | 0.001 | 0.000 | 0.002 | |
| runDrugResponseProcessingPipelineFxns | 24.144 | 0.166 | 24.336 | |
| split_raw_data | 0.357 | 0.004 | 0.361 | |
| test_synthetic_data | 1.158 | 0.004 | 1.156 | |