| Back to Multiple platform build/check report for BioC 3.20: simplified long |
|
This page was generated on 2025-04-02 19:33 -0400 (Wed, 02 Apr 2025).
| Hostname | OS | Arch (*) | R version | Installed pkgs |
|---|---|---|---|---|
| nebbiolo2 | Linux (Ubuntu 24.04.1 LTS) | x86_64 | 4.4.3 (2025-02-28) -- "Trophy Case" | 4764 |
| palomino8 | Windows Server 2022 Datacenter | x64 | 4.4.3 (2025-02-28 ucrt) -- "Trophy Case" | 4495 |
| merida1 | macOS 12.7.5 Monterey | x86_64 | 4.4.3 (2025-02-28) -- "Trophy Case" | 4522 |
| kjohnson1 | macOS 13.6.6 Ventura | arm64 | 4.4.3 (2025-02-28) -- "Trophy Case" | 4449 |
| taishan | Linux (openEuler 24.03 LTS) | aarch64 | 4.4.3 (2025-02-28) -- "Trophy Case" | 4426 |
| Click on any hostname to see more info about the system (e.g. compilers) (*) as reported by 'uname -p', except on Windows and Mac OS X | ||||
| Package 778/2289 | Hostname | OS / Arch | INSTALL | BUILD | CHECK | BUILD BIN | ||||||||
| gDRcore 1.4.4 (landing page) Arkadiusz Gladki
| nebbiolo2 | Linux (Ubuntu 24.04.1 LTS) / x86_64 | OK | OK | OK | |||||||||
| palomino8 | Windows Server 2022 Datacenter / x64 | OK | OK | OK | OK | |||||||||
| merida1 | macOS 12.7.5 Monterey / x86_64 | OK | OK | OK | OK | |||||||||
| kjohnson1 | macOS 13.6.6 Ventura / arm64 | OK | OK | OK | OK | |||||||||
| taishan | Linux (openEuler 24.03 LTS) / aarch64 | OK | OK | OK | ||||||||||
|
To the developers/maintainers of the gDRcore package: - Allow up to 24 hours (and sometimes 48 hours) for your latest push to git@git.bioconductor.org:packages/gDRcore.git to reflect on this report. See Troubleshooting Build Report for more information. - Use the following Renviron settings to reproduce errors and warnings. - If 'R CMD check' started to fail recently on the Linux builder(s) over a missing dependency, add the missing dependency to 'Suggests:' in your DESCRIPTION file. See Renviron.bioc for more information. |
| Package: gDRcore |
| Version: 1.4.4 |
| Command: /Library/Frameworks/R.framework/Resources/bin/R CMD check --install=check:gDRcore.install-out.txt --library=/Library/Frameworks/R.framework/Resources/library --no-vignettes --timings gDRcore_1.4.4.tar.gz |
| StartedAt: 2025-04-01 19:49:37 -0400 (Tue, 01 Apr 2025) |
| EndedAt: 2025-04-01 19:55:04 -0400 (Tue, 01 Apr 2025) |
| EllapsedTime: 327.4 seconds |
| RetCode: 0 |
| Status: OK |
| CheckDir: gDRcore.Rcheck |
| Warnings: 0 |
##############################################################################
##############################################################################
###
### Running command:
###
### /Library/Frameworks/R.framework/Resources/bin/R CMD check --install=check:gDRcore.install-out.txt --library=/Library/Frameworks/R.framework/Resources/library --no-vignettes --timings gDRcore_1.4.4.tar.gz
###
##############################################################################
##############################################################################
* using log directory ‘/Users/biocbuild/bbs-3.20-bioc/meat/gDRcore.Rcheck’
* using R version 4.4.3 (2025-02-28)
* using platform: aarch64-apple-darwin20
* R was compiled by
Apple clang version 14.0.0 (clang-1400.0.29.202)
GNU Fortran (GCC) 12.2.0
* running under: macOS Ventura 13.7.1
* using session charset: UTF-8
* using option ‘--no-vignettes’
* checking for file ‘gDRcore/DESCRIPTION’ ... OK
* checking extension type ... Package
* this is package ‘gDRcore’ version ‘1.4.4’
* package encoding: UTF-8
* checking package namespace information ... OK
* checking package dependencies ... OK
* checking if this is a source package ... OK
* checking if there is a namespace ... OK
* checking for hidden files and directories ... OK
* checking for portable file names ... OK
* checking for sufficient/correct file permissions ... OK
* checking whether package ‘gDRcore’ can be installed ... OK
* used C++ compiler: ‘Apple clang version 15.0.0 (clang-1500.0.40.1)’
* used SDK: ‘MacOSX11.3.sdk’
* checking installed package size ... OK
* checking package directory ... OK
* checking ‘build’ directory ... OK
* checking DESCRIPTION meta-information ... OK
* checking top-level files ... OK
* checking for left-over files ... OK
* checking index information ... OK
* checking package subdirectories ... OK
* checking code files for non-ASCII characters ... OK
* checking R files for syntax errors ... OK
* checking whether the package can be loaded ... OK
* checking whether the package can be loaded with stated dependencies ... OK
* checking whether the package can be unloaded cleanly ... OK
* checking whether the namespace can be loaded with stated dependencies ... OK
* checking whether the namespace can be unloaded cleanly ... OK
* checking whether startup messages can be suppressed ... OK
* checking dependencies in R code ... OK
* checking S3 generic/method consistency ... OK
* checking replacement functions ... OK
* checking foreign function calls ... OK
* checking R code for possible problems ... OK
* checking Rd files ... OK
* checking Rd metadata ... OK
* checking Rd cross-references ... OK
* checking for missing documentation entries ... OK
* checking for code/documentation mismatches ... OK
* checking Rd \usage sections ... OK
* checking Rd contents ... OK
* checking for unstated dependencies in examples ... OK
* checking line endings in C/C++/Fortran sources/headers ... OK
* checking compiled code ... NOTE
Note: information on .o files is not available
* checking files in ‘vignettes’ ... OK
* checking examples ... OK
Examples with CPU (user + system) or elapsed time > 5s
user system elapsed
runDrugResponseProcessingPipelineFxns 20.909 1.361 17.540
annotate_dt_with_cell_line 5.944 0.273 6.615
* checking for unstated dependencies in ‘tests’ ... OK
* checking tests ...
Running ‘testthat.R’
OK
* checking for unstated dependencies in vignettes ... OK
* checking package vignettes ... OK
* checking running R code from vignettes ... SKIPPED
* checking re-building of vignette outputs ... SKIPPED
* checking PDF version of manual ... OK
* DONE
Status: 1 NOTE
See
‘/Users/biocbuild/bbs-3.20-bioc/meat/gDRcore.Rcheck/00check.log’
for details.
gDRcore.Rcheck/00install.out
############################################################################## ############################################################################## ### ### Running command: ### ### /Library/Frameworks/R.framework/Resources/bin/R CMD INSTALL gDRcore ### ############################################################################## ############################################################################## * installing to library ‘/Library/Frameworks/R.framework/Versions/4.4-arm64/Resources/library’ * installing *source* package ‘gDRcore’ ... ** using staged installation ** libs using C++ compiler: ‘Apple clang version 15.0.0 (clang-1500.0.40.1)’ using SDK: ‘MacOSX11.3.sdk’ clang++ -arch arm64 -std=gnu++17 -I"/Library/Frameworks/R.framework/Resources/include" -DNDEBUG -I/opt/R/arm64/include -fPIC -falign-functions=64 -Wall -g -O2 -c gDRcore.cpp -o gDRcore.o clang++ -arch arm64 -std=gnu++17 -dynamiclib -Wl,-headerpad_max_install_names -undefined dynamic_lookup -L/Library/Frameworks/R.framework/Resources/lib -L/opt/R/arm64/lib -o gDRcore.so gDRcore.o -F/Library/Frameworks/R.framework/.. -framework R -Wl,-framework -Wl,CoreFoundation installing to /Library/Frameworks/R.framework/Versions/4.4-arm64/Resources/library/00LOCK-gDRcore/00new/gDRcore/libs ** R ** inst ** byte-compile and prepare package for lazy loading ** help *** installing help indices ** building package indices ** installing vignettes ** testing if installed package can be loaded from temporary location ** checking absolute paths in shared objects and dynamic libraries ** testing if installed package can be loaded from final location ** testing if installed package keeps a record of temporary installation path * DONE (gDRcore)
gDRcore.Rcheck/tests/testthat.Rout
R version 4.4.3 (2025-02-28) -- "Trophy Case"
Copyright (C) 2025 The R Foundation for Statistical Computing
Platform: aarch64-apple-darwin20
R is free software and comes with ABSOLUTELY NO WARRANTY.
You are welcome to redistribute it under certain conditions.
Type 'license()' or 'licence()' for distribution details.
R is a collaborative project with many contributors.
Type 'contributors()' for more information and
'citation()' on how to cite R or R packages in publications.
Type 'demo()' for some demos, 'help()' for on-line help, or
'help.start()' for an HTML browser interface to help.
Type 'q()' to quit R.
> library("gDRcore")
> library("testthat")
>
> test_check("gDRcore")
INFO [2025-04-01 19:54:29]
INFO [2025-04-01 19:54:29]
INFO [2025-04-01 19:54:29]
INFO [2025-04-01 19:54:45] Manifest loaded successfully
INFO [2025-04-01 19:54:45] Reading Template_7daytreated.xlsx with load_templates_xlsx
INFO [2025-04-01 19:54:45] Loading Template_7daytreated.xlsx
INFO [2025-04-01 19:54:46] Loading Template_Untreated.xlsx
INFO [2025-04-01 19:54:46] Templates loaded successfully!
INFO [2025-04-01 19:54:46] Reading file /Library/Frameworks/R.framework/Versions/4.4-arm64/Resources/library/gDRimport/extdata/data1/RawData_day0.xlsx, sheet Readout_0077vs0068_day7
INFO [2025-04-01 19:54:46] Plate 201904190a read; 384 wells
INFO [2025-04-01 19:54:46] Plate 201904190b read; 384 wells
INFO [2025-04-01 19:54:46] Plate 201904190c read; 384 wells
INFO [2025-04-01 19:54:46] Plate 201904190d read; 384 wells
INFO [2025-04-01 19:54:46] Plate 201904190e read; 384 wells
INFO [2025-04-01 19:54:46] Plate 201904190f read; 384 wells
INFO [2025-04-01 19:54:46] File done
INFO [2025-04-01 19:54:46] Reading file /Library/Frameworks/R.framework/Versions/4.4-arm64/Resources/library/gDRimport/extdata/data1/RawData_day7.xlsx, sheet Readout_0077vs0068_day7
INFO [2025-04-01 19:54:46] Plate 201904197a read; 384 wells
INFO [2025-04-01 19:54:46] Plate 201904197b read; 384 wells
INFO [2025-04-01 19:54:46] Plate 201904197c read; 384 wells
INFO [2025-04-01 19:54:46] Plate 201904197d read; 384 wells
INFO [2025-04-01 19:54:46] Plate 201904197e read; 384 wells
INFO [2025-04-01 19:54:46] Plate 201904197f read; 384 wells
INFO [2025-04-01 19:54:46] File done
INFO [2025-04-01 19:54:47] Manifest loaded successfully
INFO [2025-04-01 19:54:47] Reading Template_7daytreated.xlsx with load_templates_xlsx
INFO [2025-04-01 19:54:47] Loading Template_7daytreated.xlsx
INFO [2025-04-01 19:54:47] Loading Template_Untreated.xlsx
INFO [2025-04-01 19:54:47] Templates loaded successfully!
INFO [2025-04-01 19:54:47] Reading file /Library/Frameworks/R.framework/Versions/4.4-arm64/Resources/library/gDRimport/extdata/data1/RawData_day0.xlsx, sheet Readout_0077vs0068_day7
INFO [2025-04-01 19:54:47] Plate 201904190a read; 384 wells
INFO [2025-04-01 19:54:47] Plate 201904190b read; 384 wells
INFO [2025-04-01 19:54:47] Plate 201904190c read; 384 wells
INFO [2025-04-01 19:54:47] Plate 201904190d read; 384 wells
INFO [2025-04-01 19:54:47] Plate 201904190e read; 384 wells
INFO [2025-04-01 19:54:47] Plate 201904190f read; 384 wells
INFO [2025-04-01 19:54:47] File done
INFO [2025-04-01 19:54:47] Reading file /Library/Frameworks/R.framework/Versions/4.4-arm64/Resources/library/gDRimport/extdata/data1/RawData_day7.xlsx, sheet Readout_0077vs0068_day7
INFO [2025-04-01 19:54:48] Plate 201904197a read; 384 wells
INFO [2025-04-01 19:54:48] Plate 201904197b read; 384 wells
INFO [2025-04-01 19:54:48] Plate 201904197c read; 384 wells
INFO [2025-04-01 19:54:48] Plate 201904197d read; 384 wells
INFO [2025-04-01 19:54:48] Plate 201904197e read; 384 wells
INFO [2025-04-01 19:54:48] Plate 201904197f read; 384 wells
INFO [2025-04-01 19:54:48] File done
[ FAIL 0 | WARN 0 | SKIP 0 | PASS 225 ]
>
> proc.time()
user system elapsed
223.737 4.869 218.205
gDRcore.Rcheck/gDRcore-Ex.timings
| name | user | system | elapsed | |
| annotate_dt_with_cell_line | 5.944 | 0.273 | 6.615 | |
| annotate_dt_with_drug | 0.030 | 0.061 | 0.090 | |
| calculate_GR_value | 0.002 | 0.001 | 0.003 | |
| calculate_excess | 0.069 | 0.006 | 0.075 | |
| calculate_matrix_metric | 0.690 | 0.008 | 0.698 | |
| calculate_score | 0.043 | 0.000 | 0.044 | |
| cleanup_metadata | 0.325 | 0.151 | 0.481 | |
| convert_mae_to_raw_data | 2.042 | 0.082 | 2.064 | |
| convert_se_to_raw_data | 0.197 | 0.017 | 0.113 | |
| data_model | 0.004 | 0.001 | 0.002 | |
| dot-standardize_conc | 0.002 | 0.001 | 0.001 | |
| fit_SE.combinations | 3.458 | 0.121 | 3.314 | |
| get_cell_line_annotation | 0.022 | 0.061 | 0.084 | |
| get_cellline_annotation_from_dt | 0.008 | 0.000 | 0.008 | |
| get_default_nested_identifiers | 0.000 | 0.000 | 0.001 | |
| get_drug_annotation | 0.018 | 0.061 | 0.079 | |
| get_drug_annotation_from_dt | 0.005 | 0.001 | 0.005 | |
| grr_matches | 0.013 | 0.002 | 0.016 | |
| identify_data_type | 0.042 | 0.004 | 0.046 | |
| identify_keys | 0.111 | 0.010 | 0.121 | |
| map_conc_to_standardized_conc | 0.004 | 0.001 | 0.005 | |
| map_df | 0.119 | 0.010 | 0.130 | |
| map_ids_to_fits | 0.002 | 0.000 | 0.001 | |
| merge_data | 1.658 | 0.237 | 1.662 | |
| prepare_input | 1.711 | 0.273 | 1.506 | |
| process_perturbations | 0.011 | 0.001 | 0.007 | |
| replace_conc_with_standardized_conc | 0.001 | 0.001 | 0.001 | |
| runDrugResponseProcessingPipelineFxns | 20.909 | 1.361 | 17.540 | |
| split_raw_data | 0.462 | 0.041 | 0.283 | |
| test_synthetic_data | 1.241 | 0.081 | 0.817 | |