Back to Multiple platform build/check report for BioC 3.20:   simplified   long
ABCDEF[G]HIJKLMNOPQRSTUVWXYZ

This page was generated on 2025-02-06 12:04 -0500 (Thu, 06 Feb 2025).

HostnameOSArch (*)R versionInstalled pkgs
nebbiolo2Linux (Ubuntu 24.04.1 LTS)x86_644.4.2 (2024-10-31) -- "Pile of Leaves" 4753
palomino8Windows Server 2022 Datacenterx644.4.2 (2024-10-31 ucrt) -- "Pile of Leaves" 4501
merida1macOS 12.7.5 Montereyx86_644.4.2 (2024-10-31) -- "Pile of Leaves" 4524
kjohnson1macOS 13.6.6 Venturaarm644.4.2 (2024-10-31) -- "Pile of Leaves" 4476
taishanLinux (openEuler 24.03 LTS)aarch644.4.2 (2024-10-31) -- "Pile of Leaves" 4407
Click on any hostname to see more info about the system (e.g. compilers)      (*) as reported by 'uname -p', except on Windows and Mac OS X

Package 778/2289HostnameOS / ArchINSTALLBUILDCHECKBUILD BIN
gDRcore 1.4.0  (landing page)
Arkadiusz Gladki
Snapshot Date: 2025-02-03 13:00 -0500 (Mon, 03 Feb 2025)
git_url: https://git.bioconductor.org/packages/gDRcore
git_branch: RELEASE_3_20
git_last_commit: 13ad3fa
git_last_commit_date: 2024-10-29 11:22:09 -0500 (Tue, 29 Oct 2024)
nebbiolo2Linux (Ubuntu 24.04.1 LTS) / x86_64  OK    OK    OK  UNNEEDED, same version is already published
palomino8Windows Server 2022 Datacenter / x64  OK    OK    OK    OK  UNNEEDED, same version is already published
merida1macOS 12.7.5 Monterey / x86_64  OK    OK    OK    OK  UNNEEDED, same version is already published
kjohnson1macOS 13.6.6 Ventura / arm64  OK    OK    OK    OK  UNNEEDED, same version is already published
taishanLinux (openEuler 24.03 LTS) / aarch64  OK    OK    OK  


CHECK results for gDRcore on nebbiolo2

To the developers/maintainers of the gDRcore package:
- Allow up to 24 hours (and sometimes 48 hours) for your latest push to git@git.bioconductor.org:packages/gDRcore.git to reflect on this report. See Troubleshooting Build Report for more information.
- Use the following Renviron settings to reproduce errors and warnings.
- If 'R CMD check' started to fail recently on the Linux builder(s) over a missing dependency, add the missing dependency to 'Suggests:' in your DESCRIPTION file. See Renviron.bioc for more information.

raw results


Summary

Package: gDRcore
Version: 1.4.0
Command: /home/biocbuild/bbs-3.20-bioc/R/bin/R CMD check --install=check:gDRcore.install-out.txt --library=/home/biocbuild/bbs-3.20-bioc/R/site-library --timings gDRcore_1.4.0.tar.gz
StartedAt: 2025-02-03 22:33:02 -0500 (Mon, 03 Feb 2025)
EndedAt: 2025-02-03 22:38:37 -0500 (Mon, 03 Feb 2025)
EllapsedTime: 334.4 seconds
RetCode: 0
Status:   OK  
CheckDir: gDRcore.Rcheck
Warnings: 0

Command output

##############################################################################
##############################################################################
###
### Running command:
###
###   /home/biocbuild/bbs-3.20-bioc/R/bin/R CMD check --install=check:gDRcore.install-out.txt --library=/home/biocbuild/bbs-3.20-bioc/R/site-library --timings gDRcore_1.4.0.tar.gz
###
##############################################################################
##############################################################################


* using log directory ‘/home/biocbuild/bbs-3.20-bioc/meat/gDRcore.Rcheck’
* using R version 4.4.2 (2024-10-31)
* using platform: x86_64-pc-linux-gnu
* R was compiled by
    gcc (Ubuntu 13.2.0-23ubuntu4) 13.2.0
    GNU Fortran (Ubuntu 13.2.0-23ubuntu4) 13.2.0
* running under: Ubuntu 24.04.1 LTS
* using session charset: UTF-8
* checking for file ‘gDRcore/DESCRIPTION’ ... OK
* checking extension type ... Package
* this is package ‘gDRcore’ version ‘1.4.0’
* package encoding: UTF-8
* checking package namespace information ... OK
* checking package dependencies ... OK
* checking if this is a source package ... OK
* checking if there is a namespace ... OK
* checking for hidden files and directories ... OK
* checking for portable file names ... OK
* checking for sufficient/correct file permissions ... OK
* checking whether package ‘gDRcore’ can be installed ... OK
* used C++ compiler: ‘g++ (Ubuntu 13.3.0-6ubuntu2~24.04) 13.3.0’
* checking installed package size ... OK
* checking package directory ... OK
* checking ‘build’ directory ... OK
* checking DESCRIPTION meta-information ... OK
* checking top-level files ... OK
* checking for left-over files ... OK
* checking index information ... OK
* checking package subdirectories ... OK
* checking code files for non-ASCII characters ... OK
* checking R files for syntax errors ... OK
* checking whether the package can be loaded ... OK
* checking whether the package can be loaded with stated dependencies ... OK
* checking whether the package can be unloaded cleanly ... OK
* checking whether the namespace can be loaded with stated dependencies ... OK
* checking whether the namespace can be unloaded cleanly ... OK
* checking loading without being on the library search path ... OK
* checking whether startup messages can be suppressed ... OK
* checking dependencies in R code ... OK
* checking S3 generic/method consistency ... OK
* checking replacement functions ... OK
* checking foreign function calls ... OK
* checking R code for possible problems ... OK
* checking Rd files ... OK
* checking Rd metadata ... OK
* checking Rd cross-references ... OK
* checking for missing documentation entries ... OK
* checking for code/documentation mismatches ... OK
* checking Rd \usage sections ... OK
* checking Rd contents ... OK
* checking for unstated dependencies in examples ... OK
* checking line endings in C/C++/Fortran sources/headers ... OK
* checking compiled code ... NOTE
Note: information on .o files is not available
* checking files in ‘vignettes’ ... OK
* checking examples ... OK
Examples with CPU (user + system) or elapsed time > 5s
                                        user system elapsed
runDrugResponseProcessingPipelineFxns 15.789  0.076  15.402
annotate_dt_with_cell_line             4.837  0.210   5.049
* checking for unstated dependencies in ‘tests’ ... OK
* checking tests ...
  Running ‘testthat.R’
 OK
* checking for unstated dependencies in vignettes ... OK
* checking package vignettes ... OK
* checking re-building of vignette outputs ... OK
* checking PDF version of manual ... OK
* DONE

Status: 1 NOTE
See
  ‘/home/biocbuild/bbs-3.20-bioc/meat/gDRcore.Rcheck/00check.log’
for details.


Installation output

gDRcore.Rcheck/00install.out

##############################################################################
##############################################################################
###
### Running command:
###
###   /home/biocbuild/bbs-3.20-bioc/R/bin/R CMD INSTALL gDRcore
###
##############################################################################
##############################################################################


* installing to library ‘/home/biocbuild/bbs-3.20-bioc/R/site-library’
* installing *source* package ‘gDRcore’ ...
** using staged installation
** libs
using C++ compiler: ‘g++ (Ubuntu 13.3.0-6ubuntu2~24.04) 13.3.0’
g++ -std=gnu++17 -I"/home/biocbuild/bbs-3.20-bioc/R/include" -DNDEBUG   -I/usr/local/include    -fpic  -g -O2  -Wall  -c gDRcore.cpp -o gDRcore.o
g++ -std=gnu++17 -shared -L/home/biocbuild/bbs-3.20-bioc/R/lib -L/usr/local/lib -o gDRcore.so gDRcore.o -L/home/biocbuild/bbs-3.20-bioc/R/lib -lR
installing to /home/biocbuild/bbs-3.20-bioc/R/site-library/00LOCK-gDRcore/00new/gDRcore/libs
** R
** inst
** byte-compile and prepare package for lazy loading
** help
*** installing help indices
** building package indices
** installing vignettes
** testing if installed package can be loaded from temporary location
** checking absolute paths in shared objects and dynamic libraries
** testing if installed package can be loaded from final location
** testing if installed package keeps a record of temporary installation path
* DONE (gDRcore)

Tests output

gDRcore.Rcheck/tests/testthat.Rout


R version 4.4.2 (2024-10-31) -- "Pile of Leaves"
Copyright (C) 2024 The R Foundation for Statistical Computing
Platform: x86_64-pc-linux-gnu

R is free software and comes with ABSOLUTELY NO WARRANTY.
You are welcome to redistribute it under certain conditions.
Type 'license()' or 'licence()' for distribution details.

R is a collaborative project with many contributors.
Type 'contributors()' for more information and
'citation()' on how to cite R or R packages in publications.

Type 'demo()' for some demos, 'help()' for on-line help, or
'help.start()' for an HTML browser interface to help.
Type 'q()' to quit R.

> library("gDRcore")
> library("testthat")
> 
> test_check("gDRcore")
INFO [2025-02-03 22:37:39] 
INFO [2025-02-03 22:37:39] 
INFO [2025-02-03 22:37:39] 
INFO [2025-02-03 22:37:54] Manifest loaded successfully
INFO [2025-02-03 22:37:54] Reading Template_7daytreated.xlsx with load_templates_xlsx
INFO [2025-02-03 22:37:54] Loading Template_7daytreated.xlsx
INFO [2025-02-03 22:37:54] Loading Template_Untreated.xlsx
INFO [2025-02-03 22:37:54] Templates loaded successfully!
INFO [2025-02-03 22:37:54] Reading file /home/biocbuild/bbs-3.20-bioc/R/site-library/gDRimport/extdata/data1/RawData_day0.xlsx, sheet Readout_0077vs0068_day7
INFO [2025-02-03 22:37:55] Plate 201904190a read; 384 wells
INFO [2025-02-03 22:37:55] Plate 201904190b read; 384 wells
INFO [2025-02-03 22:37:55] Plate 201904190c read; 384 wells
INFO [2025-02-03 22:37:55] Plate 201904190d read; 384 wells
INFO [2025-02-03 22:37:55] Plate 201904190e read; 384 wells
INFO [2025-02-03 22:37:55] Plate 201904190f read; 384 wells
INFO [2025-02-03 22:37:55] File done
INFO [2025-02-03 22:37:55] Reading file /home/biocbuild/bbs-3.20-bioc/R/site-library/gDRimport/extdata/data1/RawData_day7.xlsx, sheet Readout_0077vs0068_day7
INFO [2025-02-03 22:37:55] Plate 201904197a read; 384 wells
INFO [2025-02-03 22:37:55] Plate 201904197b read; 384 wells
INFO [2025-02-03 22:37:55] Plate 201904197c read; 384 wells
INFO [2025-02-03 22:37:55] Plate 201904197d read; 384 wells
INFO [2025-02-03 22:37:55] Plate 201904197e read; 384 wells
INFO [2025-02-03 22:37:55] Plate 201904197f read; 384 wells
INFO [2025-02-03 22:37:55] File done
INFO [2025-02-03 22:37:55] Manifest loaded successfully
INFO [2025-02-03 22:37:55] Reading Template_7daytreated.xlsx with load_templates_xlsx
INFO [2025-02-03 22:37:55] Loading Template_7daytreated.xlsx
INFO [2025-02-03 22:37:55] Loading Template_Untreated.xlsx
INFO [2025-02-03 22:37:55] Templates loaded successfully!
INFO [2025-02-03 22:37:55] Reading file /home/biocbuild/bbs-3.20-bioc/R/site-library/gDRimport/extdata/data1/RawData_day0.xlsx, sheet Readout_0077vs0068_day7
INFO [2025-02-03 22:37:56] Plate 201904190a read; 384 wells
INFO [2025-02-03 22:37:56] Plate 201904190b read; 384 wells
INFO [2025-02-03 22:37:56] Plate 201904190c read; 384 wells
INFO [2025-02-03 22:37:56] Plate 201904190d read; 384 wells
INFO [2025-02-03 22:37:56] Plate 201904190e read; 384 wells
INFO [2025-02-03 22:37:56] Plate 201904190f read; 384 wells
INFO [2025-02-03 22:37:56] File done
INFO [2025-02-03 22:37:56] Reading file /home/biocbuild/bbs-3.20-bioc/R/site-library/gDRimport/extdata/data1/RawData_day7.xlsx, sheet Readout_0077vs0068_day7
INFO [2025-02-03 22:37:56] Plate 201904197a read; 384 wells
INFO [2025-02-03 22:37:56] Plate 201904197b read; 384 wells
INFO [2025-02-03 22:37:56] Plate 201904197c read; 384 wells
INFO [2025-02-03 22:37:56] Plate 201904197d read; 384 wells
INFO [2025-02-03 22:37:56] Plate 201904197e read; 384 wells
INFO [2025-02-03 22:37:56] Plate 201904197f read; 384 wells
INFO [2025-02-03 22:37:56] File done
[ FAIL 0 | WARN 0 | SKIP 0 | PASS 225 ]
> 
> proc.time()
   user  system elapsed 
212.815   2.474 214.084 

Example timings

gDRcore.Rcheck/gDRcore-Ex.timings

nameusersystemelapsed
annotate_dt_with_cell_line4.8370.2105.049
annotate_dt_with_drug0.0130.0000.013
calculate_GR_value0.0020.0000.002
calculate_excess0.0610.0070.067
calculate_matrix_metric0.0160.0010.018
calculate_score0.0330.0040.037
cleanup_metadata0.8370.0160.853
convert_mae_to_raw_data1.6050.0651.646
convert_se_to_raw_data0.1030.0020.089
data_model0.0020.0000.001
dot-standardize_conc0.0010.0000.001
fit_SE.combinations2.8860.0542.936
get_cell_line_annotation0.0050.0010.006
get_cellline_annotation_from_dt0.0050.0030.008
get_default_nested_identifiers0.0010.0000.000
get_drug_annotation0.0030.0010.005
get_drug_annotation_from_dt0.0050.0000.005
grr_matches0.0120.0030.014
identify_data_type0.0370.0070.045
identify_keys0.0980.0180.116
map_conc_to_standardized_conc0.0030.0000.003
map_df0.1020.0160.119
map_ids_to_fits0.0010.0010.002
merge_data1.3310.0561.331
prepare_input1.1920.0241.152
process_perturbations0.0040.0010.005
remove_drug_batch000
replace_conc_with_standardized_conc0.0000.0000.001
runDrugResponseProcessingPipelineFxns15.789 0.07615.402
split_raw_data0.3410.0010.285
test_synthetic_data0.8530.0040.789