| Back to Multiple platform build/check report for BioC 3.20: simplified long |
|
This page was generated on 2024-11-20 12:02 -0500 (Wed, 20 Nov 2024).
| Hostname | OS | Arch (*) | R version | Installed pkgs |
|---|---|---|---|---|
| teran2 | Linux (Ubuntu 24.04.1 LTS) | x86_64 | 4.4.2 (2024-10-31) -- "Pile of Leaves" | 4481 |
| nebbiolo2 | Linux (Ubuntu 24.04.1 LTS) | x86_64 | 4.4.2 (2024-10-31) -- "Pile of Leaves" | 4479 |
| palomino8 | Windows Server 2022 Datacenter | x64 | 4.4.2 (2024-10-31 ucrt) -- "Pile of Leaves" | 4359 |
| lconway | macOS 12.7.1 Monterey | x86_64 | 4.4.1 (2024-06-14) -- "Race for Your Life" | 4539 |
| kunpeng2 | Linux (openEuler 22.03 LTS-SP1) | aarch64 | 4.4.1 (2024-06-14) -- "Race for Your Life" | 4493 |
| Click on any hostname to see more info about the system (e.g. compilers) (*) as reported by 'uname -p', except on Windows and Mac OS X | ||||
| Package 735/2289 | Hostname | OS / Arch | INSTALL | BUILD | CHECK | BUILD BIN | ||||||||
| flowGraph 1.14.0 (landing page) Alice Yue
| teran2 | Linux (Ubuntu 24.04.1 LTS) / x86_64 | OK | OK | OK | |||||||||
| nebbiolo2 | Linux (Ubuntu 24.04.1 LTS) / x86_64 | OK | OK | OK | ||||||||||
| palomino8 | Windows Server 2022 Datacenter / x64 | OK | OK | OK | OK | |||||||||
| lconway | macOS 12.7.1 Monterey / x86_64 | OK | OK | OK | OK | |||||||||
| kunpeng2 | Linux (openEuler 22.03 LTS-SP1) / aarch64 | OK | OK | OK | ||||||||||
|
To the developers/maintainers of the flowGraph package: - Allow up to 24 hours (and sometimes 48 hours) for your latest push to git@git.bioconductor.org:packages/flowGraph.git to reflect on this report. See Troubleshooting Build Report for more information. - Use the following Renviron settings to reproduce errors and warnings. - If 'R CMD check' started to fail recently on the Linux builder(s) over a missing dependency, add the missing dependency to 'Suggests:' in your DESCRIPTION file. See Renviron.bioc for more information. |
| Package: flowGraph |
| Version: 1.14.0 |
| Command: /home/biocbuild/bbs-3.20-bioc/R/bin/R CMD check --install=check:flowGraph.install-out.txt --library=/home/biocbuild/bbs-3.20-bioc/R/site-library --timings flowGraph_1.14.0.tar.gz |
| StartedAt: 2024-11-20 03:03:58 -0500 (Wed, 20 Nov 2024) |
| EndedAt: 2024-11-20 03:07:44 -0500 (Wed, 20 Nov 2024) |
| EllapsedTime: 225.8 seconds |
| RetCode: 0 |
| Status: OK |
| CheckDir: flowGraph.Rcheck |
| Warnings: 0 |
##############################################################################
##############################################################################
###
### Running command:
###
### /home/biocbuild/bbs-3.20-bioc/R/bin/R CMD check --install=check:flowGraph.install-out.txt --library=/home/biocbuild/bbs-3.20-bioc/R/site-library --timings flowGraph_1.14.0.tar.gz
###
##############################################################################
##############################################################################
* using log directory ‘/media/volume/teran2_disk/biocbuild/bbs-3.20-bioc/meat/flowGraph.Rcheck’
* using R version 4.4.2 (2024-10-31)
* using platform: x86_64-pc-linux-gnu
* R was compiled by
gcc (Ubuntu 13.2.0-23ubuntu4) 13.2.0
GNU Fortran (Ubuntu 13.2.0-23ubuntu4) 13.2.0
* running under: Ubuntu 24.04.1 LTS
* using session charset: UTF-8
* checking for file ‘flowGraph/DESCRIPTION’ ... OK
* checking extension type ... Package
* this is package ‘flowGraph’ version ‘1.14.0’
* checking package namespace information ... OK
* checking package dependencies ... OK
* checking if this is a source package ... OK
* checking if there is a namespace ... OK
* checking for hidden files and directories ... OK
* checking for portable file names ... OK
* checking for sufficient/correct file permissions ... OK
* checking whether package ‘flowGraph’ can be installed ... OK
* checking installed package size ... OK
* checking package directory ... OK
* checking ‘build’ directory ... OK
* checking DESCRIPTION meta-information ... OK
* checking top-level files ... OK
* checking for left-over files ... OK
* checking index information ... OK
* checking package subdirectories ... OK
* checking code files for non-ASCII characters ... OK
* checking R files for syntax errors ... OK
* checking whether the package can be loaded ... OK
* checking whether the package can be loaded with stated dependencies ... OK
* checking whether the package can be unloaded cleanly ... OK
* checking whether the namespace can be loaded with stated dependencies ... OK
* checking whether the namespace can be unloaded cleanly ... OK
* checking loading without being on the library search path ... OK
* checking dependencies in R code ... OK
* checking S3 generic/method consistency ... OK
* checking replacement functions ... OK
* checking foreign function calls ... OK
* checking R code for possible problems ... NOTE
get_child: no visible binding for global variable ‘no_cores’
get_paren: no visible binding for global variable ‘no_cores’
ms_psig: no visible binding for global variable ‘meta’
Undefined global functions or variables:
meta no_cores
* checking Rd files ... NOTE
checkRd: (-1) fg_get_graph.Rd:13: Lost braces
13 | A list containing two data frames (\code{v} and ]code{e})
| ^
checkRd: (-1) ggdf.Rd:22: Lost braces
22 | code{ggdf} adds to the data frames \code{v} and \code{e} in slot
| ^
* checking Rd metadata ... OK
* checking Rd cross-references ... OK
* checking for missing documentation entries ... OK
* checking for code/documentation mismatches ... OK
* checking Rd \usage sections ... OK
* checking Rd contents ... OK
* checking for unstated dependencies in examples ... OK
* checking contents of ‘data’ directory ... OK
* checking data for non-ASCII characters ... OK
* checking data for ASCII and uncompressed saves ... OK
* checking files in ‘vignettes’ ... OK
* checking examples ... OK
Examples with CPU (user + system) or elapsed time > 5s
user system elapsed
fg_load 32.563 1.226 37.363
fg_save 32.805 0.963 37.443
fg_save_plots 30.264 0.840 32.681
* checking for unstated dependencies in ‘tests’ ... OK
* checking tests ...
Running ‘testthat.R’
OK
* checking for unstated dependencies in vignettes ... OK
* checking package vignettes ... OK
* checking re-building of vignette outputs ... OK
* checking PDF version of manual ... OK
* DONE
Status: 2 NOTEs
See
‘/media/volume/teran2_disk/biocbuild/bbs-3.20-bioc/meat/flowGraph.Rcheck/00check.log’
for details.
flowGraph.Rcheck/00install.out
############################################################################## ############################################################################## ### ### Running command: ### ### /home/biocbuild/bbs-3.20-bioc/R/bin/R CMD INSTALL flowGraph ### ############################################################################## ############################################################################## * installing to library ‘/media/volume/teran2_disk/biocbuild/bbs-3.20-bioc/R/site-library’ * installing *source* package ‘flowGraph’ ... ** using staged installation ** R ** data ** inst ** byte-compile and prepare package for lazy loading ** help Loading required namespace: flowGraph *** installing help indices ** building package indices ** installing vignettes ** testing if installed package can be loaded from temporary location ** testing if installed package can be loaded from final location ** testing if installed package keeps a record of temporary installation path * DONE (flowGraph)
flowGraph.Rcheck/tests/testthat.Rout
R version 4.4.2 (2024-10-31) -- "Pile of Leaves"
Copyright (C) 2024 The R Foundation for Statistical Computing
Platform: x86_64-pc-linux-gnu
R is free software and comes with ABSOLUTELY NO WARRANTY.
You are welcome to redistribute it under certain conditions.
Type 'license()' or 'licence()' for distribution details.
R is a collaborative project with many contributors.
Type 'contributors()' for more information and
'citation()' on how to cite R or R packages in publications.
Type 'demo()' for some demos, 'help()' for on-line help, or
'help.start()' for an HTML browser interface to help.
Type 'q()' to quit R.
> library(testthat)
> library(flowGraph)
>
> test_check("flowGraph")
[ FAIL 0 | WARN 1 | SKIP 0 | PASS 34 ]
[ FAIL 0 | WARN 1 | SKIP 0 | PASS 34 ]
>
> proc.time()
user system elapsed
3.318 0.234 3.669
flowGraph.Rcheck/flowGraph-Ex.timings
| name | user | system | elapsed | |
| cell_type_layers | 0.001 | 0.001 | 0.003 | |
| fg_add_feature | 0.220 | 0.006 | 0.264 | |
| fg_add_summary | 0.575 | 0.006 | 0.706 | |
| fg_clean_phen | 0 | 0 | 0 | |
| fg_clear_features | 0.588 | 0.003 | 0.671 | |
| fg_clear_summary | 0.228 | 0.001 | 0.233 | |
| fg_extract_phenotypes | 0.174 | 0.000 | 0.174 | |
| fg_extract_raw | 0.539 | 0.000 | 0.561 | |
| fg_extract_samples | 0.175 | 0.001 | 0.176 | |
| fg_feat_cumsum | 0.176 | 0.000 | 0.177 | |
| fg_feat_edge_specenr | 0.543 | 0.005 | 0.549 | |
| fg_feat_mean_class | 0.172 | 0.006 | 0.178 | |
| fg_feat_node_prop | 0.174 | 0.001 | 0.175 | |
| fg_feat_node_specenr | 0.256 | 0.001 | 0.266 | |
| fg_feat_prop_edge | 0.196 | 0.001 | 0.197 | |
| fg_get_feature | 0.17 | 0.00 | 0.17 | |
| fg_get_feature_desc | 0.572 | 0.001 | 0.987 | |
| fg_get_feature_means | 0.843 | 0.001 | 1.224 | |
| fg_get_graph | 0.174 | 0.001 | 0.177 | |
| fg_get_markers | 0.173 | 0.001 | 0.175 | |
| fg_get_meta | 0.172 | 0.001 | 0.194 | |
| fg_get_summary | 1.904 | 0.000 | 1.987 | |
| fg_get_summary_desc | 0.586 | 0.002 | 1.029 | |
| fg_get_summary_index | 1.339 | 0.019 | 1.399 | |
| fg_get_summary_tables | 0.777 | 0.006 | 0.797 | |
| fg_gsub_ids | 0.162 | 0.000 | 0.163 | |
| fg_gsub_markers | 0.201 | 0.001 | 0.203 | |
| fg_load | 32.563 | 1.226 | 37.363 | |
| fg_merge | 0.201 | 0.000 | 0.200 | |
| fg_merge_samples | 0.203 | 0.001 | 0.206 | |
| fg_plot | 0.302 | 0.000 | 0.302 | |
| fg_plot_box | 0.456 | 0.003 | 0.467 | |
| fg_plot_pVSdiff | 0.276 | 0.001 | 0.278 | |
| fg_plot_qq | 0.727 | 0.011 | 0.811 | |
| fg_replace_meta | 0.238 | 0.001 | 0.241 | |
| fg_rm_feature | 0.648 | 0.001 | 0.693 | |
| fg_rm_summary | 0.291 | 0.003 | 0.318 | |
| fg_save | 32.805 | 0.963 | 37.443 | |
| fg_save_plots | 30.264 | 0.840 | 32.681 | |
| fg_set_layout | 0.187 | 0.001 | 0.188 | |
| fg_summary | 0.238 | 0.001 | 0.244 | |
| flowGraph-class | 0 | 0 | 0 | |
| flowGraph | 0.828 | 0.000 | 0.832 | |
| flowGraphSubset | 0 | 0 | 0 | |
| flowGraphSubset_summary_adjust | 0.000 | 0.000 | 0.001 | |
| flowGraphSubset_summary_pars | 0.001 | 0.000 | 0.000 | |
| get_phen_list | 0.011 | 0.001 | 0.014 | |
| get_phen_meta | 0.001 | 0.000 | 0.001 | |
| ggdf | 0.199 | 0.002 | 0.206 | |
| loop_ind_f | 0 | 0 | 0 | |
| meandiff | 0.000 | 0.000 | 0.001 | |
| plot_gr | 1.015 | 0.011 | 1.064 | |
| set_layout_graph | 0.195 | 0.007 | 0.202 | |
| summary_table | 0.008 | 0.000 | 0.008 | |
| time_output | 0 | 0 | 0 | |
| tstr | 0 | 0 | 0 | |