| Back to Multiple platform build/check report for BioC 3.20: simplified long | 
 | 
This page was generated on 2025-04-02 19:28 -0400 (Wed, 02 Apr 2025).
| Hostname | OS | Arch (*) | R version | Installed pkgs | 
|---|---|---|---|---|
| nebbiolo2 | Linux (Ubuntu 24.04.1 LTS) | x86_64 | 4.4.3 (2025-02-28) -- "Trophy Case" | 4764 | 
| palomino8 | Windows Server 2022 Datacenter | x64 | 4.4.3 (2025-02-28 ucrt) -- "Trophy Case" | 4495 | 
| merida1 | macOS 12.7.5 Monterey | x86_64 | 4.4.3 (2025-02-28) -- "Trophy Case" | 4522 | 
| kjohnson1 | macOS 13.6.6 Ventura | arm64 | 4.4.3 (2025-02-28) -- "Trophy Case" | 4449 | 
| taishan | Linux (openEuler 24.03 LTS) | aarch64 | 4.4.3 (2025-02-28) -- "Trophy Case" | 4426 | 
| Click on any hostname to see more info about the system (e.g. compilers) (*) as reported by 'uname -p', except on Windows and Mac OS X | ||||
| Package 735/2289 | Hostname | OS / Arch | INSTALL | BUILD | CHECK | BUILD BIN | ||||||||
| flowGraph 1.14.0  (landing page) Alice Yue 
 | nebbiolo2 | Linux (Ubuntu 24.04.1 LTS) / x86_64 | OK | OK | OK |  | ||||||||
| palomino8 | Windows Server 2022 Datacenter / x64 | OK | OK | OK | OK |  | ||||||||
| merida1 | macOS 12.7.5 Monterey / x86_64 | OK | OK | OK | OK |  | ||||||||
| kjohnson1 | macOS 13.6.6 Ventura / arm64 | OK | OK | OK | OK |  | ||||||||
| taishan | Linux (openEuler 24.03 LTS) / aarch64 | OK | OK | OK | ||||||||||
| To the developers/maintainers of the flowGraph package: - Allow up to 24 hours (and sometimes 48 hours) for your latest push to git@git.bioconductor.org:packages/flowGraph.git to reflect on this report. See Troubleshooting Build Report for more information. - Use the following Renviron settings to reproduce errors and warnings. - If 'R CMD check' started to fail recently on the Linux builder(s) over a missing dependency, add the missing dependency to 'Suggests:' in your DESCRIPTION file. See Renviron.bioc for more information. | 
| Package: flowGraph | 
| Version: 1.14.0 | 
| Command: /home/biocbuild/bbs-3.20-bioc/R/bin/R CMD check --install=check:flowGraph.install-out.txt --library=/home/biocbuild/bbs-3.20-bioc/R/site-library --timings flowGraph_1.14.0.tar.gz | 
| StartedAt: 2025-03-31 22:13:57 -0400 (Mon, 31 Mar 2025) | 
| EndedAt: 2025-03-31 22:17:46 -0400 (Mon, 31 Mar 2025) | 
| EllapsedTime: 228.4 seconds | 
| RetCode: 0 | 
| Status: OK | 
| CheckDir: flowGraph.Rcheck | 
| Warnings: 0 | 
##############################################################################
##############################################################################
###
### Running command:
###
###   /home/biocbuild/bbs-3.20-bioc/R/bin/R CMD check --install=check:flowGraph.install-out.txt --library=/home/biocbuild/bbs-3.20-bioc/R/site-library --timings flowGraph_1.14.0.tar.gz
###
##############################################################################
##############################################################################
* using log directory ‘/home/biocbuild/bbs-3.20-bioc/meat/flowGraph.Rcheck’
* using R version 4.4.3 (2025-02-28)
* using platform: x86_64-pc-linux-gnu
* R was compiled by
    gcc (Ubuntu 13.3.0-6ubuntu2~24.04) 13.3.0
    GNU Fortran (Ubuntu 13.3.0-6ubuntu2~24.04) 13.3.0
* running under: Ubuntu 24.04.2 LTS
* using session charset: UTF-8
* checking for file ‘flowGraph/DESCRIPTION’ ... OK
* checking extension type ... Package
* this is package ‘flowGraph’ version ‘1.14.0’
* checking package namespace information ... OK
* checking package dependencies ... OK
* checking if this is a source package ... OK
* checking if there is a namespace ... OK
* checking for hidden files and directories ... OK
* checking for portable file names ... OK
* checking for sufficient/correct file permissions ... OK
* checking whether package ‘flowGraph’ can be installed ... OK
* checking installed package size ... OK
* checking package directory ... OK
* checking ‘build’ directory ... OK
* checking DESCRIPTION meta-information ... OK
* checking top-level files ... OK
* checking for left-over files ... OK
* checking index information ... OK
* checking package subdirectories ... OK
* checking code files for non-ASCII characters ... OK
* checking R files for syntax errors ... OK
* checking whether the package can be loaded ... OK
* checking whether the package can be loaded with stated dependencies ... OK
* checking whether the package can be unloaded cleanly ... OK
* checking whether the namespace can be loaded with stated dependencies ... OK
* checking whether the namespace can be unloaded cleanly ... OK
* checking loading without being on the library search path ... OK
* checking dependencies in R code ... OK
* checking S3 generic/method consistency ... OK
* checking replacement functions ... OK
* checking foreign function calls ... OK
* checking R code for possible problems ... NOTE
get_child: no visible binding for global variable ‘no_cores’
get_paren: no visible binding for global variable ‘no_cores’
ms_psig: no visible binding for global variable ‘meta’
Undefined global functions or variables:
  meta no_cores
* checking Rd files ... NOTE
checkRd: (-1) fg_get_graph.Rd:13: Lost braces
    13 | A list containing two data frames (\code{v} and ]code{e})
       |                                                      ^
checkRd: (-1) ggdf.Rd:22: Lost braces
    22 | code{ggdf} adds to the data frames \code{v} and \code{e} in slot
       |     ^
* checking Rd metadata ... OK
* checking Rd cross-references ... OK
* checking for missing documentation entries ... OK
* checking for code/documentation mismatches ... OK
* checking Rd \usage sections ... OK
* checking Rd contents ... OK
* checking for unstated dependencies in examples ... OK
* checking contents of ‘data’ directory ... OK
* checking data for non-ASCII characters ... OK
* checking data for ASCII and uncompressed saves ... OK
* checking files in ‘vignettes’ ... OK
* checking examples ... OK
Examples with CPU (user + system) or elapsed time > 5s
                user system elapsed
fg_save_plots 38.442  0.745  39.190
fg_load       37.850  0.873  38.671
fg_save       37.828  0.785  38.619
* checking for unstated dependencies in ‘tests’ ... OK
* checking tests ...
  Running ‘testthat.R’
 OK
* checking for unstated dependencies in vignettes ... OK
* checking package vignettes ... OK
* checking re-building of vignette outputs ... OK
* checking PDF version of manual ... OK
* DONE
Status: 2 NOTEs
See
  ‘/home/biocbuild/bbs-3.20-bioc/meat/flowGraph.Rcheck/00check.log’
for details.
flowGraph.Rcheck/00install.out
############################################################################## ############################################################################## ### ### Running command: ### ### /home/biocbuild/bbs-3.20-bioc/R/bin/R CMD INSTALL flowGraph ### ############################################################################## ############################################################################## * installing to library ‘/home/biocbuild/bbs-3.20-bioc/R/site-library’ * installing *source* package ‘flowGraph’ ... ** using staged installation ** R ** data ** inst ** byte-compile and prepare package for lazy loading ** help Loading required namespace: flowGraph *** installing help indices ** building package indices ** installing vignettes ** testing if installed package can be loaded from temporary location ** testing if installed package can be loaded from final location ** testing if installed package keeps a record of temporary installation path * DONE (flowGraph)
flowGraph.Rcheck/tests/testthat.Rout
R version 4.4.3 (2025-02-28) -- "Trophy Case"
Copyright (C) 2025 The R Foundation for Statistical Computing
Platform: x86_64-pc-linux-gnu
R is free software and comes with ABSOLUTELY NO WARRANTY.
You are welcome to redistribute it under certain conditions.
Type 'license()' or 'licence()' for distribution details.
R is a collaborative project with many contributors.
Type 'contributors()' for more information and
'citation()' on how to cite R or R packages in publications.
Type 'demo()' for some demos, 'help()' for on-line help, or
'help.start()' for an HTML browser interface to help.
Type 'q()' to quit R.
> library(testthat)
> library(flowGraph)
> 
> test_check("flowGraph")
[ FAIL 0 | WARN 1 | SKIP 0 | PASS 34 ]
[ FAIL 0 | WARN 1 | SKIP 0 | PASS 34 ]
> 
> proc.time()
   user  system elapsed 
  4.692   0.240   4.922 
flowGraph.Rcheck/flowGraph-Ex.timings
| name | user | system | elapsed | |
| cell_type_layers | 0.003 | 0.000 | 0.004 | |
| fg_add_feature | 0.287 | 0.013 | 0.300 | |
| fg_add_summary | 0.745 | 0.002 | 0.747 | |
| fg_clean_phen | 0 | 0 | 0 | |
| fg_clear_features | 0.743 | 0.001 | 0.744 | |
| fg_clear_summary | 0.294 | 0.000 | 0.294 | |
| fg_extract_phenotypes | 0.233 | 0.001 | 0.234 | |
| fg_extract_raw | 0.773 | 0.001 | 0.774 | |
| fg_extract_samples | 0.272 | 0.002 | 0.274 | |
| fg_feat_cumsum | 0.266 | 0.000 | 0.266 | |
| fg_feat_edge_specenr | 0.395 | 0.001 | 0.395 | |
| fg_feat_mean_class | 0.266 | 0.170 | 0.436 | |
| fg_feat_node_prop | 0.240 | 0.004 | 0.244 | |
| fg_feat_node_specenr | 0.373 | 0.006 | 0.380 | |
| fg_feat_prop_edge | 0.267 | 0.013 | 0.280 | |
| fg_get_feature | 0.304 | 0.047 | 0.350 | |
| fg_get_feature_desc | 0.749 | 0.109 | 0.856 | |
| fg_get_feature_means | 1.067 | 0.001 | 1.068 | |
| fg_get_graph | 0.236 | 0.001 | 0.238 | |
| fg_get_markers | 0.221 | 0.000 | 0.223 | |
| fg_get_meta | 0.227 | 0.000 | 0.227 | |
| fg_get_summary | 1.509 | 0.037 | 1.546 | |
| fg_get_summary_desc | 0.692 | 0.001 | 0.693 | |
| fg_get_summary_index | 1.656 | 0.091 | 1.747 | |
| fg_get_summary_tables | 0.985 | 0.013 | 0.999 | |
| fg_gsub_ids | 0.212 | 0.002 | 0.215 | |
| fg_gsub_markers | 0.261 | 0.001 | 0.262 | |
| fg_load | 37.850 | 0.873 | 38.671 | |
| fg_merge | 0.241 | 0.002 | 0.244 | |
| fg_merge_samples | 0.255 | 0.000 | 0.255 | |
| fg_plot | 0.355 | 0.000 | 0.355 | |
| fg_plot_box | 0.560 | 0.001 | 0.562 | |
| fg_plot_pVSdiff | 0.338 | 0.000 | 0.338 | |
| fg_plot_qq | 0.895 | 0.003 | 0.902 | |
| fg_replace_meta | 0.236 | 0.000 | 0.237 | |
| fg_rm_feature | 0.774 | 0.001 | 0.775 | |
| fg_rm_summary | 0.327 | 0.001 | 0.328 | |
| fg_save | 37.828 | 0.785 | 38.619 | |
| fg_save_plots | 38.442 | 0.745 | 39.190 | |
| fg_set_layout | 0.262 | 0.000 | 0.263 | |
| fg_summary | 0.327 | 0.000 | 0.327 | |
| flowGraph-class | 0.000 | 0.000 | 0.001 | |
| flowGraph | 1.060 | 0.002 | 1.062 | |
| flowGraphSubset | 0 | 0 | 0 | |
| flowGraphSubset_summary_adjust | 0.000 | 0.000 | 0.001 | |
| flowGraphSubset_summary_pars | 0.001 | 0.000 | 0.000 | |
| get_phen_list | 0.012 | 0.000 | 0.012 | |
| get_phen_meta | 0.002 | 0.000 | 0.001 | |
| ggdf | 0.243 | 0.000 | 0.243 | |
| loop_ind_f | 0 | 0 | 0 | |
| meandiff | 0.001 | 0.000 | 0.000 | |
| plot_gr | 1.370 | 0.005 | 1.376 | |
| set_layout_graph | 0.255 | 0.003 | 0.258 | |
| summary_table | 0.003 | 0.000 | 0.003 | |
| time_output | 0.001 | 0.000 | 0.001 | |
| tstr | 0 | 0 | 0 | |