| Back to Multiple platform build/check report for BioC 3.20: simplified long |
|
This page was generated on 2024-11-20 12:07 -0500 (Wed, 20 Nov 2024).
| Hostname | OS | Arch (*) | R version | Installed pkgs |
|---|---|---|---|---|
| teran2 | Linux (Ubuntu 24.04.1 LTS) | x86_64 | 4.4.2 (2024-10-31) -- "Pile of Leaves" | 4481 |
| nebbiolo2 | Linux (Ubuntu 24.04.1 LTS) | x86_64 | 4.4.2 (2024-10-31) -- "Pile of Leaves" | 4479 |
| palomino8 | Windows Server 2022 Datacenter | x64 | 4.4.2 (2024-10-31 ucrt) -- "Pile of Leaves" | 4359 |
| lconway | macOS 12.7.1 Monterey | x86_64 | 4.4.1 (2024-06-14) -- "Race for Your Life" | 4539 |
| kunpeng2 | Linux (openEuler 22.03 LTS-SP1) | aarch64 | 4.4.1 (2024-06-14) -- "Race for Your Life" | 4493 |
| Click on any hostname to see more info about the system (e.g. compilers) (*) as reported by 'uname -p', except on Windows and Mac OS X | ||||
| Package 735/2289 | Hostname | OS / Arch | INSTALL | BUILD | CHECK | BUILD BIN | ||||||||
| flowGraph 1.14.0 (landing page) Alice Yue
| teran2 | Linux (Ubuntu 24.04.1 LTS) / x86_64 | OK | OK | OK | |||||||||
| nebbiolo2 | Linux (Ubuntu 24.04.1 LTS) / x86_64 | OK | OK | OK | ||||||||||
| palomino8 | Windows Server 2022 Datacenter / x64 | OK | OK | OK | OK | |||||||||
| lconway | macOS 12.7.1 Monterey / x86_64 | OK | OK | OK | OK | |||||||||
| kunpeng2 | Linux (openEuler 22.03 LTS-SP1) / aarch64 | OK | OK | OK | ||||||||||
|
To the developers/maintainers of the flowGraph package: - Allow up to 24 hours (and sometimes 48 hours) for your latest push to git@git.bioconductor.org:packages/flowGraph.git to reflect on this report. See Troubleshooting Build Report for more information. - Use the following Renviron settings to reproduce errors and warnings. - If 'R CMD check' started to fail recently on the Linux builder(s) over a missing dependency, add the missing dependency to 'Suggests:' in your DESCRIPTION file. See Renviron.bioc for more information. - See Martin Grigorov's blog post for how to debug Linux ARM64 related issues on a x86_64 host. |
| Package: flowGraph |
| Version: 1.14.0 |
| Command: /home/biocbuild/R/R/bin/R CMD check --install=check:flowGraph.install-out.txt --library=/home/biocbuild/R/R/site-library --no-vignettes --timings flowGraph_1.14.0.tar.gz |
| StartedAt: 2024-11-20 07:55:41 -0000 (Wed, 20 Nov 2024) |
| EndedAt: 2024-11-20 08:00:36 -0000 (Wed, 20 Nov 2024) |
| EllapsedTime: 294.6 seconds |
| RetCode: 0 |
| Status: OK |
| CheckDir: flowGraph.Rcheck |
| Warnings: 0 |
##############################################################################
##############################################################################
###
### Running command:
###
### /home/biocbuild/R/R/bin/R CMD check --install=check:flowGraph.install-out.txt --library=/home/biocbuild/R/R/site-library --no-vignettes --timings flowGraph_1.14.0.tar.gz
###
##############################################################################
##############################################################################
* using log directory ‘/home/biocbuild/bbs-3.20-bioc/meat/flowGraph.Rcheck’
* using R version 4.4.1 (2024-06-14)
* using platform: aarch64-unknown-linux-gnu
* R was compiled by
gcc (GCC) 12.2.1 20220819 (openEuler 12.2.1-14)
GNU Fortran (GCC) 10.3.1
* running under: openEuler 22.03 (LTS-SP1)
* using session charset: UTF-8
* using option ‘--no-vignettes’
* checking for file ‘flowGraph/DESCRIPTION’ ... OK
* checking extension type ... Package
* this is package ‘flowGraph’ version ‘1.14.0’
* checking package namespace information ... OK
* checking package dependencies ... OK
* checking if this is a source package ... OK
* checking if there is a namespace ... OK
* checking for hidden files and directories ... OK
* checking for portable file names ... OK
* checking for sufficient/correct file permissions ... OK
* checking whether package ‘flowGraph’ can be installed ... OK
* checking installed package size ... OK
* checking package directory ... OK
* checking ‘build’ directory ... OK
* checking DESCRIPTION meta-information ... OK
* checking top-level files ... OK
* checking for left-over files ... OK
* checking index information ... OK
* checking package subdirectories ... OK
* checking code files for non-ASCII characters ... OK
* checking R files for syntax errors ... OK
* checking whether the package can be loaded ... OK
* checking whether the package can be loaded with stated dependencies ... OK
* checking whether the package can be unloaded cleanly ... OK
* checking whether the namespace can be loaded with stated dependencies ... OK
* checking whether the namespace can be unloaded cleanly ... OK
* checking loading without being on the library search path ... OK
* checking dependencies in R code ... OK
* checking S3 generic/method consistency ... OK
* checking replacement functions ... OK
* checking foreign function calls ... OK
* checking R code for possible problems ... NOTE
get_child: no visible binding for global variable ‘no_cores’
get_paren: no visible binding for global variable ‘no_cores’
ms_psig: no visible binding for global variable ‘meta’
Undefined global functions or variables:
meta no_cores
* checking Rd files ... NOTE
checkRd: (-1) fg_get_graph.Rd:13: Lost braces
13 | A list containing two data frames (\code{v} and ]code{e})
| ^
checkRd: (-1) ggdf.Rd:22: Lost braces
22 | code{ggdf} adds to the data frames \code{v} and \code{e} in slot
| ^
* checking Rd metadata ... OK
* checking Rd cross-references ... OK
* checking for missing documentation entries ... OK
* checking for code/documentation mismatches ... OK
* checking Rd \usage sections ... OK
* checking Rd contents ... OK
* checking for unstated dependencies in examples ... OK
* checking contents of ‘data’ directory ... OK
* checking data for non-ASCII characters ... OK
* checking data for ASCII and uncompressed saves ... OK
* checking files in ‘vignettes’ ... OK
* checking examples ... OK
Examples with CPU (user + system) or elapsed time > 5s
user system elapsed
fg_save_plots 53.190 0.328 53.624
fg_load 52.732 0.443 53.348
fg_save 52.787 0.251 53.140
* checking for unstated dependencies in ‘tests’ ... OK
* checking tests ...
Running ‘testthat.R’
OK
* checking for unstated dependencies in vignettes ... OK
* checking package vignettes ... OK
* checking running R code from vignettes ... SKIPPED
* checking re-building of vignette outputs ... SKIPPED
* checking PDF version of manual ... OK
* DONE
Status: 2 NOTEs
See
‘/home/biocbuild/bbs-3.20-bioc/meat/flowGraph.Rcheck/00check.log’
for details.
flowGraph.Rcheck/00install.out
############################################################################## ############################################################################## ### ### Running command: ### ### /home/biocbuild/R/R/bin/R CMD INSTALL flowGraph ### ############################################################################## ############################################################################## * installing to library ‘/home/biocbuild/R/R-4.4.1/site-library’ * installing *source* package ‘flowGraph’ ... ** using staged installation ** R ** data ** inst ** byte-compile and prepare package for lazy loading ** help Loading required namespace: flowGraph *** installing help indices ** building package indices ** installing vignettes ** testing if installed package can be loaded from temporary location ** testing if installed package can be loaded from final location ** testing if installed package keeps a record of temporary installation path * DONE (flowGraph)
flowGraph.Rcheck/tests/testthat.Rout
R version 4.4.1 (2024-06-14) -- "Race for Your Life"
Copyright (C) 2024 The R Foundation for Statistical Computing
Platform: aarch64-unknown-linux-gnu
R is free software and comes with ABSOLUTELY NO WARRANTY.
You are welcome to redistribute it under certain conditions.
Type 'license()' or 'licence()' for distribution details.
R is a collaborative project with many contributors.
Type 'contributors()' for more information and
'citation()' on how to cite R or R packages in publications.
Type 'demo()' for some demos, 'help()' for on-line help, or
'help.start()' for an HTML browser interface to help.
Type 'q()' to quit R.
> library(testthat)
> library(flowGraph)
>
> test_check("flowGraph")
[ FAIL 0 | WARN 0 | SKIP 0 | PASS 34 ]
>
> proc.time()
user system elapsed
6.616 0.245 6.788
flowGraph.Rcheck/flowGraph-Ex.timings
| name | user | system | elapsed | |
| cell_type_layers | 0.004 | 0.000 | 0.004 | |
| fg_add_feature | 0.473 | 0.028 | 0.501 | |
| fg_add_summary | 1.214 | 0.000 | 1.216 | |
| fg_clean_phen | 0.000 | 0.000 | 0.001 | |
| fg_clear_features | 1.202 | 0.012 | 1.217 | |
| fg_clear_summary | 0.471 | 0.012 | 0.484 | |
| fg_extract_phenotypes | 0.359 | 0.000 | 0.360 | |
| fg_extract_raw | 1.136 | 0.016 | 1.154 | |
| fg_extract_samples | 0.360 | 0.004 | 0.365 | |
| fg_feat_cumsum | 0.377 | 0.000 | 0.377 | |
| fg_feat_edge_specenr | 0.543 | 0.000 | 0.544 | |
| fg_feat_mean_class | 0.364 | 0.000 | 0.365 | |
| fg_feat_node_prop | 0.369 | 0.039 | 0.409 | |
| fg_feat_node_specenr | 0.527 | 0.004 | 0.531 | |
| fg_feat_prop_edge | 0.382 | 0.000 | 0.383 | |
| fg_get_feature | 0.362 | 0.004 | 0.366 | |
| fg_get_feature_desc | 1.138 | 0.000 | 1.140 | |
| fg_get_feature_means | 1.786 | 0.024 | 1.813 | |
| fg_get_graph | 0.362 | 0.002 | 0.365 | |
| fg_get_markers | 0.371 | 0.002 | 0.373 | |
| fg_get_meta | 0.355 | 0.004 | 0.360 | |
| fg_get_summary | 2.536 | 0.032 | 2.574 | |
| fg_get_summary_desc | 1.152 | 0.000 | 1.154 | |
| fg_get_summary_index | 2.671 | 0.072 | 2.749 | |
| fg_get_summary_tables | 1.643 | 0.000 | 1.646 | |
| fg_gsub_ids | 0.347 | 0.000 | 0.347 | |
| fg_gsub_markers | 0.421 | 0.004 | 0.426 | |
| fg_load | 52.732 | 0.443 | 53.348 | |
| fg_merge | 0.382 | 0.001 | 0.385 | |
| fg_merge_samples | 0.395 | 0.002 | 0.397 | |
| fg_plot | 0.569 | 0.000 | 0.569 | |
| fg_plot_box | 0.852 | 0.000 | 0.853 | |
| fg_plot_pVSdiff | 0.537 | 0.000 | 0.538 | |
| fg_plot_qq | 1.375 | 0.000 | 1.388 | |
| fg_replace_meta | 0.384 | 0.000 | 0.385 | |
| fg_rm_feature | 1.185 | 0.040 | 1.228 | |
| fg_rm_summary | 0.520 | 0.007 | 0.529 | |
| fg_save | 52.787 | 0.251 | 53.140 | |
| fg_save_plots | 53.190 | 0.328 | 53.624 | |
| fg_set_layout | 0.380 | 0.031 | 0.412 | |
| fg_summary | 0.497 | 0.000 | 0.498 | |
| flowGraph-class | 0.001 | 0.000 | 0.000 | |
| flowGraph | 1.601 | 0.020 | 1.624 | |
| flowGraphSubset | 0.000 | 0.000 | 0.001 | |
| flowGraphSubset_summary_adjust | 0.001 | 0.000 | 0.000 | |
| flowGraphSubset_summary_pars | 0 | 0 | 0 | |
| get_phen_list | 0.016 | 0.000 | 0.016 | |
| get_phen_meta | 0.002 | 0.000 | 0.002 | |
| ggdf | 0.362 | 0.000 | 0.362 | |
| loop_ind_f | 0.001 | 0.000 | 0.000 | |
| meandiff | 0.001 | 0.000 | 0.000 | |
| plot_gr | 1.907 | 0.008 | 1.935 | |
| set_layout_graph | 0.374 | 0.004 | 0.379 | |
| summary_table | 0.004 | 0.000 | 0.004 | |
| time_output | 0 | 0 | 0 | |
| tstr | 0 | 0 | 0 | |