| Back to Multiple platform build/check report for BioC 3.20: simplified long |
|
This page was generated on 2025-04-02 19:32 -0400 (Wed, 02 Apr 2025).
| Hostname | OS | Arch (*) | R version | Installed pkgs |
|---|---|---|---|---|
| nebbiolo2 | Linux (Ubuntu 24.04.1 LTS) | x86_64 | 4.4.3 (2025-02-28) -- "Trophy Case" | 4764 |
| palomino8 | Windows Server 2022 Datacenter | x64 | 4.4.3 (2025-02-28 ucrt) -- "Trophy Case" | 4495 |
| merida1 | macOS 12.7.5 Monterey | x86_64 | 4.4.3 (2025-02-28) -- "Trophy Case" | 4522 |
| kjohnson1 | macOS 13.6.6 Ventura | arm64 | 4.4.3 (2025-02-28) -- "Trophy Case" | 4449 |
| taishan | Linux (openEuler 24.03 LTS) | aarch64 | 4.4.3 (2025-02-28) -- "Trophy Case" | 4426 |
| Click on any hostname to see more info about the system (e.g. compilers) (*) as reported by 'uname -p', except on Windows and Mac OS X | ||||
| Package 735/2289 | Hostname | OS / Arch | INSTALL | BUILD | CHECK | BUILD BIN | ||||||||
| flowGraph 1.14.0 (landing page) Alice Yue
| nebbiolo2 | Linux (Ubuntu 24.04.1 LTS) / x86_64 | OK | OK | OK | |||||||||
| palomino8 | Windows Server 2022 Datacenter / x64 | OK | OK | OK | OK | |||||||||
| merida1 | macOS 12.7.5 Monterey / x86_64 | OK | OK | OK | OK | |||||||||
| kjohnson1 | macOS 13.6.6 Ventura / arm64 | OK | OK | OK | OK | |||||||||
| taishan | Linux (openEuler 24.03 LTS) / aarch64 | OK | OK | OK | ||||||||||
|
To the developers/maintainers of the flowGraph package: - Allow up to 24 hours (and sometimes 48 hours) for your latest push to git@git.bioconductor.org:packages/flowGraph.git to reflect on this report. See Troubleshooting Build Report for more information. - Use the following Renviron settings to reproduce errors and warnings. - If 'R CMD check' started to fail recently on the Linux builder(s) over a missing dependency, add the missing dependency to 'Suggests:' in your DESCRIPTION file. See Renviron.bioc for more information. |
| Package: flowGraph |
| Version: 1.14.0 |
| Command: /Library/Frameworks/R.framework/Resources/bin/R CMD check --install=check:flowGraph.install-out.txt --library=/Library/Frameworks/R.framework/Resources/library --no-vignettes --timings flowGraph_1.14.0.tar.gz |
| StartedAt: 2025-04-01 03:07:42 -0400 (Tue, 01 Apr 2025) |
| EndedAt: 2025-04-01 03:15:58 -0400 (Tue, 01 Apr 2025) |
| EllapsedTime: 495.6 seconds |
| RetCode: 0 |
| Status: OK |
| CheckDir: flowGraph.Rcheck |
| Warnings: 0 |
##############################################################################
##############################################################################
###
### Running command:
###
### /Library/Frameworks/R.framework/Resources/bin/R CMD check --install=check:flowGraph.install-out.txt --library=/Library/Frameworks/R.framework/Resources/library --no-vignettes --timings flowGraph_1.14.0.tar.gz
###
##############################################################################
##############################################################################
* using log directory ‘/Users/biocbuild/bbs-3.20-bioc/meat/flowGraph.Rcheck’
* using R version 4.4.3 (2025-02-28)
* using platform: x86_64-apple-darwin20
* R was compiled by
Apple clang version 14.0.0 (clang-1400.0.29.202)
GNU Fortran (GCC) 12.2.0
* running under: macOS Monterey 12.7.6
* using session charset: UTF-8
* using option ‘--no-vignettes’
* checking for file ‘flowGraph/DESCRIPTION’ ... OK
* checking extension type ... Package
* this is package ‘flowGraph’ version ‘1.14.0’
* checking package namespace information ... OK
* checking package dependencies ... OK
* checking if this is a source package ... OK
* checking if there is a namespace ... OK
* checking for hidden files and directories ... OK
* checking for portable file names ... OK
* checking for sufficient/correct file permissions ... OK
* checking whether package ‘flowGraph’ can be installed ... OK
* checking installed package size ... OK
* checking package directory ... OK
* checking ‘build’ directory ... OK
* checking DESCRIPTION meta-information ... OK
* checking top-level files ... OK
* checking for left-over files ... OK
* checking index information ... OK
* checking package subdirectories ... OK
* checking code files for non-ASCII characters ... OK
* checking R files for syntax errors ... OK
* checking whether the package can be loaded ... OK
* checking whether the package can be loaded with stated dependencies ... OK
* checking whether the package can be unloaded cleanly ... OK
* checking whether the namespace can be loaded with stated dependencies ... OK
* checking whether the namespace can be unloaded cleanly ... OK
* checking dependencies in R code ... OK
* checking S3 generic/method consistency ... OK
* checking replacement functions ... OK
* checking foreign function calls ... OK
* checking R code for possible problems ... NOTE
get_child: no visible binding for global variable ‘no_cores’
get_paren: no visible binding for global variable ‘no_cores’
ms_psig: no visible binding for global variable ‘meta’
Undefined global functions or variables:
meta no_cores
* checking Rd files ... NOTE
checkRd: (-1) fg_get_graph.Rd:13: Lost braces
13 | A list containing two data frames (\code{v} and ]code{e})
| ^
checkRd: (-1) ggdf.Rd:22: Lost braces
22 | code{ggdf} adds to the data frames \code{v} and \code{e} in slot
| ^
* checking Rd metadata ... OK
* checking Rd cross-references ... OK
* checking for missing documentation entries ... OK
* checking for code/documentation mismatches ... OK
* checking Rd \usage sections ... OK
* checking Rd contents ... OK
* checking for unstated dependencies in examples ... OK
* checking contents of ‘data’ directory ... OK
* checking data for non-ASCII characters ... OK
* checking data for ASCII and uncompressed saves ... OK
* checking files in ‘vignettes’ ... OK
* checking examples ... OK
Examples with CPU (user + system) or elapsed time > 5s
user system elapsed
fg_save_plots 85.192 0.701 88.563
fg_load 84.423 0.840 89.821
fg_save 84.255 0.619 89.800
* checking for unstated dependencies in ‘tests’ ... OK
* checking tests ...
Running ‘testthat.R’
OK
* checking for unstated dependencies in vignettes ... OK
* checking package vignettes ... OK
* checking running R code from vignettes ... SKIPPED
* checking re-building of vignette outputs ... SKIPPED
* checking PDF version of manual ... OK
* DONE
Status: 2 NOTEs
See
‘/Users/biocbuild/bbs-3.20-bioc/meat/flowGraph.Rcheck/00check.log’
for details.
flowGraph.Rcheck/00install.out
############################################################################## ############################################################################## ### ### Running command: ### ### /Library/Frameworks/R.framework/Resources/bin/R CMD INSTALL flowGraph ### ############################################################################## ############################################################################## * installing to library ‘/Library/Frameworks/R.framework/Versions/4.4-x86_64/Resources/library’ * installing *source* package ‘flowGraph’ ... ** using staged installation ** R ** data ** inst ** byte-compile and prepare package for lazy loading ** help Loading required namespace: flowGraph *** installing help indices ** building package indices ** installing vignettes ** testing if installed package can be loaded from temporary location ** testing if installed package can be loaded from final location ** testing if installed package keeps a record of temporary installation path * DONE (flowGraph)
flowGraph.Rcheck/tests/testthat.Rout
R version 4.4.3 (2025-02-28) -- "Trophy Case"
Copyright (C) 2025 The R Foundation for Statistical Computing
Platform: x86_64-apple-darwin20
R is free software and comes with ABSOLUTELY NO WARRANTY.
You are welcome to redistribute it under certain conditions.
Type 'license()' or 'licence()' for distribution details.
R is a collaborative project with many contributors.
Type 'contributors()' for more information and
'citation()' on how to cite R or R packages in publications.
Type 'demo()' for some demos, 'help()' for on-line help, or
'help.start()' for an HTML browser interface to help.
Type 'q()' to quit R.
> library(testthat)
> library(flowGraph)
>
> test_check("flowGraph")
[ FAIL 0 | WARN 1 | SKIP 0 | PASS 34 ]
[ FAIL 0 | WARN 1 | SKIP 0 | PASS 34 ]
>
> proc.time()
user system elapsed
11.678 0.532 12.363
flowGraph.Rcheck/flowGraph-Ex.timings
| name | user | system | elapsed | |
| cell_type_layers | 0.006 | 0.002 | 0.007 | |
| fg_add_feature | 0.787 | 0.018 | 0.823 | |
| fg_add_summary | 2.202 | 0.022 | 2.246 | |
| fg_clean_phen | 0.000 | 0.001 | 0.001 | |
| fg_clear_features | 2.117 | 0.015 | 2.155 | |
| fg_clear_summary | 0.835 | 0.010 | 0.898 | |
| fg_extract_phenotypes | 0.642 | 0.010 | 0.700 | |
| fg_extract_raw | 2.082 | 0.021 | 2.155 | |
| fg_extract_samples | 0.635 | 0.008 | 0.648 | |
| fg_feat_cumsum | 0.662 | 0.010 | 0.771 | |
| fg_feat_edge_specenr | 1.035 | 0.011 | 1.173 | |
| fg_feat_mean_class | 0.650 | 0.007 | 0.715 | |
| fg_feat_node_prop | 0.643 | 0.008 | 0.734 | |
| fg_feat_node_specenr | 1.014 | 0.013 | 1.139 | |
| fg_feat_prop_edge | 0.663 | 0.007 | 0.731 | |
| fg_get_feature | 0.644 | 0.009 | 0.714 | |
| fg_get_feature_desc | 2.099 | 0.015 | 2.239 | |
| fg_get_feature_means | 3.157 | 0.022 | 3.329 | |
| fg_get_graph | 0.642 | 0.008 | 0.680 | |
| fg_get_markers | 0.629 | 0.006 | 0.662 | |
| fg_get_meta | 0.629 | 0.006 | 0.672 | |
| fg_get_summary | 4.470 | 0.030 | 4.771 | |
| fg_get_summary_desc | 2.108 | 0.018 | 2.252 | |
| fg_get_summary_index | 4.590 | 0.048 | 4.781 | |
| fg_get_summary_tables | 3.015 | 0.038 | 3.065 | |
| fg_gsub_ids | 0.607 | 0.008 | 0.618 | |
| fg_gsub_markers | 0.739 | 0.008 | 0.748 | |
| fg_load | 84.423 | 0.840 | 89.821 | |
| fg_merge | 0.661 | 0.008 | 0.676 | |
| fg_merge_samples | 0.682 | 0.010 | 0.698 | |
| fg_plot | 0.969 | 0.012 | 0.993 | |
| fg_plot_box | 1.508 | 0.016 | 1.553 | |
| fg_plot_pVSdiff | 0.913 | 0.013 | 0.940 | |
| fg_plot_qq | 2.617 | 0.156 | 3.166 | |
| fg_replace_meta | 0.648 | 0.007 | 0.663 | |
| fg_rm_feature | 2.178 | 0.014 | 2.215 | |
| fg_rm_summary | 0.881 | 0.007 | 0.900 | |
| fg_save | 84.255 | 0.619 | 89.800 | |
| fg_save_plots | 85.192 | 0.701 | 88.563 | |
| fg_set_layout | 0.651 | 0.016 | 0.680 | |
| fg_summary | 0.878 | 0.008 | 0.894 | |
| flowGraph-class | 0.002 | 0.002 | 0.003 | |
| flowGraph | 3.000 | 0.018 | 3.053 | |
| flowGraphSubset | 0.000 | 0.001 | 0.001 | |
| flowGraphSubset_summary_adjust | 0.001 | 0.002 | 0.003 | |
| flowGraphSubset_summary_pars | 0.000 | 0.001 | 0.002 | |
| get_phen_list | 0.025 | 0.002 | 0.026 | |
| get_phen_meta | 0.004 | 0.001 | 0.005 | |
| ggdf | 0.655 | 0.012 | 0.685 | |
| loop_ind_f | 0.001 | 0.001 | 0.001 | |
| meandiff | 0.001 | 0.001 | 0.002 | |
| plot_gr | 3.206 | 0.053 | 3.343 | |
| set_layout_graph | 0.663 | 0.098 | 0.764 | |
| summary_table | 0.007 | 0.001 | 0.008 | |
| time_output | 0.001 | 0.001 | 0.002 | |
| tstr | 0.000 | 0.000 | 0.001 | |