| Back to Multiple platform build/check report for BioC 3.20: simplified long | 
 | 
This page was generated on 2025-04-02 19:33 -0400 (Wed, 02 Apr 2025).
| Hostname | OS | Arch (*) | R version | Installed pkgs | 
|---|---|---|---|---|
| nebbiolo2 | Linux (Ubuntu 24.04.1 LTS) | x86_64 | 4.4.3 (2025-02-28) -- "Trophy Case" | 4764 | 
| palomino8 | Windows Server 2022 Datacenter | x64 | 4.4.3 (2025-02-28 ucrt) -- "Trophy Case" | 4495 | 
| merida1 | macOS 12.7.5 Monterey | x86_64 | 4.4.3 (2025-02-28) -- "Trophy Case" | 4522 | 
| kjohnson1 | macOS 13.6.6 Ventura | arm64 | 4.4.3 (2025-02-28) -- "Trophy Case" | 4449 | 
| taishan | Linux (openEuler 24.03 LTS) | aarch64 | 4.4.3 (2025-02-28) -- "Trophy Case" | 4426 | 
| Click on any hostname to see more info about the system (e.g. compilers) (*) as reported by 'uname -p', except on Windows and Mac OS X | ||||
| Package 735/2289 | Hostname | OS / Arch | INSTALL | BUILD | CHECK | BUILD BIN | ||||||||
| flowGraph 1.14.0  (landing page) Alice Yue 
 | nebbiolo2 | Linux (Ubuntu 24.04.1 LTS) / x86_64 | OK | OK | OK |  | ||||||||
| palomino8 | Windows Server 2022 Datacenter / x64 | OK | OK | OK | OK |  | ||||||||
| merida1 | macOS 12.7.5 Monterey / x86_64 | OK | OK | OK | OK |  | ||||||||
| kjohnson1 | macOS 13.6.6 Ventura / arm64 | OK | OK | OK | OK |  | ||||||||
| taishan | Linux (openEuler 24.03 LTS) / aarch64 | OK | OK | OK | ||||||||||
| To the developers/maintainers of the flowGraph package: - Allow up to 24 hours (and sometimes 48 hours) for your latest push to git@git.bioconductor.org:packages/flowGraph.git to reflect on this report. See Troubleshooting Build Report for more information. - Use the following Renviron settings to reproduce errors and warnings. - If 'R CMD check' started to fail recently on the Linux builder(s) over a missing dependency, add the missing dependency to 'Suggests:' in your DESCRIPTION file. See Renviron.bioc for more information. | 
| Package: flowGraph | 
| Version: 1.14.0 | 
| Command: /Library/Frameworks/R.framework/Resources/bin/R CMD check --install=check:flowGraph.install-out.txt --library=/Library/Frameworks/R.framework/Resources/library --no-vignettes --timings flowGraph_1.14.0.tar.gz | 
| StartedAt: 2025-04-01 19:27:03 -0400 (Tue, 01 Apr 2025) | 
| EndedAt: 2025-04-01 19:31:23 -0400 (Tue, 01 Apr 2025) | 
| EllapsedTime: 259.5 seconds | 
| RetCode: 0 | 
| Status: OK | 
| CheckDir: flowGraph.Rcheck | 
| Warnings: 0 | 
##############################################################################
##############################################################################
###
### Running command:
###
###   /Library/Frameworks/R.framework/Resources/bin/R CMD check --install=check:flowGraph.install-out.txt --library=/Library/Frameworks/R.framework/Resources/library --no-vignettes --timings flowGraph_1.14.0.tar.gz
###
##############################################################################
##############################################################################
* using log directory ‘/Users/biocbuild/bbs-3.20-bioc/meat/flowGraph.Rcheck’
* using R version 4.4.3 (2025-02-28)
* using platform: aarch64-apple-darwin20
* R was compiled by
    Apple clang version 14.0.0 (clang-1400.0.29.202)
    GNU Fortran (GCC) 12.2.0
* running under: macOS Ventura 13.7.1
* using session charset: UTF-8
* using option ‘--no-vignettes’
* checking for file ‘flowGraph/DESCRIPTION’ ... OK
* checking extension type ... Package
* this is package ‘flowGraph’ version ‘1.14.0’
* checking package namespace information ... OK
* checking package dependencies ... OK
* checking if this is a source package ... OK
* checking if there is a namespace ... OK
* checking for hidden files and directories ... OK
* checking for portable file names ... OK
* checking for sufficient/correct file permissions ... OK
* checking whether package ‘flowGraph’ can be installed ... OK
* checking installed package size ... OK
* checking package directory ... OK
* checking ‘build’ directory ... OK
* checking DESCRIPTION meta-information ... OK
* checking top-level files ... OK
* checking for left-over files ... OK
* checking index information ... OK
* checking package subdirectories ... OK
* checking code files for non-ASCII characters ... OK
* checking R files for syntax errors ... OK
* checking whether the package can be loaded ... OK
* checking whether the package can be loaded with stated dependencies ... OK
* checking whether the package can be unloaded cleanly ... OK
* checking whether the namespace can be loaded with stated dependencies ... OK
* checking whether the namespace can be unloaded cleanly ... OK
* checking dependencies in R code ... OK
* checking S3 generic/method consistency ... OK
* checking replacement functions ... OK
* checking foreign function calls ... OK
* checking R code for possible problems ... NOTE
get_child: no visible binding for global variable ‘no_cores’
get_paren: no visible binding for global variable ‘no_cores’
ms_psig: no visible binding for global variable ‘meta’
Undefined global functions or variables:
  meta no_cores
* checking Rd files ... NOTE
checkRd: (-1) fg_get_graph.Rd:13: Lost braces
    13 | A list containing two data frames (\code{v} and ]code{e})
       |                                                      ^
checkRd: (-1) ggdf.Rd:22: Lost braces
    22 | code{ggdf} adds to the data frames \code{v} and \code{e} in slot
       |     ^
* checking Rd metadata ... OK
* checking Rd cross-references ... OK
* checking for missing documentation entries ... OK
* checking for code/documentation mismatches ... OK
* checking Rd \usage sections ... OK
* checking Rd contents ... OK
* checking for unstated dependencies in examples ... OK
* checking contents of ‘data’ directory ... OK
* checking data for non-ASCII characters ... OK
* checking data for ASCII and uncompressed saves ... OK
* checking files in ‘vignettes’ ... OK
* checking examples ... OK
Examples with CPU (user + system) or elapsed time > 5s
                user system elapsed
fg_save_plots 50.437  0.649  51.762
fg_save       47.574  0.592  48.501
fg_load       42.573  0.631  44.189
* checking for unstated dependencies in ‘tests’ ... OK
* checking tests ...
  Running ‘testthat.R’
 OK
* checking for unstated dependencies in vignettes ... OK
* checking package vignettes ... OK
* checking running R code from vignettes ... SKIPPED
* checking re-building of vignette outputs ... SKIPPED
* checking PDF version of manual ... OK
* DONE
Status: 2 NOTEs
See
  ‘/Users/biocbuild/bbs-3.20-bioc/meat/flowGraph.Rcheck/00check.log’
for details.
flowGraph.Rcheck/00install.out
############################################################################## ############################################################################## ### ### Running command: ### ### /Library/Frameworks/R.framework/Resources/bin/R CMD INSTALL flowGraph ### ############################################################################## ############################################################################## * installing to library ‘/Library/Frameworks/R.framework/Versions/4.4-arm64/Resources/library’ * installing *source* package ‘flowGraph’ ... ** using staged installation ** R ** data ** inst ** byte-compile and prepare package for lazy loading ** help Loading required namespace: flowGraph *** installing help indices ** building package indices ** installing vignettes ** testing if installed package can be loaded from temporary location ** testing if installed package can be loaded from final location ** testing if installed package keeps a record of temporary installation path * DONE (flowGraph)
flowGraph.Rcheck/tests/testthat.Rout
R version 4.4.3 (2025-02-28) -- "Trophy Case"
Copyright (C) 2025 The R Foundation for Statistical Computing
Platform: aarch64-apple-darwin20
R is free software and comes with ABSOLUTELY NO WARRANTY.
You are welcome to redistribute it under certain conditions.
Type 'license()' or 'licence()' for distribution details.
R is a collaborative project with many contributors.
Type 'contributors()' for more information and
'citation()' on how to cite R or R packages in publications.
Type 'demo()' for some demos, 'help()' for on-line help, or
'help.start()' for an HTML browser interface to help.
Type 'q()' to quit R.
> library(testthat)
> library(flowGraph)
> 
> test_check("flowGraph")
[ FAIL 0 | WARN 1 | SKIP 0 | PASS 34 ]
[ FAIL 0 | WARN 1 | SKIP 0 | PASS 34 ]
> 
> proc.time()
   user  system elapsed 
  5.006   0.258   5.400 
flowGraph.Rcheck/flowGraph-Ex.timings
| name | user | system | elapsed | |
| cell_type_layers | 0.005 | 0.001 | 0.010 | |
| fg_add_feature | 0.316 | 0.011 | 0.410 | |
| fg_add_summary | 0.836 | 0.012 | 1.081 | |
| fg_clean_phen | 0 | 0 | 0 | |
| fg_clear_features | 0.841 | 0.008 | 1.029 | |
| fg_clear_summary | 0.308 | 0.006 | 0.420 | |
| fg_extract_phenotypes | 0.242 | 0.004 | 0.318 | |
| fg_extract_raw | 0.813 | 0.010 | 1.074 | |
| fg_extract_samples | 0.249 | 0.005 | 0.353 | |
| fg_feat_cumsum | 0.254 | 0.005 | 0.387 | |
| fg_feat_edge_specenr | 0.425 | 0.008 | 0.598 | |
| fg_feat_mean_class | 0.235 | 0.006 | 0.338 | |
| fg_feat_node_prop | 0.237 | 0.004 | 0.327 | |
| fg_feat_node_specenr | 0.412 | 0.009 | 0.592 | |
| fg_feat_prop_edge | 0.257 | 0.005 | 0.313 | |
| fg_get_feature | 0.259 | 0.008 | 0.312 | |
| fg_get_feature_desc | 0.758 | 0.011 | 0.778 | |
| fg_get_feature_means | 1.032 | 0.012 | 1.064 | |
| fg_get_graph | 0.224 | 0.004 | 0.227 | |
| fg_get_markers | 0.214 | 0.003 | 0.217 | |
| fg_get_meta | 0.235 | 0.004 | 0.254 | |
| fg_get_summary | 1.411 | 0.014 | 1.639 | |
| fg_get_summary_desc | 0.760 | 0.010 | 0.926 | |
| fg_get_summary_index | 1.896 | 0.023 | 2.161 | |
| fg_get_summary_tables | 1.056 | 0.018 | 1.199 | |
| fg_gsub_ids | 0.179 | 0.003 | 0.182 | |
| fg_gsub_markers | 0.259 | 0.004 | 0.265 | |
| fg_load | 42.573 | 0.631 | 44.189 | |
| fg_merge | 0.278 | 0.005 | 0.283 | |
| fg_merge_samples | 0.286 | 0.005 | 0.301 | |
| fg_plot | 0.404 | 0.011 | 0.421 | |
| fg_plot_box | 0.625 | 0.010 | 0.648 | |
| fg_plot_pVSdiff | 0.330 | 0.007 | 0.336 | |
| fg_plot_qq | 1.139 | 0.176 | 1.411 | |
| fg_replace_meta | 0.271 | 0.005 | 0.279 | |
| fg_rm_feature | 0.982 | 0.009 | 1.016 | |
| fg_rm_summary | 0.366 | 0.005 | 0.373 | |
| fg_save | 47.574 | 0.592 | 48.501 | |
| fg_save_plots | 50.437 | 0.649 | 51.762 | |
| fg_set_layout | 0.257 | 0.006 | 0.265 | |
| fg_summary | 0.349 | 0.005 | 0.355 | |
| flowGraph-class | 0.001 | 0.000 | 0.001 | |
| flowGraph | 1.158 | 0.012 | 1.177 | |
| flowGraphSubset | 0.001 | 0.000 | 0.000 | |
| flowGraphSubset_summary_adjust | 0.000 | 0.001 | 0.001 | |
| flowGraphSubset_summary_pars | 0.000 | 0.001 | 0.001 | |
| get_phen_list | 0.012 | 0.001 | 0.012 | |
| get_phen_meta | 0.002 | 0.000 | 0.002 | |
| ggdf | 0.233 | 0.005 | 0.237 | |
| loop_ind_f | 0.001 | 0.001 | 0.000 | |
| meandiff | 0.001 | 0.000 | 0.001 | |
| plot_gr | 1.298 | 0.028 | 1.332 | |
| set_layout_graph | 0.279 | 0.040 | 0.333 | |
| summary_table | 0.005 | 0.001 | 0.006 | |
| time_output | 0.001 | 0.000 | 0.001 | |
| tstr | 0 | 0 | 0 | |