| Back to Multiple platform build/check report for BioC 3.20: simplified long |
|
This page was generated on 2024-11-20 12:06 -0500 (Wed, 20 Nov 2024).
| Hostname | OS | Arch (*) | R version | Installed pkgs |
|---|---|---|---|---|
| teran2 | Linux (Ubuntu 24.04.1 LTS) | x86_64 | 4.4.2 (2024-10-31) -- "Pile of Leaves" | 4481 |
| nebbiolo2 | Linux (Ubuntu 24.04.1 LTS) | x86_64 | 4.4.2 (2024-10-31) -- "Pile of Leaves" | 4479 |
| palomino8 | Windows Server 2022 Datacenter | x64 | 4.4.2 (2024-10-31 ucrt) -- "Pile of Leaves" | 4359 |
| lconway | macOS 12.7.1 Monterey | x86_64 | 4.4.1 (2024-06-14) -- "Race for Your Life" | 4539 |
| kunpeng2 | Linux (openEuler 22.03 LTS-SP1) | aarch64 | 4.4.1 (2024-06-14) -- "Race for Your Life" | 4493 |
| Click on any hostname to see more info about the system (e.g. compilers) (*) as reported by 'uname -p', except on Windows and Mac OS X | ||||
| Package 481/2289 | Hostname | OS / Arch | INSTALL | BUILD | CHECK | BUILD BIN | ||||||||
| cyanoFilter 1.14.0 (landing page) Oluwafemi Olusoji
| teran2 | Linux (Ubuntu 24.04.1 LTS) / x86_64 | OK | OK | OK | |||||||||
| nebbiolo2 | Linux (Ubuntu 24.04.1 LTS) / x86_64 | OK | OK | OK | ||||||||||
| palomino8 | Windows Server 2022 Datacenter / x64 | OK | OK | OK | OK | |||||||||
| lconway | macOS 12.7.1 Monterey / x86_64 | OK | OK | OK | OK | |||||||||
| kunpeng2 | Linux (openEuler 22.03 LTS-SP1) / aarch64 | OK | OK | OK | ||||||||||
|
To the developers/maintainers of the cyanoFilter package: - Allow up to 24 hours (and sometimes 48 hours) for your latest push to git@git.bioconductor.org:packages/cyanoFilter.git to reflect on this report. See Troubleshooting Build Report for more information. - Use the following Renviron settings to reproduce errors and warnings. - If 'R CMD check' started to fail recently on the Linux builder(s) over a missing dependency, add the missing dependency to 'Suggests:' in your DESCRIPTION file. See Renviron.bioc for more information. |
| Package: cyanoFilter |
| Version: 1.14.0 |
| Command: /Library/Frameworks/R.framework/Resources/bin/R CMD check --install=check:cyanoFilter.install-out.txt --library=/Library/Frameworks/R.framework/Resources/library --no-vignettes --timings cyanoFilter_1.14.0.tar.gz |
| StartedAt: 2024-11-19 21:04:57 -0500 (Tue, 19 Nov 2024) |
| EndedAt: 2024-11-19 21:10:14 -0500 (Tue, 19 Nov 2024) |
| EllapsedTime: 316.3 seconds |
| RetCode: 0 |
| Status: OK |
| CheckDir: cyanoFilter.Rcheck |
| Warnings: 0 |
##############################################################################
##############################################################################
###
### Running command:
###
### /Library/Frameworks/R.framework/Resources/bin/R CMD check --install=check:cyanoFilter.install-out.txt --library=/Library/Frameworks/R.framework/Resources/library --no-vignettes --timings cyanoFilter_1.14.0.tar.gz
###
##############################################################################
##############################################################################
* using log directory ‘/Users/biocbuild/bbs-3.20-bioc/meat/cyanoFilter.Rcheck’
* using R version 4.4.1 (2024-06-14)
* using platform: x86_64-apple-darwin20
* R was compiled by
Apple clang version 14.0.0 (clang-1400.0.29.202)
GNU Fortran (GCC) 12.2.0
* running under: macOS Monterey 12.7.6
* using session charset: UTF-8
* using option ‘--no-vignettes’
* checking for file ‘cyanoFilter/DESCRIPTION’ ... OK
* checking extension type ... Package
* this is package ‘cyanoFilter’ version ‘1.14.0’
* package encoding: UTF-8
* checking package namespace information ... OK
* checking package dependencies ...Warning: unable to access index for repository https://CRAN.R-project.org/src/contrib:
cannot open URL 'https://CRAN.R-project.org/src/contrib/PACKAGES'
OK
* checking if this is a source package ... OK
* checking if there is a namespace ... OK
* checking for hidden files and directories ... OK
* checking for portable file names ... OK
* checking for sufficient/correct file permissions ... OK
* checking whether package ‘cyanoFilter’ can be installed ... OK
* checking installed package size ... OK
* checking package directory ... OK
* checking ‘build’ directory ... OK
* checking DESCRIPTION meta-information ... OK
* checking top-level files ... OK
* checking for left-over files ... OK
* checking index information ... OK
* checking package subdirectories ... OK
* checking code files for non-ASCII characters ... OK
* checking R files for syntax errors ... OK
* checking whether the package can be loaded ... OK
* checking whether the package can be loaded with stated dependencies ... OK
* checking whether the package can be unloaded cleanly ... OK
* checking whether the namespace can be loaded with stated dependencies ... OK
* checking whether the namespace can be unloaded cleanly ... OK
* checking dependencies in R code ... OK
* checking S3 generic/method consistency ... OK
* checking replacement functions ... OK
* checking foreign function calls ... OK
* checking R code for possible problems ... OK
* checking Rd files ... OK
* checking Rd metadata ... OK
* checking Rd cross-references ... OK
* checking for missing documentation entries ... OK
* checking for code/documentation mismatches ... OK
* checking Rd \usage sections ... OK
* checking Rd contents ... OK
* checking for unstated dependencies in examples ... OK
* checking files in ‘vignettes’ ... OK
* checking examples ... OK
Examples with CPU (user + system) or elapsed time > 5s
user system elapsed
gateFunc 8.973 0.631 7.605
* checking for unstated dependencies in vignettes ... OK
* checking package vignettes ... OK
* checking running R code from vignettes ... SKIPPED
* checking re-building of vignette outputs ... SKIPPED
* checking PDF version of manual ... OK
* DONE
Status: OK
cyanoFilter.Rcheck/00install.out
############################################################################## ############################################################################## ### ### Running command: ### ### /Library/Frameworks/R.framework/Resources/bin/R CMD INSTALL cyanoFilter ### ############################################################################## ############################################################################## * installing to library ‘/Library/Frameworks/R.framework/Versions/4.4-x86_64/Resources/library’ * installing *source* package ‘cyanoFilter’ ... ** using staged installation ** R ** inst ** byte-compile and prepare package for lazy loading ** help *** installing help indices ** building package indices ** installing vignettes ** testing if installed package can be loaded from temporary location ** testing if installed package can be loaded from final location ** testing if installed package keeps a record of temporary installation path * DONE (cyanoFilter)
cyanoFilter.Rcheck/cyanoFilter-Ex.timings
| name | user | system | elapsed | |
| MarginEvents | 0.853 | 0.071 | 0.971 | |
| PhytoFilter | 0.514 | 0.060 | 0.578 | |
| PhytopFilter | 0.524 | 0.058 | 0.589 | |
| accTest | 0.309 | 0.030 | 0.344 | |
| accuracy | 0.290 | 0.029 | 0.320 | |
| cellmargin | 0.263 | 0.021 | 0.285 | |
| clusterExtract | 0.647 | 0.034 | 0.687 | |
| clusterExtractp | 0.667 | 0.047 | 0.720 | |
| debrisNc | 0.277 | 0.032 | 0.312 | |
| fullFlowframe-MarginEvents-method | 0.434 | 0.021 | 0.458 | |
| fullFlowframe-PhytopFilter-method | 0.484 | 0.031 | 0.520 | |
| fullFlowframe | 0.240 | 0.018 | 0.261 | |
| gateFunc | 8.973 | 0.631 | 7.605 | |
| ggpairsDens | 2.405 | 0.122 | 2.706 | |
| ggplotDens | 0.477 | 0.029 | 0.517 | |
| ggplotDens2 | 0.909 | 0.064 | 0.981 | |
| goodfcs | 0.043 | 0.007 | 0.050 | |
| is.DebrisFilter | 0.001 | 0.000 | 0.001 | |
| is.MarginEvents | 0.000 | 0.001 | 0.001 | |
| is.PhytopFilter | 0.001 | 0.000 | 0.001 | |
| is.flowFrame | 0.000 | 0.001 | 0.000 | |
| is.flowSet | 0 | 0 | 0 | |
| lnTrans | 0.172 | 0.016 | 0.193 | |
| newFlowframe | 0.172 | 0.069 | 0.242 | |
| nona | 0.081 | 0.007 | 0.088 | |
| noneg | 0.135 | 0.010 | 0.146 | |
| oneDgate | 0.183 | 0.069 | 0.253 | |
| pairsPlot | 1.318 | 0.146 | 1.475 | |
| pigmentGate | 0.235 | 0.044 | 0.284 | |
| reducedFlowframe-MarginEvents-method | 0.276 | 0.026 | 0.308 | |
| reducedFlowframe | 0.259 | 0.020 | 0.283 | |
| retain | 0.016 | 0.002 | 0.018 | |
| rowNumbers | 0.177 | 0.050 | 0.230 | |
| summaries-DebrisFilter-method | 0.255 | 0.021 | 0.280 | |
| summaries-MarginEvents-method | 0.255 | 0.020 | 0.278 | |
| summaries-PhytopFilter-method | 0.722 | 0.039 | 0.765 | |
| summaries | 0.261 | 0.022 | 0.288 | |