| Back to Multiple platform build/check report for BioC 3.20: simplified long |
|
This page was generated on 2025-04-02 19:28 -0400 (Wed, 02 Apr 2025).
| Hostname | OS | Arch (*) | R version | Installed pkgs |
|---|---|---|---|---|
| nebbiolo2 | Linux (Ubuntu 24.04.1 LTS) | x86_64 | 4.4.3 (2025-02-28) -- "Trophy Case" | 4764 |
| palomino8 | Windows Server 2022 Datacenter | x64 | 4.4.3 (2025-02-28 ucrt) -- "Trophy Case" | 4495 |
| merida1 | macOS 12.7.5 Monterey | x86_64 | 4.4.3 (2025-02-28) -- "Trophy Case" | 4522 |
| kjohnson1 | macOS 13.6.6 Ventura | arm64 | 4.4.3 (2025-02-28) -- "Trophy Case" | 4449 |
| taishan | Linux (openEuler 24.03 LTS) | aarch64 | 4.4.3 (2025-02-28) -- "Trophy Case" | 4426 |
| Click on any hostname to see more info about the system (e.g. compilers) (*) as reported by 'uname -p', except on Windows and Mac OS X | ||||
| Package 481/2289 | Hostname | OS / Arch | INSTALL | BUILD | CHECK | BUILD BIN | ||||||||
| cyanoFilter 1.14.0 (landing page) Oluwafemi Olusoji
| nebbiolo2 | Linux (Ubuntu 24.04.1 LTS) / x86_64 | OK | OK | OK | |||||||||
| palomino8 | Windows Server 2022 Datacenter / x64 | OK | OK | OK | OK | |||||||||
| merida1 | macOS 12.7.5 Monterey / x86_64 | OK | OK | OK | OK | |||||||||
| kjohnson1 | macOS 13.6.6 Ventura / arm64 | OK | OK | OK | OK | |||||||||
| taishan | Linux (openEuler 24.03 LTS) / aarch64 | OK | OK | OK | ||||||||||
|
To the developers/maintainers of the cyanoFilter package: - Allow up to 24 hours (and sometimes 48 hours) for your latest push to git@git.bioconductor.org:packages/cyanoFilter.git to reflect on this report. See Troubleshooting Build Report for more information. - Use the following Renviron settings to reproduce errors and warnings. - If 'R CMD check' started to fail recently on the Linux builder(s) over a missing dependency, add the missing dependency to 'Suggests:' in your DESCRIPTION file. See Renviron.bioc for more information. |
| Package: cyanoFilter |
| Version: 1.14.0 |
| Command: /home/biocbuild/bbs-3.20-bioc/R/bin/R CMD check --install=check:cyanoFilter.install-out.txt --library=/home/biocbuild/bbs-3.20-bioc/R/site-library --timings cyanoFilter_1.14.0.tar.gz |
| StartedAt: 2025-03-31 21:14:21 -0400 (Mon, 31 Mar 2025) |
| EndedAt: 2025-03-31 21:16:53 -0400 (Mon, 31 Mar 2025) |
| EllapsedTime: 152.1 seconds |
| RetCode: 0 |
| Status: OK |
| CheckDir: cyanoFilter.Rcheck |
| Warnings: 0 |
##############################################################################
##############################################################################
###
### Running command:
###
### /home/biocbuild/bbs-3.20-bioc/R/bin/R CMD check --install=check:cyanoFilter.install-out.txt --library=/home/biocbuild/bbs-3.20-bioc/R/site-library --timings cyanoFilter_1.14.0.tar.gz
###
##############################################################################
##############################################################################
* using log directory ‘/home/biocbuild/bbs-3.20-bioc/meat/cyanoFilter.Rcheck’
* using R version 4.4.3 (2025-02-28)
* using platform: x86_64-pc-linux-gnu
* R was compiled by
gcc (Ubuntu 13.3.0-6ubuntu2~24.04) 13.3.0
GNU Fortran (Ubuntu 13.3.0-6ubuntu2~24.04) 13.3.0
* running under: Ubuntu 24.04.2 LTS
* using session charset: UTF-8
* checking for file ‘cyanoFilter/DESCRIPTION’ ... OK
* checking extension type ... Package
* this is package ‘cyanoFilter’ version ‘1.14.0’
* package encoding: UTF-8
* checking package namespace information ... OK
* checking package dependencies ... OK
* checking if this is a source package ... OK
* checking if there is a namespace ... OK
* checking for hidden files and directories ... OK
* checking for portable file names ... OK
* checking for sufficient/correct file permissions ... OK
* checking whether package ‘cyanoFilter’ can be installed ... OK
* checking installed package size ... OK
* checking package directory ... OK
* checking ‘build’ directory ... OK
* checking DESCRIPTION meta-information ... OK
* checking top-level files ... OK
* checking for left-over files ... OK
* checking index information ... OK
* checking package subdirectories ... OK
* checking code files for non-ASCII characters ... OK
* checking R files for syntax errors ... OK
* checking whether the package can be loaded ... OK
* checking whether the package can be loaded with stated dependencies ... OK
* checking whether the package can be unloaded cleanly ... OK
* checking whether the namespace can be loaded with stated dependencies ... OK
* checking whether the namespace can be unloaded cleanly ... OK
* checking loading without being on the library search path ... OK
* checking dependencies in R code ... OK
* checking S3 generic/method consistency ... OK
* checking replacement functions ... OK
* checking foreign function calls ... OK
* checking R code for possible problems ... OK
* checking Rd files ... OK
* checking Rd metadata ... OK
* checking Rd cross-references ... OK
* checking for missing documentation entries ... OK
* checking for code/documentation mismatches ... OK
* checking Rd \usage sections ... OK
* checking Rd contents ... OK
* checking for unstated dependencies in examples ... OK
* checking files in ‘vignettes’ ... OK
* checking examples ... OK
Examples with CPU (user + system) or elapsed time > 5s
user system elapsed
gateFunc 8.325 0.342 6.926
* checking for unstated dependencies in vignettes ... OK
* checking package vignettes ... OK
* checking re-building of vignette outputs ... OK
* checking PDF version of manual ... OK
* DONE
Status: OK
cyanoFilter.Rcheck/00install.out
############################################################################## ############################################################################## ### ### Running command: ### ### /home/biocbuild/bbs-3.20-bioc/R/bin/R CMD INSTALL cyanoFilter ### ############################################################################## ############################################################################## * installing to library ‘/home/biocbuild/bbs-3.20-bioc/R/site-library’ * installing *source* package ‘cyanoFilter’ ... ** using staged installation ** R ** inst ** byte-compile and prepare package for lazy loading ** help *** installing help indices ** building package indices ** installing vignettes ** testing if installed package can be loaded from temporary location ** testing if installed package can be loaded from final location ** testing if installed package keeps a record of temporary installation path * DONE (cyanoFilter)
cyanoFilter.Rcheck/cyanoFilter-Ex.timings
| name | user | system | elapsed | |
| MarginEvents | 0.885 | 0.023 | 0.908 | |
| PhytoFilter | 0.634 | 0.124 | 0.760 | |
| PhytopFilter | 0.641 | 0.014 | 0.655 | |
| accTest | 0.434 | 0.046 | 0.479 | |
| accuracy | 0.394 | 0.012 | 0.405 | |
| cellmargin | 0.334 | 0.007 | 0.342 | |
| clusterExtract | 0.835 | 0.005 | 0.839 | |
| clusterExtractp | 0.860 | 0.019 | 0.880 | |
| debrisNc | 0.741 | 0.022 | 0.764 | |
| fullFlowframe-MarginEvents-method | 0.308 | 0.005 | 0.314 | |
| fullFlowframe-PhytopFilter-method | 0.610 | 0.007 | 0.618 | |
| fullFlowframe | 0.317 | 0.006 | 0.325 | |
| gateFunc | 8.325 | 0.342 | 6.926 | |
| ggpairsDens | 2.828 | 0.022 | 2.851 | |
| ggplotDens | 0.829 | 0.029 | 0.858 | |
| ggplotDens2 | 0.717 | 0.006 | 0.723 | |
| goodfcs | 0.039 | 0.003 | 0.042 | |
| is.DebrisFilter | 0 | 0 | 0 | |
| is.MarginEvents | 0 | 0 | 0 | |
| is.PhytopFilter | 0 | 0 | 0 | |
| is.flowFrame | 0.001 | 0.000 | 0.000 | |
| is.flowSet | 0 | 0 | 0 | |
| lnTrans | 0.179 | 0.002 | 0.180 | |
| newFlowframe | 0.179 | 0.009 | 0.188 | |
| nona | 0.083 | 0.002 | 0.085 | |
| noneg | 0.144 | 0.003 | 0.146 | |
| oneDgate | 0.170 | 0.010 | 0.179 | |
| pairsPlot | 1.597 | 0.013 | 1.609 | |
| pigmentGate | 0.236 | 0.005 | 0.241 | |
| reducedFlowframe-MarginEvents-method | 0.282 | 0.006 | 0.288 | |
| reducedFlowframe | 0.664 | 0.004 | 0.669 | |
| retain | 0.018 | 0.000 | 0.018 | |
| rowNumbers | 0.189 | 0.007 | 0.197 | |
| summaries-DebrisFilter-method | 0.268 | 0.003 | 0.271 | |
| summaries-MarginEvents-method | 0.264 | 0.003 | 0.267 | |
| summaries-PhytopFilter-method | 0.575 | 0.004 | 0.579 | |
| summaries | 0.258 | 0.006 | 0.264 | |