| Back to Multiple platform build/check report for BioC 3.20: simplified long |
|
This page was generated on 2024-11-20 12:07 -0500 (Wed, 20 Nov 2024).
| Hostname | OS | Arch (*) | R version | Installed pkgs |
|---|---|---|---|---|
| teran2 | Linux (Ubuntu 24.04.1 LTS) | x86_64 | 4.4.2 (2024-10-31) -- "Pile of Leaves" | 4481 |
| nebbiolo2 | Linux (Ubuntu 24.04.1 LTS) | x86_64 | 4.4.2 (2024-10-31) -- "Pile of Leaves" | 4479 |
| palomino8 | Windows Server 2022 Datacenter | x64 | 4.4.2 (2024-10-31 ucrt) -- "Pile of Leaves" | 4359 |
| lconway | macOS 12.7.1 Monterey | x86_64 | 4.4.1 (2024-06-14) -- "Race for Your Life" | 4539 |
| kunpeng2 | Linux (openEuler 22.03 LTS-SP1) | aarch64 | 4.4.1 (2024-06-14) -- "Race for Your Life" | 4493 |
| Click on any hostname to see more info about the system (e.g. compilers) (*) as reported by 'uname -p', except on Windows and Mac OS X | ||||
| Package 481/2289 | Hostname | OS / Arch | INSTALL | BUILD | CHECK | BUILD BIN | ||||||||
| cyanoFilter 1.14.0 (landing page) Oluwafemi Olusoji
| teran2 | Linux (Ubuntu 24.04.1 LTS) / x86_64 | OK | OK | OK | |||||||||
| nebbiolo2 | Linux (Ubuntu 24.04.1 LTS) / x86_64 | OK | OK | OK | ||||||||||
| palomino8 | Windows Server 2022 Datacenter / x64 | OK | OK | OK | OK | |||||||||
| lconway | macOS 12.7.1 Monterey / x86_64 | OK | OK | OK | OK | |||||||||
| kunpeng2 | Linux (openEuler 22.03 LTS-SP1) / aarch64 | OK | OK | OK | ||||||||||
|
To the developers/maintainers of the cyanoFilter package: - Allow up to 24 hours (and sometimes 48 hours) for your latest push to git@git.bioconductor.org:packages/cyanoFilter.git to reflect on this report. See Troubleshooting Build Report for more information. - Use the following Renviron settings to reproduce errors and warnings. - If 'R CMD check' started to fail recently on the Linux builder(s) over a missing dependency, add the missing dependency to 'Suggests:' in your DESCRIPTION file. See Renviron.bioc for more information. - See Martin Grigorov's blog post for how to debug Linux ARM64 related issues on a x86_64 host. |
| Package: cyanoFilter |
| Version: 1.14.0 |
| Command: /home/biocbuild/R/R/bin/R CMD check --install=check:cyanoFilter.install-out.txt --library=/home/biocbuild/R/R/site-library --no-vignettes --timings cyanoFilter_1.14.0.tar.gz |
| StartedAt: 2024-11-20 06:47:35 -0000 (Wed, 20 Nov 2024) |
| EndedAt: 2024-11-20 06:49:38 -0000 (Wed, 20 Nov 2024) |
| EllapsedTime: 123.2 seconds |
| RetCode: 0 |
| Status: OK |
| CheckDir: cyanoFilter.Rcheck |
| Warnings: 0 |
##############################################################################
##############################################################################
###
### Running command:
###
### /home/biocbuild/R/R/bin/R CMD check --install=check:cyanoFilter.install-out.txt --library=/home/biocbuild/R/R/site-library --no-vignettes --timings cyanoFilter_1.14.0.tar.gz
###
##############################################################################
##############################################################################
* using log directory ‘/home/biocbuild/bbs-3.20-bioc/meat/cyanoFilter.Rcheck’
* using R version 4.4.1 (2024-06-14)
* using platform: aarch64-unknown-linux-gnu
* R was compiled by
gcc (GCC) 12.2.1 20220819 (openEuler 12.2.1-14)
GNU Fortran (GCC) 10.3.1
* running under: openEuler 22.03 (LTS-SP1)
* using session charset: UTF-8
* using option ‘--no-vignettes’
* checking for file ‘cyanoFilter/DESCRIPTION’ ... OK
* checking extension type ... Package
* this is package ‘cyanoFilter’ version ‘1.14.0’
* package encoding: UTF-8
* checking package namespace information ... OK
* checking package dependencies ... OK
* checking if this is a source package ... OK
* checking if there is a namespace ... OK
* checking for hidden files and directories ... OK
* checking for portable file names ... OK
* checking for sufficient/correct file permissions ... OK
* checking whether package ‘cyanoFilter’ can be installed ... OK
* checking installed package size ... OK
* checking package directory ... OK
* checking ‘build’ directory ... OK
* checking DESCRIPTION meta-information ... OK
* checking top-level files ... OK
* checking for left-over files ... OK
* checking index information ... OK
* checking package subdirectories ... OK
* checking code files for non-ASCII characters ... OK
* checking R files for syntax errors ... OK
* checking whether the package can be loaded ... OK
* checking whether the package can be loaded with stated dependencies ... OK
* checking whether the package can be unloaded cleanly ... OK
* checking whether the namespace can be loaded with stated dependencies ... OK
* checking whether the namespace can be unloaded cleanly ... OK
* checking loading without being on the library search path ... OK
* checking dependencies in R code ... OK
* checking S3 generic/method consistency ... OK
* checking replacement functions ... OK
* checking foreign function calls ... OK
* checking R code for possible problems ... OK
* checking Rd files ... OK
* checking Rd metadata ... OK
* checking Rd cross-references ... OK
* checking for missing documentation entries ... OK
* checking for code/documentation mismatches ... OK
* checking Rd \usage sections ... OK
* checking Rd contents ... OK
* checking for unstated dependencies in examples ... OK
* checking files in ‘vignettes’ ... OK
* checking examples ... OK
Examples with CPU (user + system) or elapsed time > 5s
user system elapsed
gateFunc 23.58 0.475 10.908
* checking for unstated dependencies in vignettes ... OK
* checking package vignettes ... OK
* checking running R code from vignettes ... SKIPPED
* checking re-building of vignette outputs ... SKIPPED
* checking PDF version of manual ... OK
* DONE
Status: OK
cyanoFilter.Rcheck/00install.out
############################################################################## ############################################################################## ### ### Running command: ### ### /home/biocbuild/R/R/bin/R CMD INSTALL cyanoFilter ### ############################################################################## ############################################################################## * installing to library ‘/home/biocbuild/R/R-4.4.1/site-library’ * installing *source* package ‘cyanoFilter’ ... ** using staged installation ** R ** inst ** byte-compile and prepare package for lazy loading ** help *** installing help indices ** building package indices ** installing vignettes ** testing if installed package can be loaded from temporary location ** testing if installed package can be loaded from final location ** testing if installed package keeps a record of temporary installation path * DONE (cyanoFilter)
cyanoFilter.Rcheck/cyanoFilter-Ex.timings
| name | user | system | elapsed | |
| MarginEvents | 0.974 | 0.008 | 0.985 | |
| PhytoFilter | 0.828 | 0.060 | 0.889 | |
| PhytopFilter | 0.907 | 0.036 | 0.945 | |
| accTest | 0.535 | 0.015 | 0.552 | |
| accuracy | 0.598 | 0.008 | 0.607 | |
| cellmargin | 0.430 | 0.012 | 0.443 | |
| clusterExtract | 1.149 | 0.020 | 1.172 | |
| clusterExtractp | 1.212 | 0.008 | 1.222 | |
| debrisNc | 0.724 | 0.032 | 0.758 | |
| fullFlowframe-MarginEvents-method | 0.409 | 0.000 | 0.410 | |
| fullFlowframe-PhytopFilter-method | 0.872 | 0.004 | 0.879 | |
| fullFlowframe | 0.422 | 0.004 | 0.427 | |
| gateFunc | 23.580 | 0.475 | 10.908 | |
| ggpairsDens | 4.700 | 0.064 | 4.774 | |
| ggplotDens | 0.743 | 0.016 | 0.760 | |
| ggplotDens2 | 1.583 | 0.060 | 1.646 | |
| goodfcs | 0.067 | 0.000 | 0.069 | |
| is.DebrisFilter | 0.000 | 0.000 | 0.001 | |
| is.MarginEvents | 0.001 | 0.000 | 0.000 | |
| is.PhytopFilter | 0 | 0 | 0 | |
| is.flowFrame | 0 | 0 | 0 | |
| is.flowSet | 0.001 | 0.000 | 0.000 | |
| lnTrans | 0.299 | 0.012 | 0.311 | |
| newFlowframe | 0.316 | 0.008 | 0.326 | |
| nona | 0.135 | 0.004 | 0.140 | |
| noneg | 0.264 | 0.000 | 0.265 | |
| oneDgate | 0.299 | 0.012 | 0.310 | |
| pairsPlot | 2.290 | 0.055 | 2.353 | |
| pigmentGate | 0.383 | 0.004 | 0.389 | |
| reducedFlowframe-MarginEvents-method | 0.432 | 0.000 | 0.434 | |
| reducedFlowframe | 0.455 | 0.004 | 0.459 | |
| retain | 0.025 | 0.000 | 0.025 | |
| rowNumbers | 0.308 | 0.015 | 0.324 | |
| summaries-DebrisFilter-method | 0.425 | 0.008 | 0.434 | |
| summaries-MarginEvents-method | 0.436 | 0.008 | 0.445 | |
| summaries-PhytopFilter-method | 1.251 | 0.000 | 1.253 | |
| summaries | 0.445 | 0.004 | 0.451 | |