| Back to Multiple platform build/check report for BioC 3.20: simplified long |
|
This page was generated on 2024-11-09 21:30 -0500 (Sat, 09 Nov 2024).
| Hostname | OS | Arch (*) | R version | Installed pkgs |
|---|---|---|---|---|
| teran2 | Linux (Ubuntu 24.04.1 LTS) | x86_64 | 4.4.1 (2024-06-14) -- "Race for Your Life" | 4505 |
| palomino8 | Windows Server 2022 Datacenter | x64 | 4.4.1 (2024-06-14 ucrt) -- "Race for Your Life" | 4506 |
| lconway | macOS 12.7.1 Monterey | x86_64 | 4.4.1 (2024-06-14) -- "Race for Your Life" | 4538 |
| kjohnson3 | macOS 13.6.5 Ventura | arm64 | 4.4.1 (2024-06-14) -- "Race for Your Life" | 4486 |
| kunpeng2 | Linux (openEuler 22.03 LTS-SP1) | aarch64 | 4.4.1 (2024-06-14) -- "Race for Your Life" | 4493 |
| Click on any hostname to see more info about the system (e.g. compilers) (*) as reported by 'uname -p', except on Windows and Mac OS X | ||||
| Package 381/2289 | Hostname | OS / Arch | INSTALL | BUILD | CHECK | BUILD BIN | ||||||||
| clustifyr 1.18.0 (landing page) Rui Fu
| teran2 | Linux (Ubuntu 24.04.1 LTS) / x86_64 | OK | OK | OK | |||||||||
| palomino8 | Windows Server 2022 Datacenter / x64 | OK | OK | OK | OK | |||||||||
| lconway | macOS 12.7.1 Monterey / x86_64 | OK | OK | OK | OK | |||||||||
| kjohnson3 | macOS 13.6.5 Ventura / arm64 | OK | OK | OK | OK | |||||||||
| kunpeng2 | Linux (openEuler 22.03 LTS-SP1) / aarch64 | OK | OK | OK | ||||||||||
|
To the developers/maintainers of the clustifyr package: - Allow up to 24 hours (and sometimes 48 hours) for your latest push to git@git.bioconductor.org:packages/clustifyr.git to reflect on this report. See Troubleshooting Build Report for more information. - Use the following Renviron settings to reproduce errors and warnings. - If 'R CMD check' started to fail recently on the Linux builder(s) over a missing dependency, add the missing dependency to 'Suggests:' in your DESCRIPTION file. See Renviron.bioc for more information. |
| Package: clustifyr |
| Version: 1.18.0 |
| Command: /Library/Frameworks/R.framework/Resources/bin/R CMD check --install=check:clustifyr.install-out.txt --library=/Library/Frameworks/R.framework/Resources/library --no-vignettes --timings clustifyr_1.18.0.tar.gz |
| StartedAt: 2024-11-08 23:06:24 -0500 (Fri, 08 Nov 2024) |
| EndedAt: 2024-11-08 23:14:03 -0500 (Fri, 08 Nov 2024) |
| EllapsedTime: 459.4 seconds |
| RetCode: 0 |
| Status: OK |
| CheckDir: clustifyr.Rcheck |
| Warnings: 0 |
##############################################################################
##############################################################################
###
### Running command:
###
### /Library/Frameworks/R.framework/Resources/bin/R CMD check --install=check:clustifyr.install-out.txt --library=/Library/Frameworks/R.framework/Resources/library --no-vignettes --timings clustifyr_1.18.0.tar.gz
###
##############################################################################
##############################################################################
* using log directory ‘/Users/biocbuild/bbs-3.20-bioc/meat/clustifyr.Rcheck’
* using R version 4.4.1 (2024-06-14)
* using platform: aarch64-apple-darwin20
* R was compiled by
Apple clang version 14.0.0 (clang-1400.0.29.202)
GNU Fortran (GCC) 12.2.0
* running under: macOS Ventura 13.6.7
* using session charset: UTF-8
* using option ‘--no-vignettes’
* checking for file ‘clustifyr/DESCRIPTION’ ... OK
* this is package ‘clustifyr’ version ‘1.18.0’
* package encoding: UTF-8
* checking package namespace information ... OK
* checking package dependencies ...Warning: unable to access index for repository https://CRAN.R-project.org/src/contrib:
cannot open URL 'https://CRAN.R-project.org/src/contrib/PACKAGES'
OK
* checking if this is a source package ... OK
* checking if there is a namespace ... OK
* checking for hidden files and directories ... OK
* checking for portable file names ... OK
* checking for sufficient/correct file permissions ... OK
* checking whether package ‘clustifyr’ can be installed ... OK
* checking installed package size ... OK
* checking package directory ... OK
* checking ‘build’ directory ... OK
* checking DESCRIPTION meta-information ... NOTE
License stub is invalid DCF.
* checking top-level files ... OK
* checking for left-over files ... OK
* checking index information ... OK
* checking package subdirectories ... OK
* checking code files for non-ASCII characters ... OK
* checking R files for syntax errors ... OK
* checking whether the package can be loaded ... OK
* checking whether the package can be loaded with stated dependencies ... OK
* checking whether the package can be unloaded cleanly ... OK
* checking whether the namespace can be loaded with stated dependencies ... OK
* checking whether the namespace can be unloaded cleanly ... OK
* checking dependencies in R code ... OK
* checking S3 generic/method consistency ... OK
* checking replacement functions ... OK
* checking foreign function calls ... OK
* checking R code for possible problems ... OK
* checking Rd files ... OK
* checking Rd metadata ... OK
* checking Rd cross-references ... OK
* checking for missing documentation entries ... OK
* checking for code/documentation mismatches ... OK
* checking Rd \usage sections ... OK
* checking Rd contents ... OK
* checking for unstated dependencies in examples ... OK
* checking contents of ‘data’ directory ... OK
* checking data for non-ASCII characters ... OK
* checking LazyData ... OK
* checking data for ASCII and uncompressed saves ... OK
* checking files in ‘vignettes’ ... OK
* checking examples ... OK
Examples with CPU (user + system) or elapsed time > 5s
user system elapsed
plot_pathway_gsea 6.138 0.016 6.154
calculate_pathway_gsea 5.073 0.011 5.084
* checking for unstated dependencies in ‘tests’ ... OK
* checking tests ...
Running ‘testthat.R’
OK
* checking for unstated dependencies in vignettes ... OK
* checking package vignettes ... OK
* checking running R code from vignettes ... SKIPPED
* checking re-building of vignette outputs ... SKIPPED
* checking PDF version of manual ... OK
* DONE
Status: 1 NOTE
See
‘/Users/biocbuild/bbs-3.20-bioc/meat/clustifyr.Rcheck/00check.log’
for details.
clustifyr.Rcheck/00install.out
############################################################################## ############################################################################## ### ### Running command: ### ### /Library/Frameworks/R.framework/Resources/bin/R CMD INSTALL clustifyr ### ############################################################################## ############################################################################## * installing to library ‘/Library/Frameworks/R.framework/Versions/4.4-arm64/Resources/library’ * installing *source* package ‘clustifyr’ ... ** using staged installation ** R ** data *** moving datasets to lazyload DB ** inst ** byte-compile and prepare package for lazy loading ** help *** installing help indices *** copying figures ** building package indices ** installing vignettes ** testing if installed package can be loaded from temporary location ** testing if installed package can be loaded from final location ** testing if installed package keeps a record of temporary installation path * DONE (clustifyr)
clustifyr.Rcheck/tests/testthat.Rout
R version 4.4.1 (2024-06-14) -- "Race for Your Life"
Copyright (C) 2024 The R Foundation for Statistical Computing
Platform: aarch64-apple-darwin20
R is free software and comes with ABSOLUTELY NO WARRANTY.
You are welcome to redistribute it under certain conditions.
Type 'license()' or 'licence()' for distribution details.
R is a collaborative project with many contributors.
Type 'contributors()' for more information and
'citation()' on how to cite R or R packages in publications.
Type 'demo()' for some demos, 'help()' for on-line help, or
'help.start()' for an HTML browser interface to help.
Type 'q()' to quit R.
> library(testthat)
> library(clustifyr)
>
> test_check("clustifyr")
[ FAIL 0 | WARN 0 | SKIP 0 | PASS 183 ]
>
> proc.time()
user system elapsed
147.590 2.142 149.734
clustifyr.Rcheck/clustifyr-Ex.timings
| name | user | system | elapsed | |
| append_genes | 0.032 | 0.002 | 0.035 | |
| assess_rank_bias | 0 | 0 | 0 | |
| average_clusters | 0.240 | 0.003 | 0.243 | |
| binarize_expr | 0.011 | 0.001 | 0.012 | |
| build_atlas | 0.015 | 0.004 | 0.019 | |
| calc_distance | 0.001 | 0.000 | 0.002 | |
| calculate_pathway_gsea | 5.073 | 0.011 | 5.084 | |
| call_consensus | 0.056 | 0.004 | 0.061 | |
| call_to_metadata | 0.051 | 0.041 | 0.092 | |
| check_raw_counts | 0.273 | 0.006 | 0.280 | |
| clustify | 0.424 | 0.022 | 0.446 | |
| clustify_lists | 0.263 | 0.003 | 0.266 | |
| clustify_nudge | 0.260 | 0.010 | 0.269 | |
| clustifyr_methods | 0.000 | 0.000 | 0.001 | |
| collapse_to_cluster | 0.230 | 0.019 | 0.248 | |
| compare_lists | 0.041 | 0.001 | 0.043 | |
| cor_to_call | 0.016 | 0.001 | 0.016 | |
| cor_to_call_rank | 0.026 | 0.006 | 0.032 | |
| cor_to_call_topn | 0.017 | 0.000 | 0.017 | |
| downsample_matrix | 0.003 | 0.000 | 0.003 | |
| feature_select_PCA | 0.003 | 0.001 | 0.004 | |
| file_marker_parse | 0.000 | 0.000 | 0.001 | |
| find_rank_bias | 0.012 | 0.001 | 0.012 | |
| gene_pct_markerm | 0.085 | 0.001 | 0.086 | |
| get_ucsc_reference | 0 | 0 | 0 | |
| get_vargenes | 0 | 0 | 0 | |
| gmt_to_list | 0.014 | 0.001 | 0.016 | |
| insert_meta_object | 0.057 | 0.002 | 0.060 | |
| make_comb_ref | 0.004 | 0.000 | 0.004 | |
| marker_select | 0.005 | 0.001 | 0.006 | |
| matrixize_markers | 0.006 | 0.001 | 0.008 | |
| object_data | 0.104 | 0.005 | 0.109 | |
| object_ref | 0.071 | 0.028 | 0.099 | |
| overcluster | 0.491 | 0.020 | 0.511 | |
| overcluster_test | 0.316 | 0.021 | 0.338 | |
| parse_loc_object | 0.061 | 0.011 | 0.072 | |
| plot_best_call | 0.208 | 0.018 | 0.226 | |
| plot_cor | 0.204 | 0.005 | 0.209 | |
| plot_cor_heatmap | 0.316 | 0.022 | 0.338 | |
| plot_dims | 0.067 | 0.001 | 0.069 | |
| plot_gene | 0.165 | 0.004 | 0.169 | |
| plot_pathway_gsea | 6.138 | 0.016 | 6.154 | |
| plot_rank_bias | 0 | 0 | 0 | |
| pos_neg_marker | 0.002 | 0.000 | 0.002 | |
| pos_neg_select | 0.018 | 0.001 | 0.019 | |
| query_rank_bias | 0.012 | 0.000 | 0.012 | |
| ref_feature_select | 0.007 | 0.000 | 0.008 | |
| ref_marker_select | 0.045 | 0.001 | 0.045 | |
| reverse_marker_matrix | 0.001 | 0.000 | 0.002 | |
| run_clustifyr_app | 0 | 0 | 0 | |
| seurat_meta | 0.055 | 0.003 | 0.059 | |
| seurat_ref | 0.066 | 0.006 | 0.072 | |
| write_meta | 0.099 | 0.003 | 0.102 | |