| Back to Multiple platform build/check report for BioC 3.20: simplified long |
|
This page was generated on 2024-11-20 12:06 -0500 (Wed, 20 Nov 2024).
| Hostname | OS | Arch (*) | R version | Installed pkgs |
|---|---|---|---|---|
| teran2 | Linux (Ubuntu 24.04.1 LTS) | x86_64 | 4.4.2 (2024-10-31) -- "Pile of Leaves" | 4481 |
| nebbiolo2 | Linux (Ubuntu 24.04.1 LTS) | x86_64 | 4.4.2 (2024-10-31) -- "Pile of Leaves" | 4479 |
| palomino8 | Windows Server 2022 Datacenter | x64 | 4.4.2 (2024-10-31 ucrt) -- "Pile of Leaves" | 4359 |
| lconway | macOS 12.7.1 Monterey | x86_64 | 4.4.1 (2024-06-14) -- "Race for Your Life" | 4539 |
| kunpeng2 | Linux (openEuler 22.03 LTS-SP1) | aarch64 | 4.4.1 (2024-06-14) -- "Race for Your Life" | 4493 |
| Click on any hostname to see more info about the system (e.g. compilers) (*) as reported by 'uname -p', except on Windows and Mac OS X | ||||
| Package 381/2289 | Hostname | OS / Arch | INSTALL | BUILD | CHECK | BUILD BIN | ||||||||
| clustifyr 1.18.0 (landing page) Rui Fu
| teran2 | Linux (Ubuntu 24.04.1 LTS) / x86_64 | OK | OK | OK | |||||||||
| nebbiolo2 | Linux (Ubuntu 24.04.1 LTS) / x86_64 | OK | OK | OK | ||||||||||
| palomino8 | Windows Server 2022 Datacenter / x64 | OK | OK | OK | OK | |||||||||
| lconway | macOS 12.7.1 Monterey / x86_64 | OK | OK | OK | OK | |||||||||
| kunpeng2 | Linux (openEuler 22.03 LTS-SP1) / aarch64 | OK | OK | OK | ||||||||||
|
To the developers/maintainers of the clustifyr package: - Allow up to 24 hours (and sometimes 48 hours) for your latest push to git@git.bioconductor.org:packages/clustifyr.git to reflect on this report. See Troubleshooting Build Report for more information. - Use the following Renviron settings to reproduce errors and warnings. - If 'R CMD check' started to fail recently on the Linux builder(s) over a missing dependency, add the missing dependency to 'Suggests:' in your DESCRIPTION file. See Renviron.bioc for more information. |
| Package: clustifyr |
| Version: 1.18.0 |
| Command: /Library/Frameworks/R.framework/Resources/bin/R CMD check --install=check:clustifyr.install-out.txt --library=/Library/Frameworks/R.framework/Resources/library --no-vignettes --timings clustifyr_1.18.0.tar.gz |
| StartedAt: 2024-11-19 20:40:29 -0500 (Tue, 19 Nov 2024) |
| EndedAt: 2024-11-19 20:53:34 -0500 (Tue, 19 Nov 2024) |
| EllapsedTime: 784.3 seconds |
| RetCode: 0 |
| Status: OK |
| CheckDir: clustifyr.Rcheck |
| Warnings: 0 |
##############################################################################
##############################################################################
###
### Running command:
###
### /Library/Frameworks/R.framework/Resources/bin/R CMD check --install=check:clustifyr.install-out.txt --library=/Library/Frameworks/R.framework/Resources/library --no-vignettes --timings clustifyr_1.18.0.tar.gz
###
##############################################################################
##############################################################################
* using log directory ‘/Users/biocbuild/bbs-3.20-bioc/meat/clustifyr.Rcheck’
* using R version 4.4.1 (2024-06-14)
* using platform: x86_64-apple-darwin20
* R was compiled by
Apple clang version 14.0.0 (clang-1400.0.29.202)
GNU Fortran (GCC) 12.2.0
* running under: macOS Monterey 12.7.6
* using session charset: UTF-8
* using option ‘--no-vignettes’
* checking for file ‘clustifyr/DESCRIPTION’ ... OK
* this is package ‘clustifyr’ version ‘1.18.0’
* package encoding: UTF-8
* checking package namespace information ... OK
* checking package dependencies ...Warning: unable to access index for repository https://CRAN.R-project.org/src/contrib:
cannot open URL 'https://CRAN.R-project.org/src/contrib/PACKAGES'
OK
* checking if this is a source package ... OK
* checking if there is a namespace ... OK
* checking for hidden files and directories ... OK
* checking for portable file names ... OK
* checking for sufficient/correct file permissions ... OK
* checking whether package ‘clustifyr’ can be installed ... OK
* checking installed package size ... OK
* checking package directory ... OK
* checking ‘build’ directory ... OK
* checking DESCRIPTION meta-information ... NOTE
License stub is invalid DCF.
* checking top-level files ... OK
* checking for left-over files ... OK
* checking index information ... OK
* checking package subdirectories ... OK
* checking code files for non-ASCII characters ... OK
* checking R files for syntax errors ... OK
* checking whether the package can be loaded ... OK
* checking whether the package can be loaded with stated dependencies ... OK
* checking whether the package can be unloaded cleanly ... OK
* checking whether the namespace can be loaded with stated dependencies ... OK
* checking whether the namespace can be unloaded cleanly ... OK
* checking dependencies in R code ... OK
* checking S3 generic/method consistency ... OK
* checking replacement functions ... OK
* checking foreign function calls ... OK
* checking R code for possible problems ... OK
* checking Rd files ... OK
* checking Rd metadata ... OK
* checking Rd cross-references ... OK
* checking for missing documentation entries ... OK
* checking for code/documentation mismatches ... OK
* checking Rd \usage sections ... OK
* checking Rd contents ... OK
* checking for unstated dependencies in examples ... OK
* checking contents of ‘data’ directory ... OK
* checking data for non-ASCII characters ... OK
* checking LazyData ... OK
* checking data for ASCII and uncompressed saves ... OK
* checking files in ‘vignettes’ ... OK
* checking examples ... OK
Examples with CPU (user + system) or elapsed time > 5s
user system elapsed
plot_pathway_gsea 12.967 0.038 13.019
calculate_pathway_gsea 11.395 0.064 11.484
* checking for unstated dependencies in ‘tests’ ... OK
* checking tests ...
Running ‘testthat.R’
OK
* checking for unstated dependencies in vignettes ... OK
* checking package vignettes ... OK
* checking running R code from vignettes ... SKIPPED
* checking re-building of vignette outputs ... SKIPPED
* checking PDF version of manual ... OK
* DONE
Status: 1 NOTE
See
‘/Users/biocbuild/bbs-3.20-bioc/meat/clustifyr.Rcheck/00check.log’
for details.
clustifyr.Rcheck/00install.out
############################################################################## ############################################################################## ### ### Running command: ### ### /Library/Frameworks/R.framework/Resources/bin/R CMD INSTALL clustifyr ### ############################################################################## ############################################################################## * installing to library ‘/Library/Frameworks/R.framework/Versions/4.4-x86_64/Resources/library’ * installing *source* package ‘clustifyr’ ... ** using staged installation ** R ** data *** moving datasets to lazyload DB ** inst ** byte-compile and prepare package for lazy loading ** help *** installing help indices *** copying figures ** building package indices ** installing vignettes ** testing if installed package can be loaded from temporary location ** testing if installed package can be loaded from final location ** testing if installed package keeps a record of temporary installation path * DONE (clustifyr)
clustifyr.Rcheck/tests/testthat.Rout
R version 4.4.1 (2024-06-14) -- "Race for Your Life"
Copyright (C) 2024 The R Foundation for Statistical Computing
Platform: x86_64-apple-darwin20
R is free software and comes with ABSOLUTELY NO WARRANTY.
You are welcome to redistribute it under certain conditions.
Type 'license()' or 'licence()' for distribution details.
R is a collaborative project with many contributors.
Type 'contributors()' for more information and
'citation()' on how to cite R or R packages in publications.
Type 'demo()' for some demos, 'help()' for on-line help, or
'help.start()' for an HTML browser interface to help.
Type 'q()' to quit R.
> library(testthat)
> library(clustifyr)
>
> test_check("clustifyr")
[ FAIL 0 | WARN 0 | SKIP 0 | PASS 183 ]
>
> proc.time()
user system elapsed
353.504 5.886 360.806
clustifyr.Rcheck/clustifyr-Ex.timings
| name | user | system | elapsed | |
| append_genes | 0.084 | 0.005 | 0.090 | |
| assess_rank_bias | 0.000 | 0.000 | 0.001 | |
| average_clusters | 0.538 | 0.008 | 0.548 | |
| binarize_expr | 0.030 | 0.002 | 0.032 | |
| build_atlas | 0.043 | 0.010 | 0.053 | |
| calc_distance | 0.004 | 0.001 | 0.005 | |
| calculate_pathway_gsea | 11.395 | 0.064 | 11.484 | |
| call_consensus | 0.154 | 0.009 | 0.164 | |
| call_to_metadata | 0.138 | 0.140 | 0.279 | |
| check_raw_counts | 0.605 | 0.031 | 0.638 | |
| clustify | 1.001 | 0.079 | 1.084 | |
| clustify_lists | 0.562 | 0.023 | 0.587 | |
| clustify_nudge | 0.625 | 0.012 | 0.640 | |
| clustifyr_methods | 0 | 0 | 0 | |
| collapse_to_cluster | 0.509 | 0.084 | 0.602 | |
| compare_lists | 0.095 | 0.007 | 0.102 | |
| cor_to_call | 0.043 | 0.000 | 0.043 | |
| cor_to_call_rank | 0.068 | 0.022 | 0.091 | |
| cor_to_call_topn | 0.046 | 0.000 | 0.046 | |
| downsample_matrix | 0.009 | 0.000 | 0.009 | |
| feature_select_PCA | 0.006 | 0.001 | 0.008 | |
| file_marker_parse | 0.001 | 0.001 | 0.003 | |
| find_rank_bias | 0.022 | 0.001 | 0.024 | |
| gene_pct_markerm | 0.180 | 0.003 | 0.182 | |
| get_ucsc_reference | 0 | 0 | 0 | |
| get_vargenes | 0.001 | 0.000 | 0.000 | |
| gmt_to_list | 0.031 | 0.001 | 0.033 | |
| insert_meta_object | 0.166 | 0.007 | 0.173 | |
| make_comb_ref | 0.010 | 0.001 | 0.011 | |
| marker_select | 0.010 | 0.002 | 0.012 | |
| matrixize_markers | 0.019 | 0.003 | 0.022 | |
| object_data | 0.231 | 0.034 | 0.267 | |
| object_ref | 0.204 | 0.080 | 0.283 | |
| overcluster | 1.222 | 0.067 | 1.292 | |
| overcluster_test | 0.766 | 0.060 | 0.829 | |
| parse_loc_object | 0.166 | 0.023 | 0.188 | |
| plot_best_call | 0.420 | 0.051 | 0.472 | |
| plot_cor | 0.422 | 0.007 | 0.432 | |
| plot_cor_heatmap | 0.656 | 0.034 | 0.692 | |
| plot_dims | 0.162 | 0.003 | 0.165 | |
| plot_gene | 0.328 | 0.009 | 0.338 | |
| plot_pathway_gsea | 12.967 | 0.038 | 13.019 | |
| plot_rank_bias | 0.000 | 0.001 | 0.001 | |
| pos_neg_marker | 0.005 | 0.000 | 0.006 | |
| pos_neg_select | 0.044 | 0.002 | 0.045 | |
| query_rank_bias | 0.023 | 0.001 | 0.023 | |
| ref_feature_select | 0.015 | 0.001 | 0.015 | |
| ref_marker_select | 0.110 | 0.000 | 0.111 | |
| reverse_marker_matrix | 0.002 | 0.002 | 0.005 | |
| run_clustifyr_app | 0 | 0 | 0 | |
| seurat_meta | 0.148 | 0.003 | 0.151 | |
| seurat_ref | 0.172 | 0.021 | 0.193 | |
| write_meta | 0.186 | 0.003 | 0.188 | |