| Back to Multiple platform build/check report for BioC 3.20: simplified long |
|
This page was generated on 2024-11-20 12:07 -0500 (Wed, 20 Nov 2024).
| Hostname | OS | Arch (*) | R version | Installed pkgs |
|---|---|---|---|---|
| teran2 | Linux (Ubuntu 24.04.1 LTS) | x86_64 | 4.4.2 (2024-10-31) -- "Pile of Leaves" | 4481 |
| nebbiolo2 | Linux (Ubuntu 24.04.1 LTS) | x86_64 | 4.4.2 (2024-10-31) -- "Pile of Leaves" | 4479 |
| palomino8 | Windows Server 2022 Datacenter | x64 | 4.4.2 (2024-10-31 ucrt) -- "Pile of Leaves" | 4359 |
| lconway | macOS 12.7.1 Monterey | x86_64 | 4.4.1 (2024-06-14) -- "Race for Your Life" | 4539 |
| kunpeng2 | Linux (openEuler 22.03 LTS-SP1) | aarch64 | 4.4.1 (2024-06-14) -- "Race for Your Life" | 4493 |
| Click on any hostname to see more info about the system (e.g. compilers) (*) as reported by 'uname -p', except on Windows and Mac OS X | ||||
| Package 381/2289 | Hostname | OS / Arch | INSTALL | BUILD | CHECK | BUILD BIN | ||||||||
| clustifyr 1.18.0 (landing page) Rui Fu
| teran2 | Linux (Ubuntu 24.04.1 LTS) / x86_64 | OK | OK | OK | |||||||||
| nebbiolo2 | Linux (Ubuntu 24.04.1 LTS) / x86_64 | OK | OK | OK | ||||||||||
| palomino8 | Windows Server 2022 Datacenter / x64 | OK | OK | OK | OK | |||||||||
| lconway | macOS 12.7.1 Monterey / x86_64 | OK | OK | OK | OK | |||||||||
| kunpeng2 | Linux (openEuler 22.03 LTS-SP1) / aarch64 | OK | OK | OK | ||||||||||
|
To the developers/maintainers of the clustifyr package: - Allow up to 24 hours (and sometimes 48 hours) for your latest push to git@git.bioconductor.org:packages/clustifyr.git to reflect on this report. See Troubleshooting Build Report for more information. - Use the following Renviron settings to reproduce errors and warnings. - If 'R CMD check' started to fail recently on the Linux builder(s) over a missing dependency, add the missing dependency to 'Suggests:' in your DESCRIPTION file. See Renviron.bioc for more information. - See Martin Grigorov's blog post for how to debug Linux ARM64 related issues on a x86_64 host. |
| Package: clustifyr |
| Version: 1.18.0 |
| Command: /home/biocbuild/R/R/bin/R CMD check --install=check:clustifyr.install-out.txt --library=/home/biocbuild/R/R/site-library --no-vignettes --timings clustifyr_1.18.0.tar.gz |
| StartedAt: 2024-11-20 06:22:26 -0000 (Wed, 20 Nov 2024) |
| EndedAt: 2024-11-20 06:38:09 -0000 (Wed, 20 Nov 2024) |
| EllapsedTime: 942.7 seconds |
| RetCode: 0 |
| Status: OK |
| CheckDir: clustifyr.Rcheck |
| Warnings: 0 |
##############################################################################
##############################################################################
###
### Running command:
###
### /home/biocbuild/R/R/bin/R CMD check --install=check:clustifyr.install-out.txt --library=/home/biocbuild/R/R/site-library --no-vignettes --timings clustifyr_1.18.0.tar.gz
###
##############################################################################
##############################################################################
* using log directory ‘/home/biocbuild/bbs-3.20-bioc/meat/clustifyr.Rcheck’
* using R version 4.4.1 (2024-06-14)
* using platform: aarch64-unknown-linux-gnu
* R was compiled by
gcc (GCC) 12.2.1 20220819 (openEuler 12.2.1-14)
GNU Fortran (GCC) 10.3.1
* running under: openEuler 22.03 (LTS-SP1)
* using session charset: UTF-8
* using option ‘--no-vignettes’
* checking for file ‘clustifyr/DESCRIPTION’ ... OK
* this is package ‘clustifyr’ version ‘1.18.0’
* package encoding: UTF-8
* checking package namespace information ... OK
* checking package dependencies ... OK
* checking if this is a source package ... OK
* checking if there is a namespace ... OK
* checking for hidden files and directories ... OK
* checking for portable file names ... OK
* checking for sufficient/correct file permissions ... OK
* checking whether package ‘clustifyr’ can be installed ... OK
* checking installed package size ... OK
* checking package directory ... OK
* checking ‘build’ directory ... OK
* checking DESCRIPTION meta-information ... NOTE
License stub is invalid DCF.
* checking top-level files ... OK
* checking for left-over files ... OK
* checking index information ... OK
* checking package subdirectories ... OK
* checking code files for non-ASCII characters ... OK
* checking R files for syntax errors ... OK
* checking whether the package can be loaded ... OK
* checking whether the package can be loaded with stated dependencies ... OK
* checking whether the package can be unloaded cleanly ... OK
* checking whether the namespace can be loaded with stated dependencies ... OK
* checking whether the namespace can be unloaded cleanly ... OK
* checking loading without being on the library search path ... OK
* checking dependencies in R code ... OK
* checking S3 generic/method consistency ... OK
* checking replacement functions ... OK
* checking foreign function calls ... OK
* checking R code for possible problems ... OK
* checking Rd files ... OK
* checking Rd metadata ... OK
* checking Rd cross-references ... OK
* checking for missing documentation entries ... OK
* checking for code/documentation mismatches ... OK
* checking Rd \usage sections ... OK
* checking Rd contents ... OK
* checking for unstated dependencies in examples ... OK
* checking contents of ‘data’ directory ... OK
* checking data for non-ASCII characters ... OK
* checking LazyData ... OK
* checking data for ASCII and uncompressed saves ... OK
* checking files in ‘vignettes’ ... OK
* checking examples ... OK
Examples with CPU (user + system) or elapsed time > 5s
user system elapsed
plot_pathway_gsea 22.072 0.080 22.189
calculate_pathway_gsea 19.011 0.155 19.200
* checking for unstated dependencies in ‘tests’ ... OK
* checking tests ...
Running ‘testthat.R’
OK
* checking for unstated dependencies in vignettes ... OK
* checking package vignettes ... OK
* checking running R code from vignettes ... SKIPPED
* checking re-building of vignette outputs ... SKIPPED
* checking PDF version of manual ... OK
* DONE
Status: 1 NOTE
See
‘/home/biocbuild/bbs-3.20-bioc/meat/clustifyr.Rcheck/00check.log’
for details.
clustifyr.Rcheck/00install.out
############################################################################## ############################################################################## ### ### Running command: ### ### /home/biocbuild/R/R/bin/R CMD INSTALL clustifyr ### ############################################################################## ############################################################################## * installing to library ‘/home/biocbuild/R/R-4.4.1/site-library’ * installing *source* package ‘clustifyr’ ... ** using staged installation ** R ** data *** moving datasets to lazyload DB ** inst ** byte-compile and prepare package for lazy loading ** help *** installing help indices *** copying figures ** building package indices ** installing vignettes ** testing if installed package can be loaded from temporary location ** testing if installed package can be loaded from final location ** testing if installed package keeps a record of temporary installation path * DONE (clustifyr)
clustifyr.Rcheck/tests/testthat.Rout
R version 4.4.1 (2024-06-14) -- "Race for Your Life"
Copyright (C) 2024 The R Foundation for Statistical Computing
Platform: aarch64-unknown-linux-gnu
R is free software and comes with ABSOLUTELY NO WARRANTY.
You are welcome to redistribute it under certain conditions.
Type 'license()' or 'licence()' for distribution details.
R is a collaborative project with many contributors.
Type 'contributors()' for more information and
'citation()' on how to cite R or R packages in publications.
Type 'demo()' for some demos, 'help()' for on-line help, or
'help.start()' for an HTML browser interface to help.
Type 'q()' to quit R.
> library(testthat)
> library(clustifyr)
>
> test_check("clustifyr")
[ FAIL 0 | WARN 0 | SKIP 0 | PASS 183 ]
>
> proc.time()
user system elapsed
605.394 3.970 610.802
clustifyr.Rcheck/clustifyr-Ex.timings
| name | user | system | elapsed | |
| append_genes | 0.124 | 0.004 | 0.130 | |
| assess_rank_bias | 0 | 0 | 0 | |
| average_clusters | 0.837 | 0.024 | 0.862 | |
| binarize_expr | 0.075 | 0.008 | 0.083 | |
| build_atlas | 0.108 | 0.016 | 0.125 | |
| calc_distance | 0.006 | 0.000 | 0.006 | |
| calculate_pathway_gsea | 19.011 | 0.155 | 19.200 | |
| call_consensus | 0.291 | 0.016 | 0.309 | |
| call_to_metadata | 0.152 | 0.036 | 0.188 | |
| check_raw_counts | 1.017 | 0.056 | 1.075 | |
| clustify | 2.963 | 0.040 | 3.007 | |
| clustify_lists | 0.921 | 0.011 | 0.934 | |
| clustify_nudge | 1.780 | 0.032 | 1.815 | |
| clustifyr_methods | 0 | 0 | 0 | |
| collapse_to_cluster | 2.796 | 0.020 | 2.819 | |
| compare_lists | 0.216 | 0.004 | 0.221 | |
| cor_to_call | 0.09 | 0.00 | 0.09 | |
| cor_to_call_rank | 0.131 | 0.000 | 0.130 | |
| cor_to_call_topn | 0.105 | 0.000 | 0.105 | |
| downsample_matrix | 0.016 | 0.000 | 0.017 | |
| feature_select_PCA | 0.017 | 0.000 | 0.013 | |
| file_marker_parse | 0.002 | 0.000 | 0.002 | |
| find_rank_bias | 0.108 | 0.000 | 0.053 | |
| gene_pct_markerm | 0.638 | 0.004 | 0.623 | |
| get_ucsc_reference | 0 | 0 | 0 | |
| get_vargenes | 0.000 | 0.000 | 0.001 | |
| gmt_to_list | 0.046 | 0.000 | 0.047 | |
| insert_meta_object | 0.352 | 0.000 | 0.352 | |
| make_comb_ref | 0.036 | 0.000 | 0.036 | |
| marker_select | 0.027 | 0.004 | 0.030 | |
| matrixize_markers | 0.032 | 0.000 | 0.033 | |
| object_data | 0.456 | 0.004 | 0.462 | |
| object_ref | 0.420 | 0.020 | 0.441 | |
| overcluster | 2.262 | 0.036 | 2.302 | |
| overcluster_test | 1.568 | 0.004 | 1.575 | |
| parse_loc_object | 0.335 | 0.012 | 0.348 | |
| plot_best_call | 0.632 | 0.012 | 0.646 | |
| plot_cor | 0.755 | 0.000 | 0.756 | |
| plot_cor_heatmap | 1.114 | 0.012 | 1.129 | |
| plot_dims | 0.308 | 0.000 | 0.309 | |
| plot_gene | 0.581 | 0.000 | 0.581 | |
| plot_pathway_gsea | 22.072 | 0.080 | 22.189 | |
| plot_rank_bias | 0 | 0 | 0 | |
| pos_neg_marker | 0.01 | 0.00 | 0.01 | |
| pos_neg_select | 0.105 | 0.004 | 0.109 | |
| query_rank_bias | 0.059 | 0.000 | 0.059 | |
| ref_feature_select | 0.056 | 0.000 | 0.057 | |
| ref_marker_select | 0.251 | 0.000 | 0.251 | |
| reverse_marker_matrix | 0.004 | 0.000 | 0.004 | |
| run_clustifyr_app | 0 | 0 | 0 | |
| seurat_meta | 0.339 | 0.000 | 0.339 | |
| seurat_ref | 0.423 | 0.004 | 0.428 | |
| write_meta | 0.422 | 0.000 | 0.423 | |