| Back to Multiple platform build/check report for BioC 3.20: simplified long |
|
This page was generated on 2025-04-02 19:36 -0400 (Wed, 02 Apr 2025).
| Hostname | OS | Arch (*) | R version | Installed pkgs |
|---|---|---|---|---|
| nebbiolo2 | Linux (Ubuntu 24.04.1 LTS) | x86_64 | 4.4.3 (2025-02-28) -- "Trophy Case" | 4764 |
| palomino8 | Windows Server 2022 Datacenter | x64 | 4.4.3 (2025-02-28 ucrt) -- "Trophy Case" | 4495 |
| merida1 | macOS 12.7.5 Monterey | x86_64 | 4.4.3 (2025-02-28) -- "Trophy Case" | 4522 |
| kjohnson1 | macOS 13.6.6 Ventura | arm64 | 4.4.3 (2025-02-28) -- "Trophy Case" | 4449 |
| taishan | Linux (openEuler 24.03 LTS) | aarch64 | 4.4.3 (2025-02-28) -- "Trophy Case" | 4426 |
| Click on any hostname to see more info about the system (e.g. compilers) (*) as reported by 'uname -p', except on Windows and Mac OS X | ||||
| Package 1382/2289 | Hostname | OS / Arch | INSTALL | BUILD | CHECK | BUILD BIN | ||||||||
| MutationalPatterns 3.16.0 (landing page) Mark van Roosmalen
| nebbiolo2 | Linux (Ubuntu 24.04.1 LTS) / x86_64 | OK | OK | OK | |||||||||
| palomino8 | Windows Server 2022 Datacenter / x64 | OK | OK | OK | OK | |||||||||
| merida1 | macOS 12.7.5 Monterey / x86_64 | OK | ERROR | skipped | skipped | |||||||||
| kjohnson1 | macOS 13.6.6 Ventura / arm64 | OK | ERROR | skipped | skipped | |||||||||
| taishan | Linux (openEuler 24.03 LTS) / aarch64 | OK | OK | OK | ||||||||||
|
To the developers/maintainers of the MutationalPatterns package: - Allow up to 24 hours (and sometimes 48 hours) for your latest push to git@git.bioconductor.org:packages/MutationalPatterns.git to reflect on this report. See Troubleshooting Build Report for more information. - Use the following Renviron settings to reproduce errors and warnings. - If 'R CMD check' started to fail recently on the Linux builder(s) over a missing dependency, add the missing dependency to 'Suggests:' in your DESCRIPTION file. See Renviron.bioc for more information. - See Martin Grigorov's blog post for how to debug Linux ARM64 related issues on a x86_64 host. |
| Package: MutationalPatterns |
| Version: 3.16.0 |
| Command: /home/biocbuild/R/R/bin/R CMD check --install=check:MutationalPatterns.install-out.txt --library=/home/biocbuild/R/R/site-library --no-vignettes --timings MutationalPatterns_3.16.0.tar.gz |
| StartedAt: 2025-04-01 08:48:12 -0000 (Tue, 01 Apr 2025) |
| EndedAt: 2025-04-01 09:01:23 -0000 (Tue, 01 Apr 2025) |
| EllapsedTime: 791.4 seconds |
| RetCode: 0 |
| Status: OK |
| CheckDir: MutationalPatterns.Rcheck |
| Warnings: 0 |
##############################################################################
##############################################################################
###
### Running command:
###
### /home/biocbuild/R/R/bin/R CMD check --install=check:MutationalPatterns.install-out.txt --library=/home/biocbuild/R/R/site-library --no-vignettes --timings MutationalPatterns_3.16.0.tar.gz
###
##############################################################################
##############################################################################
* using log directory ‘/home/biocbuild/bbs-3.20-bioc/meat/MutationalPatterns.Rcheck’
* using R version 4.4.3 (2025-02-28)
* using platform: aarch64-unknown-linux-gnu
* R was compiled by
aarch64-unknown-linux-gnu-gcc (GCC) 14.2.0
GNU Fortran (GCC) 14.2.0
* running under: openEuler 24.03 (LTS)
* using session charset: UTF-8
* using option ‘--no-vignettes’
* checking for file ‘MutationalPatterns/DESCRIPTION’ ... OK
* checking extension type ... Package
* this is package ‘MutationalPatterns’ version ‘3.16.0’
* package encoding: UTF-8
* checking package namespace information ... OK
* checking package dependencies ... OK
* checking if this is a source package ... OK
* checking if there is a namespace ... OK
* checking for hidden files and directories ... OK
* checking for portable file names ... OK
* checking for sufficient/correct file permissions ... OK
* checking whether package ‘MutationalPatterns’ can be installed ... OK
* checking installed package size ... OK
* checking package directory ... OK
* checking ‘build’ directory ... OK
* checking DESCRIPTION meta-information ... NOTE
License stub is invalid DCF.
* checking top-level files ... OK
* checking for left-over files ... OK
* checking index information ... OK
* checking package subdirectories ... OK
* checking code files for non-ASCII characters ... OK
* checking R files for syntax errors ... OK
* checking whether the package can be loaded ... OK
* checking whether the package can be loaded with stated dependencies ... OK
* checking whether the package can be unloaded cleanly ... OK
* checking whether the namespace can be loaded with stated dependencies ... OK
* checking whether the namespace can be unloaded cleanly ... OK
* checking loading without being on the library search path ... OK
* checking dependencies in R code ... OK
* checking S3 generic/method consistency ... OK
* checking replacement functions ... OK
* checking foreign function calls ... OK
* checking R code for possible problems ... OK
* checking Rd files ... OK
* checking Rd metadata ... OK
* checking Rd cross-references ... OK
* checking for missing documentation entries ... OK
* checking for code/documentation mismatches ... OK
* checking Rd \usage sections ... OK
* checking Rd contents ... OK
* checking for unstated dependencies in examples ... OK
* checking files in ‘vignettes’ ... OK
* checking examples ... OK
Examples with CPU (user + system) or elapsed time > 5s
user system elapsed
context_potential_damage_analysis 28.742 0.444 29.942
read_vcfs_as_granges 26.288 0.450 46.241
plot_lesion_segregation 20.558 0.119 21.105
get_mut_type 15.350 0.024 16.467
calculate_lesion_segregation 14.876 0.227 15.789
genomic_distribution 13.739 0.239 14.729
plot_compare_indels 11.624 0.132 11.931
bin_mutation_density 11.226 0.387 11.688
plot_indel_contexts 10.783 0.079 10.951
get_indel_context 8.849 0.267 9.224
plot_compare_dbs 7.404 0.004 8.229
fit_to_signatures_bootstrapped 6.791 0.052 7.253
plot_profile_heatmap 6.750 0.051 7.135
plot_river 6.648 0.012 7.165
plot_spectrum_region 6.298 0.044 6.473
plot_spectrum 6.039 0.079 6.901
mut_matrix_stranded 5.658 0.203 6.573
split_muts_region 5.524 0.056 5.616
plot_dbs_contexts 5.276 0.032 5.402
* checking for unstated dependencies in ‘tests’ ... OK
* checking tests ...
Running ‘testthat.R’
OK
* checking for unstated dependencies in vignettes ... OK
* checking package vignettes ... OK
* checking running R code from vignettes ... SKIPPED
* checking re-building of vignette outputs ... SKIPPED
* checking PDF version of manual ... OK
* DONE
Status: 1 NOTE
See
‘/home/biocbuild/bbs-3.20-bioc/meat/MutationalPatterns.Rcheck/00check.log’
for details.
MutationalPatterns.Rcheck/00install.out
############################################################################## ############################################################################## ### ### Running command: ### ### /home/biocbuild/R/R/bin/R CMD INSTALL MutationalPatterns ### ############################################################################## ############################################################################## * installing to library ‘/home/biocbuild/R/R-4.4.3/site-library’ * installing *source* package ‘MutationalPatterns’ ... ** using staged installation ** R ** inst ** byte-compile and prepare package for lazy loading ** help *** installing help indices ** building package indices ** installing vignettes ** testing if installed package can be loaded from temporary location ** testing if installed package can be loaded from final location ** testing if installed package keeps a record of temporary installation path * DONE (MutationalPatterns)
MutationalPatterns.Rcheck/tests/testthat.Rout
R version 4.4.3 (2025-02-28) -- "Trophy Case"
Copyright (C) 2025 The R Foundation for Statistical Computing
Platform: aarch64-unknown-linux-gnu
R is free software and comes with ABSOLUTELY NO WARRANTY.
You are welcome to redistribute it under certain conditions.
Type 'license()' or 'licence()' for distribution details.
R is a collaborative project with many contributors.
Type 'contributors()' for more information and
'citation()' on how to cite R or R packages in publications.
Type 'demo()' for some demos, 'help()' for on-line help, or
'help.start()' for an HTML browser interface to help.
Type 'q()' to quit R.
> library(testthat)
> library(MutationalPatterns)
Loading required package: GenomicRanges
Loading required package: stats4
Loading required package: BiocGenerics
Attaching package: 'BiocGenerics'
The following objects are masked from 'package:stats':
IQR, mad, sd, var, xtabs
The following objects are masked from 'package:base':
Filter, Find, Map, Position, Reduce, anyDuplicated, aperm, append,
as.data.frame, basename, cbind, colnames, dirname, do.call,
duplicated, eval, evalq, get, grep, grepl, intersect, is.unsorted,
lapply, mapply, match, mget, order, paste, pmax, pmax.int, pmin,
pmin.int, rank, rbind, rownames, sapply, saveRDS, setdiff, table,
tapply, union, unique, unsplit, which.max, which.min
Loading required package: S4Vectors
Attaching package: 'S4Vectors'
The following object is masked from 'package:utils':
findMatches
The following objects are masked from 'package:base':
I, expand.grid, unname
Loading required package: IRanges
Loading required package: GenomeInfoDb
Loading required package: NMF
Loading required package: registry
Loading required package: rngtools
Loading required package: cluster
NMF - BioConductor layer [OK] | Shared memory capabilities [NO: bigmemory] | Cores 2/2
To enable shared memory capabilities, try: install.extras('
NMF
')
Attaching package: 'NMF'
The following object is masked from 'package:S4Vectors':
nrun
The following object is masked from 'package:testthat':
compare
>
> test_check("MutationalPatterns")
[ FAIL 0 | WARN 5 | SKIP 0 | PASS 474 ]
[ FAIL 0 | WARN 5 | SKIP 0 | PASS 474 ]
>
> proc.time()
user system elapsed
269.452 10.118 337.870
MutationalPatterns.Rcheck/MutationalPatterns-Ex.timings
| name | user | system | elapsed | |
| bin_mutation_density | 11.226 | 0.387 | 11.688 | |
| binomial_test | 0.008 | 0.004 | 0.012 | |
| calculate_lesion_segregation | 14.876 | 0.227 | 15.789 | |
| cluster_signatures | 0.067 | 0.004 | 0.149 | |
| context_potential_damage_analysis | 28.742 | 0.444 | 29.942 | |
| convert_sigs_to_ref | 0.055 | 0.000 | 0.071 | |
| cos_sim | 0 | 0 | 0 | |
| cos_sim_matrix | 0.029 | 0.000 | 0.032 | |
| count_dbs_contexts | 0.096 | 0.007 | 0.106 | |
| count_indel_contexts | 0.124 | 0.000 | 0.128 | |
| count_mbs_contexts | 0.090 | 0.005 | 0.097 | |
| determine_regional_similarity | 3.959 | 0.119 | 4.095 | |
| enrichment_depletion_test | 0.176 | 0.000 | 0.176 | |
| extract_signatures | 0.002 | 0.000 | 0.002 | |
| fit_to_signatures | 0.117 | 0.008 | 0.145 | |
| fit_to_signatures_bootstrapped | 6.791 | 0.052 | 7.253 | |
| fit_to_signatures_strict | 3.990 | 0.000 | 4.404 | |
| genomic_distribution | 13.739 | 0.239 | 14.729 | |
| get_dbs_context | 0.326 | 0.000 | 0.328 | |
| get_indel_context | 8.849 | 0.267 | 9.224 | |
| get_known_signatures | 0.299 | 0.060 | 0.375 | |
| get_mut_type | 15.350 | 0.024 | 16.467 | |
| lengthen_mut_matrix | 0.010 | 0.004 | 0.020 | |
| merge_signatures | 1.729 | 0.020 | 1.845 | |
| mut_context | 1.464 | 0.072 | 1.541 | |
| mut_matrix | 2.612 | 0.084 | 2.730 | |
| mut_matrix_stranded | 5.658 | 0.203 | 6.573 | |
| mut_strand | 1.259 | 0.004 | 1.265 | |
| mut_type | 0.033 | 0.004 | 0.037 | |
| mut_type_occurrences | 1.346 | 0.036 | 1.385 | |
| mutations_from_vcf | 0.033 | 0.000 | 0.033 | |
| plot_192_profile | 4.467 | 0.016 | 4.672 | |
| plot_96_profile | 3.724 | 0.004 | 4.158 | |
| plot_bootstrapped_contribution | 2.641 | 0.008 | 2.901 | |
| plot_compare_dbs | 7.404 | 0.004 | 8.229 | |
| plot_compare_indels | 11.624 | 0.132 | 11.931 | |
| plot_compare_mbs | 1.090 | 0.012 | 1.207 | |
| plot_compare_profiles | 2.690 | 0.024 | 2.796 | |
| plot_contribution | 2.039 | 0.000 | 2.060 | |
| plot_contribution_heatmap | 1.863 | 0.000 | 1.869 | |
| plot_correlation_bootstrap | 0.577 | 0.000 | 0.578 | |
| plot_cosine_heatmap | 2.261 | 0.004 | 2.268 | |
| plot_dbs_contexts | 5.276 | 0.032 | 5.402 | |
| plot_enrichment_depletion | 4.591 | 0.000 | 4.974 | |
| plot_indel_contexts | 10.783 | 0.079 | 10.951 | |
| plot_lesion_segregation | 20.558 | 0.119 | 21.105 | |
| plot_main_dbs_contexts | 0.789 | 0.004 | 0.962 | |
| plot_main_indel_contexts | 0.738 | 0.000 | 0.740 | |
| plot_mbs_contexts | 0.699 | 0.004 | 0.752 | |
| plot_original_vs_reconstructed | 0.721 | 0.000 | 0.724 | |
| plot_profile_heatmap | 6.750 | 0.051 | 7.135 | |
| plot_profile_region | 1.520 | 0.008 | 1.588 | |
| plot_rainfall | 2.311 | 0.008 | 2.327 | |
| plot_regional_similarity | 1.972 | 0.011 | 2.460 | |
| plot_river | 6.648 | 0.012 | 7.165 | |
| plot_signature_strand_bias | 1.000 | 0.000 | 1.149 | |
| plot_spectrum | 6.039 | 0.079 | 6.901 | |
| plot_spectrum_region | 6.298 | 0.044 | 6.473 | |
| plot_strand | 0.247 | 0.004 | 0.269 | |
| plot_strand_bias | 1.032 | 0.000 | 1.109 | |
| pool_mut_mat | 0.051 | 0.000 | 0.072 | |
| read_vcfs_as_granges | 26.288 | 0.450 | 46.241 | |
| rename_nmf_signatures | 0.043 | 0.000 | 0.043 | |
| signature_potential_damage_analysis | 0.106 | 0.004 | 0.160 | |
| split_muts_region | 5.524 | 0.056 | 5.616 | |
| strand_bias_test | 0.225 | 0.000 | 0.225 | |
| strand_occurrences | 0.209 | 0.004 | 0.214 | |
| type_context | 1.608 | 0.080 | 1.692 | |