| Back to Multiple platform build/check report for BioC 3.20: simplified long |
|
This page was generated on 2025-04-02 19:29 -0400 (Wed, 02 Apr 2025).
| Hostname | OS | Arch (*) | R version | Installed pkgs |
|---|---|---|---|---|
| nebbiolo2 | Linux (Ubuntu 24.04.1 LTS) | x86_64 | 4.4.3 (2025-02-28) -- "Trophy Case" | 4764 |
| palomino8 | Windows Server 2022 Datacenter | x64 | 4.4.3 (2025-02-28 ucrt) -- "Trophy Case" | 4495 |
| merida1 | macOS 12.7.5 Monterey | x86_64 | 4.4.3 (2025-02-28) -- "Trophy Case" | 4522 |
| kjohnson1 | macOS 13.6.6 Ventura | arm64 | 4.4.3 (2025-02-28) -- "Trophy Case" | 4449 |
| taishan | Linux (openEuler 24.03 LTS) | aarch64 | 4.4.3 (2025-02-28) -- "Trophy Case" | 4426 |
| Click on any hostname to see more info about the system (e.g. compilers) (*) as reported by 'uname -p', except on Windows and Mac OS X | ||||
| Package 1382/2289 | Hostname | OS / Arch | INSTALL | BUILD | CHECK | BUILD BIN | ||||||||
| MutationalPatterns 3.16.0 (landing page) Mark van Roosmalen
| nebbiolo2 | Linux (Ubuntu 24.04.1 LTS) / x86_64 | OK | OK | OK | |||||||||
| palomino8 | Windows Server 2022 Datacenter / x64 | OK | OK | OK | OK | |||||||||
| merida1 | macOS 12.7.5 Monterey / x86_64 | OK | ERROR | skipped | skipped | |||||||||
| kjohnson1 | macOS 13.6.6 Ventura / arm64 | OK | ERROR | skipped | skipped | |||||||||
| taishan | Linux (openEuler 24.03 LTS) / aarch64 | OK | OK | OK | ||||||||||
|
To the developers/maintainers of the MutationalPatterns package: - Allow up to 24 hours (and sometimes 48 hours) for your latest push to git@git.bioconductor.org:packages/MutationalPatterns.git to reflect on this report. See Troubleshooting Build Report for more information. - Use the following Renviron settings to reproduce errors and warnings. - If 'R CMD check' started to fail recently on the Linux builder(s) over a missing dependency, add the missing dependency to 'Suggests:' in your DESCRIPTION file. See Renviron.bioc for more information. |
| Package: MutationalPatterns |
| Version: 3.16.0 |
| Command: /home/biocbuild/bbs-3.20-bioc/R/bin/R CMD check --install=check:MutationalPatterns.install-out.txt --library=/home/biocbuild/bbs-3.20-bioc/R/site-library --timings MutationalPatterns_3.16.0.tar.gz |
| StartedAt: 2025-04-01 00:22:10 -0400 (Tue, 01 Apr 2025) |
| EndedAt: 2025-04-01 00:39:56 -0400 (Tue, 01 Apr 2025) |
| EllapsedTime: 1066.3 seconds |
| RetCode: 0 |
| Status: OK |
| CheckDir: MutationalPatterns.Rcheck |
| Warnings: 0 |
##############################################################################
##############################################################################
###
### Running command:
###
### /home/biocbuild/bbs-3.20-bioc/R/bin/R CMD check --install=check:MutationalPatterns.install-out.txt --library=/home/biocbuild/bbs-3.20-bioc/R/site-library --timings MutationalPatterns_3.16.0.tar.gz
###
##############################################################################
##############################################################################
* using log directory ‘/home/biocbuild/bbs-3.20-bioc/meat/MutationalPatterns.Rcheck’
* using R version 4.4.3 (2025-02-28)
* using platform: x86_64-pc-linux-gnu
* R was compiled by
gcc (Ubuntu 13.3.0-6ubuntu2~24.04) 13.3.0
GNU Fortran (Ubuntu 13.3.0-6ubuntu2~24.04) 13.3.0
* running under: Ubuntu 24.04.2 LTS
* using session charset: UTF-8
* checking for file ‘MutationalPatterns/DESCRIPTION’ ... OK
* checking extension type ... Package
* this is package ‘MutationalPatterns’ version ‘3.16.0’
* package encoding: UTF-8
* checking package namespace information ... OK
* checking package dependencies ... OK
* checking if this is a source package ... OK
* checking if there is a namespace ... OK
* checking for hidden files and directories ... OK
* checking for portable file names ... OK
* checking for sufficient/correct file permissions ... OK
* checking whether package ‘MutationalPatterns’ can be installed ... OK
* checking installed package size ... OK
* checking package directory ... OK
* checking ‘build’ directory ... OK
* checking DESCRIPTION meta-information ... NOTE
License stub is invalid DCF.
* checking top-level files ... OK
* checking for left-over files ... OK
* checking index information ... OK
* checking package subdirectories ... OK
* checking code files for non-ASCII characters ... OK
* checking R files for syntax errors ... OK
* checking whether the package can be loaded ... OK
* checking whether the package can be loaded with stated dependencies ... OK
* checking whether the package can be unloaded cleanly ... OK
* checking whether the namespace can be loaded with stated dependencies ... OK
* checking whether the namespace can be unloaded cleanly ... OK
* checking loading without being on the library search path ... OK
* checking dependencies in R code ... OK
* checking S3 generic/method consistency ... OK
* checking replacement functions ... OK
* checking foreign function calls ... OK
* checking R code for possible problems ... OK
* checking Rd files ... OK
* checking Rd metadata ... OK
* checking Rd cross-references ... OK
* checking for missing documentation entries ... OK
* checking for code/documentation mismatches ... OK
* checking Rd \usage sections ... OK
* checking Rd contents ... OK
* checking for unstated dependencies in examples ... OK
* checking files in ‘vignettes’ ... OK
* checking examples ... OK
Examples with CPU (user + system) or elapsed time > 5s
user system elapsed
context_potential_damage_analysis 21.610 0.455 22.066
read_vcfs_as_granges 19.004 0.951 23.943
plot_lesion_segregation 13.602 0.075 13.679
get_mut_type 10.297 0.025 10.323
bin_mutation_density 9.406 0.447 9.852
calculate_lesion_segregation 9.591 0.202 9.793
genomic_distribution 9.585 0.097 9.682
plot_compare_indels 7.791 0.170 7.963
plot_indel_contexts 7.019 0.050 7.069
get_indel_context 5.993 0.226 6.220
* checking for unstated dependencies in ‘tests’ ... OK
* checking tests ...
Running ‘testthat.R’
OK
* checking for unstated dependencies in vignettes ... OK
* checking package vignettes ... OK
* checking re-building of vignette outputs ... OK
* checking PDF version of manual ... OK
* DONE
Status: 1 NOTE
See
‘/home/biocbuild/bbs-3.20-bioc/meat/MutationalPatterns.Rcheck/00check.log’
for details.
MutationalPatterns.Rcheck/00install.out
############################################################################## ############################################################################## ### ### Running command: ### ### /home/biocbuild/bbs-3.20-bioc/R/bin/R CMD INSTALL MutationalPatterns ### ############################################################################## ############################################################################## * installing to library ‘/home/biocbuild/bbs-3.20-bioc/R/site-library’ * installing *source* package ‘MutationalPatterns’ ... ** using staged installation ** R ** inst ** byte-compile and prepare package for lazy loading ** help *** installing help indices ** building package indices ** installing vignettes ** testing if installed package can be loaded from temporary location ** testing if installed package can be loaded from final location ** testing if installed package keeps a record of temporary installation path * DONE (MutationalPatterns)
MutationalPatterns.Rcheck/tests/testthat.Rout
R version 4.4.3 (2025-02-28) -- "Trophy Case"
Copyright (C) 2025 The R Foundation for Statistical Computing
Platform: x86_64-pc-linux-gnu
R is free software and comes with ABSOLUTELY NO WARRANTY.
You are welcome to redistribute it under certain conditions.
Type 'license()' or 'licence()' for distribution details.
R is a collaborative project with many contributors.
Type 'contributors()' for more information and
'citation()' on how to cite R or R packages in publications.
Type 'demo()' for some demos, 'help()' for on-line help, or
'help.start()' for an HTML browser interface to help.
Type 'q()' to quit R.
> library(testthat)
> library(MutationalPatterns)
Loading required package: GenomicRanges
Loading required package: stats4
Loading required package: BiocGenerics
Attaching package: 'BiocGenerics'
The following objects are masked from 'package:stats':
IQR, mad, sd, var, xtabs
The following objects are masked from 'package:base':
Filter, Find, Map, Position, Reduce, anyDuplicated, aperm, append,
as.data.frame, basename, cbind, colnames, dirname, do.call,
duplicated, eval, evalq, get, grep, grepl, intersect, is.unsorted,
lapply, mapply, match, mget, order, paste, pmax, pmax.int, pmin,
pmin.int, rank, rbind, rownames, sapply, saveRDS, setdiff, table,
tapply, union, unique, unsplit, which.max, which.min
Loading required package: S4Vectors
Attaching package: 'S4Vectors'
The following object is masked from 'package:utils':
findMatches
The following objects are masked from 'package:base':
I, expand.grid, unname
Loading required package: IRanges
Loading required package: GenomeInfoDb
Loading required package: NMF
Loading required package: registry
Loading required package: rngtools
Loading required package: cluster
NMF - BioConductor layer [OK] | Shared memory capabilities [NO: bigmemory] | Cores 2/2
To enable shared memory capabilities, try: install.extras('
NMF
')
Attaching package: 'NMF'
The following object is masked from 'package:S4Vectors':
nrun
The following object is masked from 'package:testthat':
compare
>
> test_check("MutationalPatterns")
[ FAIL 0 | WARN 5 | SKIP 0 | PASS 474 ]
[ FAIL 0 | WARN 5 | SKIP 0 | PASS 474 ]
>
> proc.time()
user system elapsed
191.531 6.835 207.899
MutationalPatterns.Rcheck/MutationalPatterns-Ex.timings
| name | user | system | elapsed | |
| bin_mutation_density | 9.406 | 0.447 | 9.852 | |
| binomial_test | 0.009 | 0.000 | 0.009 | |
| calculate_lesion_segregation | 9.591 | 0.202 | 9.793 | |
| cluster_signatures | 0.046 | 0.001 | 0.048 | |
| context_potential_damage_analysis | 21.610 | 0.455 | 22.066 | |
| convert_sigs_to_ref | 0.033 | 0.001 | 0.034 | |
| cos_sim | 0 | 0 | 0 | |
| cos_sim_matrix | 0.017 | 0.001 | 0.017 | |
| count_dbs_contexts | 0.074 | 0.002 | 0.076 | |
| count_indel_contexts | 0.091 | 0.001 | 0.092 | |
| count_mbs_contexts | 0.065 | 0.002 | 0.067 | |
| determine_regional_similarity | 2.643 | 0.075 | 2.718 | |
| enrichment_depletion_test | 0.124 | 0.002 | 0.126 | |
| extract_signatures | 0.001 | 0.000 | 0.001 | |
| fit_to_signatures | 0.081 | 0.009 | 0.091 | |
| fit_to_signatures_bootstrapped | 4.684 | 0.055 | 4.739 | |
| fit_to_signatures_strict | 2.748 | 0.000 | 2.747 | |
| genomic_distribution | 9.585 | 0.097 | 9.682 | |
| get_dbs_context | 0.212 | 0.001 | 0.214 | |
| get_indel_context | 5.993 | 0.226 | 6.220 | |
| get_known_signatures | 0.200 | 0.043 | 0.243 | |
| get_mut_type | 10.297 | 0.025 | 10.323 | |
| lengthen_mut_matrix | 0.009 | 0.002 | 0.011 | |
| merge_signatures | 1.064 | 0.016 | 1.079 | |
| mut_context | 1.040 | 0.044 | 1.083 | |
| mut_matrix | 1.700 | 0.069 | 1.770 | |
| mut_matrix_stranded | 3.763 | 0.136 | 3.899 | |
| mut_strand | 0.899 | 0.008 | 0.907 | |
| mut_type | 0.025 | 0.000 | 0.026 | |
| mut_type_occurrences | 0.816 | 0.041 | 0.856 | |
| mutations_from_vcf | 0.025 | 0.000 | 0.026 | |
| plot_192_profile | 2.889 | 0.008 | 2.897 | |
| plot_96_profile | 2.382 | 0.000 | 2.382 | |
| plot_bootstrapped_contribution | 1.758 | 0.002 | 1.760 | |
| plot_compare_dbs | 4.677 | 0.020 | 4.698 | |
| plot_compare_indels | 7.791 | 0.170 | 7.963 | |
| plot_compare_mbs | 0.715 | 0.004 | 0.721 | |
| plot_compare_profiles | 1.821 | 0.002 | 1.823 | |
| plot_contribution | 1.390 | 0.001 | 1.391 | |
| plot_contribution_heatmap | 1.290 | 0.004 | 1.295 | |
| plot_correlation_bootstrap | 0.414 | 0.000 | 0.414 | |
| plot_cosine_heatmap | 1.561 | 0.047 | 1.607 | |
| plot_dbs_contexts | 3.388 | 0.007 | 3.395 | |
| plot_enrichment_depletion | 3.005 | 0.014 | 3.020 | |
| plot_indel_contexts | 7.019 | 0.050 | 7.069 | |
| plot_lesion_segregation | 13.602 | 0.075 | 13.679 | |
| plot_main_dbs_contexts | 0.583 | 0.003 | 0.584 | |
| plot_main_indel_contexts | 0.516 | 0.000 | 0.516 | |
| plot_mbs_contexts | 0.457 | 0.000 | 0.458 | |
| plot_original_vs_reconstructed | 0.509 | 0.012 | 0.522 | |
| plot_profile_heatmap | 4.757 | 0.069 | 4.826 | |
| plot_profile_region | 0.989 | 0.001 | 0.991 | |
| plot_rainfall | 1.566 | 0.001 | 1.568 | |
| plot_regional_similarity | 1.373 | 0.001 | 1.373 | |
| plot_river | 4.851 | 0.022 | 4.873 | |
| plot_signature_strand_bias | 0.695 | 0.003 | 0.698 | |
| plot_spectrum | 4.030 | 0.044 | 4.074 | |
| plot_spectrum_region | 4.231 | 0.073 | 4.305 | |
| plot_strand | 0.168 | 0.006 | 0.175 | |
| plot_strand_bias | 0.747 | 0.000 | 0.748 | |
| pool_mut_mat | 0.035 | 0.000 | 0.036 | |
| read_vcfs_as_granges | 19.004 | 0.951 | 23.943 | |
| rename_nmf_signatures | 0.027 | 0.001 | 0.028 | |
| signature_potential_damage_analysis | 0.077 | 0.002 | 0.080 | |
| split_muts_region | 3.993 | 0.065 | 4.059 | |
| strand_bias_test | 0.162 | 0.002 | 0.164 | |
| strand_occurrences | 0.122 | 0.003 | 0.126 | |
| type_context | 1.108 | 0.085 | 1.194 | |