| Back to Multiple platform build/check report for BioC 3.20: simplified long |
|
This page was generated on 2025-04-02 19:30 -0400 (Wed, 02 Apr 2025).
| Hostname | OS | Arch (*) | R version | Installed pkgs |
|---|---|---|---|---|
| nebbiolo2 | Linux (Ubuntu 24.04.1 LTS) | x86_64 | 4.4.3 (2025-02-28) -- "Trophy Case" | 4764 |
| palomino8 | Windows Server 2022 Datacenter | x64 | 4.4.3 (2025-02-28 ucrt) -- "Trophy Case" | 4495 |
| merida1 | macOS 12.7.5 Monterey | x86_64 | 4.4.3 (2025-02-28) -- "Trophy Case" | 4522 |
| kjohnson1 | macOS 13.6.6 Ventura | arm64 | 4.4.3 (2025-02-28) -- "Trophy Case" | 4449 |
| taishan | Linux (openEuler 24.03 LTS) | aarch64 | 4.4.3 (2025-02-28) -- "Trophy Case" | 4426 |
| Click on any hostname to see more info about the system (e.g. compilers) (*) as reported by 'uname -p', except on Windows and Mac OS X | ||||
| Package 1382/2289 | Hostname | OS / Arch | INSTALL | BUILD | CHECK | BUILD BIN | ||||||||
| MutationalPatterns 3.16.0 (landing page) Mark van Roosmalen
| nebbiolo2 | Linux (Ubuntu 24.04.1 LTS) / x86_64 | OK | OK | OK | |||||||||
| palomino8 | Windows Server 2022 Datacenter / x64 | OK | OK | OK | OK | |||||||||
| merida1 | macOS 12.7.5 Monterey / x86_64 | OK | ERROR | skipped | skipped | |||||||||
| kjohnson1 | macOS 13.6.6 Ventura / arm64 | OK | ERROR | skipped | skipped | |||||||||
| taishan | Linux (openEuler 24.03 LTS) / aarch64 | OK | OK | OK | ||||||||||
|
To the developers/maintainers of the MutationalPatterns package: - Allow up to 24 hours (and sometimes 48 hours) for your latest push to git@git.bioconductor.org:packages/MutationalPatterns.git to reflect on this report. See Troubleshooting Build Report for more information. - Use the following Renviron settings to reproduce errors and warnings. - If 'R CMD check' started to fail recently on the Linux builder(s) over a missing dependency, add the missing dependency to 'Suggests:' in your DESCRIPTION file. See Renviron.bioc for more information. |
| Package: MutationalPatterns |
| Version: 3.16.0 |
| Command: F:\biocbuild\bbs-3.20-bioc\R\bin\R.exe CMD check --no-multiarch --install=check:MutationalPatterns.install-out.txt --library=F:\biocbuild\bbs-3.20-bioc\R\library --no-vignettes --timings MutationalPatterns_3.16.0.tar.gz |
| StartedAt: 2025-04-01 03:57:49 -0400 (Tue, 01 Apr 2025) |
| EndedAt: 2025-04-01 04:10:30 -0400 (Tue, 01 Apr 2025) |
| EllapsedTime: 760.8 seconds |
| RetCode: 0 |
| Status: OK |
| CheckDir: MutationalPatterns.Rcheck |
| Warnings: 0 |
##############################################################################
##############################################################################
###
### Running command:
###
### F:\biocbuild\bbs-3.20-bioc\R\bin\R.exe CMD check --no-multiarch --install=check:MutationalPatterns.install-out.txt --library=F:\biocbuild\bbs-3.20-bioc\R\library --no-vignettes --timings MutationalPatterns_3.16.0.tar.gz
###
##############################################################################
##############################################################################
* using log directory 'F:/biocbuild/bbs-3.20-bioc/meat/MutationalPatterns.Rcheck'
* using R version 4.4.3 (2025-02-28 ucrt)
* using platform: x86_64-w64-mingw32
* R was compiled by
gcc.exe (GCC) 13.3.0
GNU Fortran (GCC) 13.3.0
* running under: Windows Server 2022 x64 (build 20348)
* using session charset: UTF-8
* using option '--no-vignettes'
* checking for file 'MutationalPatterns/DESCRIPTION' ... OK
* checking extension type ... Package
* this is package 'MutationalPatterns' version '3.16.0'
* package encoding: UTF-8
* checking package namespace information ... OK
* checking package dependencies ... OK
* checking if this is a source package ... OK
* checking if there is a namespace ... OK
* checking for hidden files and directories ... OK
* checking for portable file names ... OK
* checking whether package 'MutationalPatterns' can be installed ... OK
* checking installed package size ... OK
* checking package directory ... OK
* checking 'build' directory ... OK
* checking DESCRIPTION meta-information ... NOTE
License stub is invalid DCF.
* checking top-level files ... OK
* checking for left-over files ... OK
* checking index information ... OK
* checking package subdirectories ... OK
* checking code files for non-ASCII characters ... OK
* checking R files for syntax errors ... OK
* checking whether the package can be loaded ... OK
* checking whether the package can be loaded with stated dependencies ... OK
* checking whether the package can be unloaded cleanly ... OK
* checking whether the namespace can be loaded with stated dependencies ... OK
* checking whether the namespace can be unloaded cleanly ... OK
* checking dependencies in R code ... OK
* checking S3 generic/method consistency ... OK
* checking replacement functions ... OK
* checking foreign function calls ... OK
* checking R code for possible problems ... OK
* checking Rd files ... OK
* checking Rd metadata ... OK
* checking Rd cross-references ... OK
* checking for missing documentation entries ... OK
* checking for code/documentation mismatches ... OK
* checking Rd \usage sections ... OK
* checking Rd contents ... OK
* checking for unstated dependencies in examples ... OK
* checking files in 'vignettes' ... OK
* checking examples ... OK
Examples with CPU (user + system) or elapsed time > 5s
user system elapsed
read_vcfs_as_granges 27.41 1.72 38.01
context_potential_damage_analysis 28.31 0.69 29.00
plot_lesion_segregation 19.95 0.22 20.21
genomic_distribution 13.77 1.14 14.92
get_mut_type 14.68 0.13 14.81
calculate_lesion_segregation 13.60 0.48 14.07
bin_mutation_density 11.94 0.71 12.64
get_indel_context 10.61 1.20 11.82
plot_indel_contexts 10.52 0.06 10.58
plot_compare_indels 10.22 0.17 10.39
plot_profile_heatmap 7.09 0.28 7.36
fit_to_signatures_bootstrapped 6.86 0.39 7.23
mut_matrix_stranded 5.97 0.62 6.63
plot_spectrum 6.11 0.22 6.36
plot_river 6.10 0.13 7.06
plot_compare_dbs 6.12 0.05 6.17
plot_spectrum_region 5.92 0.24 6.19
split_muts_region 5.64 0.10 5.80
plot_192_profile 5.37 0.05 5.42
plot_dbs_contexts 5.06 0.05 5.11
plot_rainfall 1.94 0.01 6.63
* checking for unstated dependencies in 'tests' ... OK
* checking tests ...
Running 'testthat.R'
OK
* checking for unstated dependencies in vignettes ... OK
* checking package vignettes ... OK
* checking running R code from vignettes ... SKIPPED
* checking re-building of vignette outputs ... SKIPPED
* checking PDF version of manual ... OK
* DONE
Status: 1 NOTE
See
'F:/biocbuild/bbs-3.20-bioc/meat/MutationalPatterns.Rcheck/00check.log'
for details.
MutationalPatterns.Rcheck/00install.out
############################################################################## ############################################################################## ### ### Running command: ### ### F:\biocbuild\bbs-3.20-bioc\R\bin\R.exe CMD INSTALL MutationalPatterns ### ############################################################################## ############################################################################## * installing to library 'F:/biocbuild/bbs-3.20-bioc/R/library' * installing *source* package 'MutationalPatterns' ... ** using staged installation ** R ** inst ** byte-compile and prepare package for lazy loading ** help *** installing help indices ** building package indices ** installing vignettes ** testing if installed package can be loaded from temporary location ** testing if installed package can be loaded from final location ** testing if installed package keeps a record of temporary installation path * DONE (MutationalPatterns)
MutationalPatterns.Rcheck/tests/testthat.Rout
R version 4.4.3 (2025-02-28 ucrt) -- "Trophy Case"
Copyright (C) 2025 The R Foundation for Statistical Computing
Platform: x86_64-w64-mingw32/x64
R is free software and comes with ABSOLUTELY NO WARRANTY.
You are welcome to redistribute it under certain conditions.
Type 'license()' or 'licence()' for distribution details.
R is a collaborative project with many contributors.
Type 'contributors()' for more information and
'citation()' on how to cite R or R packages in publications.
Type 'demo()' for some demos, 'help()' for on-line help, or
'help.start()' for an HTML browser interface to help.
Type 'q()' to quit R.
> library(testthat)
> library(MutationalPatterns)
Loading required package: GenomicRanges
Loading required package: stats4
Loading required package: BiocGenerics
Attaching package: 'BiocGenerics'
The following objects are masked from 'package:stats':
IQR, mad, sd, var, xtabs
The following objects are masked from 'package:base':
Filter, Find, Map, Position, Reduce, anyDuplicated, aperm, append,
as.data.frame, basename, cbind, colnames, dirname, do.call,
duplicated, eval, evalq, get, grep, grepl, intersect, is.unsorted,
lapply, mapply, match, mget, order, paste, pmax, pmax.int, pmin,
pmin.int, rank, rbind, rownames, sapply, saveRDS, setdiff, table,
tapply, union, unique, unsplit, which.max, which.min
Loading required package: S4Vectors
Attaching package: 'S4Vectors'
The following object is masked from 'package:utils':
findMatches
The following objects are masked from 'package:base':
I, expand.grid, unname
Loading required package: IRanges
Attaching package: 'IRanges'
The following object is masked from 'package:grDevices':
windows
Loading required package: GenomeInfoDb
Loading required package: NMF
Loading required package: registry
Loading required package: rngtools
Loading required package: cluster
NMF - BioConductor layer [OK] | Shared memory capabilities [NO: windows] | Cores 2/2
Attaching package: 'NMF'
The following object is masked from 'package:S4Vectors':
nrun
The following object is masked from 'package:testthat':
compare
>
> test_check("MutationalPatterns")
[ FAIL 0 | WARN 5 | SKIP 0 | PASS 474 ]
[ FAIL 0 | WARN 5 | SKIP 0 | PASS 474 ]
>
> proc.time()
user system elapsed
270.79 18.76 305.59
MutationalPatterns.Rcheck/MutationalPatterns-Ex.timings
| name | user | system | elapsed | |
| bin_mutation_density | 11.94 | 0.71 | 12.64 | |
| binomial_test | 0 | 0 | 0 | |
| calculate_lesion_segregation | 13.60 | 0.48 | 14.07 | |
| cluster_signatures | 0.06 | 0.00 | 0.07 | |
| context_potential_damage_analysis | 28.31 | 0.69 | 29.00 | |
| convert_sigs_to_ref | 0.05 | 0.00 | 0.04 | |
| cos_sim | 0 | 0 | 0 | |
| cos_sim_matrix | 0.03 | 0.00 | 0.04 | |
| count_dbs_contexts | 0.09 | 0.00 | 0.09 | |
| count_indel_contexts | 0.13 | 0.00 | 0.12 | |
| count_mbs_contexts | 0.12 | 0.00 | 0.13 | |
| determine_regional_similarity | 3.85 | 0.39 | 4.23 | |
| enrichment_depletion_test | 0.17 | 0.00 | 0.18 | |
| extract_signatures | 0 | 0 | 0 | |
| fit_to_signatures | 0.12 | 0.01 | 0.14 | |
| fit_to_signatures_bootstrapped | 6.86 | 0.39 | 7.23 | |
| fit_to_signatures_strict | 3.69 | 0.24 | 3.92 | |
| genomic_distribution | 13.77 | 1.14 | 14.92 | |
| get_dbs_context | 0.25 | 0.00 | 0.25 | |
| get_indel_context | 10.61 | 1.20 | 11.82 | |
| get_known_signatures | 0.63 | 0.25 | 0.88 | |
| get_mut_type | 14.68 | 0.13 | 14.81 | |
| lengthen_mut_matrix | 0.02 | 0.00 | 0.02 | |
| merge_signatures | 1.33 | 0.08 | 1.40 | |
| mut_context | 1.47 | 0.28 | 1.75 | |
| mut_matrix | 2.81 | 0.53 | 3.34 | |
| mut_matrix_stranded | 5.97 | 0.62 | 6.63 | |
| mut_strand | 1.58 | 0.07 | 1.64 | |
| mut_type | 0.05 | 0.00 | 0.04 | |
| mut_type_occurrences | 1.47 | 0.20 | 1.67 | |
| mutations_from_vcf | 0.05 | 0.00 | 0.05 | |
| plot_192_profile | 5.37 | 0.05 | 5.42 | |
| plot_96_profile | 3.16 | 0.04 | 3.20 | |
| plot_bootstrapped_contribution | 2.69 | 0.00 | 2.69 | |
| plot_compare_dbs | 6.12 | 0.05 | 6.17 | |
| plot_compare_indels | 10.22 | 0.17 | 10.39 | |
| plot_compare_mbs | 1.03 | 0.00 | 1.03 | |
| plot_compare_profiles | 2.80 | 0.02 | 2.83 | |
| plot_contribution | 1.80 | 0.01 | 1.81 | |
| plot_contribution_heatmap | 1.90 | 0.02 | 1.93 | |
| plot_correlation_bootstrap | 0.58 | 0.01 | 0.59 | |
| plot_cosine_heatmap | 2.38 | 0.03 | 2.41 | |
| plot_dbs_contexts | 5.06 | 0.05 | 5.11 | |
| plot_enrichment_depletion | 4.23 | 0.10 | 4.32 | |
| plot_indel_contexts | 10.52 | 0.06 | 10.58 | |
| plot_lesion_segregation | 19.95 | 0.22 | 20.21 | |
| plot_main_dbs_contexts | 0.71 | 0.00 | 0.70 | |
| plot_main_indel_contexts | 0.64 | 0.03 | 0.67 | |
| plot_mbs_contexts | 0.76 | 0.00 | 0.77 | |
| plot_original_vs_reconstructed | 0.49 | 0.01 | 0.50 | |
| plot_profile_heatmap | 7.09 | 0.28 | 7.36 | |
| plot_profile_region | 1.58 | 0.04 | 1.60 | |
| plot_rainfall | 1.94 | 0.01 | 6.63 | |
| plot_regional_similarity | 1.54 | 0.03 | 1.66 | |
| plot_river | 6.10 | 0.13 | 7.06 | |
| plot_signature_strand_bias | 0.98 | 0.01 | 1.19 | |
| plot_spectrum | 6.11 | 0.22 | 6.36 | |
| plot_spectrum_region | 5.92 | 0.24 | 6.19 | |
| plot_strand | 0.37 | 0.00 | 0.37 | |
| plot_strand_bias | 0.99 | 0.03 | 1.02 | |
| pool_mut_mat | 0.04 | 0.01 | 0.06 | |
| read_vcfs_as_granges | 27.41 | 1.72 | 38.01 | |
| rename_nmf_signatures | 0.04 | 0.01 | 0.11 | |
| signature_potential_damage_analysis | 0.11 | 0.00 | 0.12 | |
| split_muts_region | 5.64 | 0.10 | 5.80 | |
| strand_bias_test | 0.19 | 0.00 | 0.20 | |
| strand_occurrences | 0.25 | 0.03 | 0.28 | |
| type_context | 1.75 | 0.26 | 2.02 | |