| Back to Multiple platform build/check report for BioC 3.20: simplified long |
|
This page was generated on 2024-11-09 21:30 -0500 (Sat, 09 Nov 2024).
| Hostname | OS | Arch (*) | R version | Installed pkgs |
|---|---|---|---|---|
| teran2 | Linux (Ubuntu 24.04.1 LTS) | x86_64 | 4.4.1 (2024-06-14) -- "Race for Your Life" | 4505 |
| palomino8 | Windows Server 2022 Datacenter | x64 | 4.4.1 (2024-06-14 ucrt) -- "Race for Your Life" | 4506 |
| lconway | macOS 12.7.1 Monterey | x86_64 | 4.4.1 (2024-06-14) -- "Race for Your Life" | 4538 |
| kjohnson3 | macOS 13.6.5 Ventura | arm64 | 4.4.1 (2024-06-14) -- "Race for Your Life" | 4486 |
| kunpeng2 | Linux (openEuler 22.03 LTS-SP1) | aarch64 | 4.4.1 (2024-06-14) -- "Race for Your Life" | 4493 |
| Click on any hostname to see more info about the system (e.g. compilers) (*) as reported by 'uname -p', except on Windows and Mac OS X | ||||
| Package 807/2289 | Hostname | OS / Arch | INSTALL | BUILD | CHECK | BUILD BIN | ||||||||
| GeneStructureTools 1.26.0 (landing page) Beth Signal
| teran2 | Linux (Ubuntu 24.04.1 LTS) / x86_64 | OK | OK | OK | |||||||||
| palomino8 | Windows Server 2022 Datacenter / x64 | OK | OK | OK | OK | |||||||||
| lconway | macOS 12.7.1 Monterey / x86_64 | OK | OK | OK | OK | |||||||||
| kjohnson3 | macOS 13.6.5 Ventura / arm64 | OK | OK | OK | OK | |||||||||
| kunpeng2 | Linux (openEuler 22.03 LTS-SP1) / aarch64 | OK | OK | OK | ||||||||||
|
To the developers/maintainers of the GeneStructureTools package: - Allow up to 24 hours (and sometimes 48 hours) for your latest push to git@git.bioconductor.org:packages/GeneStructureTools.git to reflect on this report. See Troubleshooting Build Report for more information. - Use the following Renviron settings to reproduce errors and warnings. - If 'R CMD check' started to fail recently on the Linux builder(s) over a missing dependency, add the missing dependency to 'Suggests:' in your DESCRIPTION file. See Renviron.bioc for more information. |
| Package: GeneStructureTools |
| Version: 1.26.0 |
| Command: /Library/Frameworks/R.framework/Resources/bin/R CMD check --install=check:GeneStructureTools.install-out.txt --library=/Library/Frameworks/R.framework/Resources/library --no-vignettes --timings GeneStructureTools_1.26.0.tar.gz |
| StartedAt: 2024-11-09 03:06:29 -0500 (Sat, 09 Nov 2024) |
| EndedAt: 2024-11-09 03:12:18 -0500 (Sat, 09 Nov 2024) |
| EllapsedTime: 348.5 seconds |
| RetCode: 0 |
| Status: OK |
| CheckDir: GeneStructureTools.Rcheck |
| Warnings: 0 |
##############################################################################
##############################################################################
###
### Running command:
###
### /Library/Frameworks/R.framework/Resources/bin/R CMD check --install=check:GeneStructureTools.install-out.txt --library=/Library/Frameworks/R.framework/Resources/library --no-vignettes --timings GeneStructureTools_1.26.0.tar.gz
###
##############################################################################
##############################################################################
* using log directory ‘/Users/biocbuild/bbs-3.20-bioc/meat/GeneStructureTools.Rcheck’
* using R version 4.4.1 (2024-06-14)
* using platform: aarch64-apple-darwin20
* R was compiled by
Apple clang version 14.0.0 (clang-1400.0.29.202)
GNU Fortran (GCC) 12.2.0
* running under: macOS Ventura 13.6.7
* using session charset: UTF-8
* using option ‘--no-vignettes’
* checking for file ‘GeneStructureTools/DESCRIPTION’ ... OK
* checking extension type ... Package
* this is package ‘GeneStructureTools’ version ‘1.26.0’
* package encoding: UTF-8
* checking package namespace information ... OK
* checking package dependencies ...Warning: unable to access index for repository https://CRAN.R-project.org/src/contrib:
cannot open URL 'https://CRAN.R-project.org/src/contrib/PACKAGES'
OK
* checking if this is a source package ... OK
* checking if there is a namespace ... OK
* checking for hidden files and directories ... OK
* checking for portable file names ... OK
* checking for sufficient/correct file permissions ... OK
* checking whether package ‘GeneStructureTools’ can be installed ... OK
* checking installed package size ... OK
* checking package directory ... OK
* checking ‘build’ directory ... OK
* checking DESCRIPTION meta-information ... OK
* checking top-level files ... OK
* checking for left-over files ... OK
* checking index information ... OK
* checking package subdirectories ... OK
* checking code files for non-ASCII characters ... OK
* checking R files for syntax errors ... OK
* checking whether the package can be loaded ... OK
* checking whether the package can be loaded with stated dependencies ... OK
* checking whether the package can be unloaded cleanly ... OK
* checking whether the namespace can be loaded with stated dependencies ... OK
* checking whether the namespace can be unloaded cleanly ... OK
* checking dependencies in R code ... OK
* checking S3 generic/method consistency ... OK
* checking replacement functions ... OK
* checking foreign function calls ... OK
* checking R code for possible problems ... OK
* checking Rd files ... OK
* checking Rd metadata ... OK
* checking Rd cross-references ... OK
* checking for missing documentation entries ... OK
* checking for code/documentation mismatches ... OK
* checking Rd \usage sections ... OK
* checking Rd contents ... OK
* checking for unstated dependencies in examples ... OK
* checking files in ‘vignettes’ ... OK
* checking examples ... OK
Examples with CPU (user + system) or elapsed time > 5s
user system elapsed
leafcutterTranscriptChangeSummary 5.79 0.193 5.983
* checking for unstated dependencies in vignettes ... OK
* checking package vignettes ... OK
* checking running R code from vignettes ... SKIPPED
* checking re-building of vignette outputs ... SKIPPED
* checking PDF version of manual ... OK
* DONE
Status: OK
GeneStructureTools.Rcheck/00install.out
############################################################################## ############################################################################## ### ### Running command: ### ### /Library/Frameworks/R.framework/Resources/bin/R CMD INSTALL GeneStructureTools ### ############################################################################## ############################################################################## * installing to library ‘/Library/Frameworks/R.framework/Versions/4.4-arm64/Resources/library’ * installing *source* package ‘GeneStructureTools’ ... ** using staged installation ** R ** inst ** byte-compile and prepare package for lazy loading ** help *** installing help indices ** building package indices ** installing vignettes ** testing if installed package can be loaded from temporary location ** testing if installed package can be loaded from final location ** testing if installed package keeps a record of temporary installation path * DONE (GeneStructureTools)
GeneStructureTools.Rcheck/GeneStructureTools-Ex.timings
| name | user | system | elapsed | |
| DEXSeqIdsToGeneIds | 0.001 | 0.000 | 0.001 | |
| UTR2UTR53 | 0.546 | 0.016 | 0.564 | |
| addBroadTypes | 0.060 | 0.001 | 0.062 | |
| addIntronInTranscript | 0.457 | 0.027 | 0.490 | |
| alternativeIntronUsage | 0.981 | 0.003 | 0.984 | |
| annotateGeneModel | 0.213 | 0.003 | 0.216 | |
| attrChangeAltSpliced | 0.299 | 0.024 | 0.329 | |
| coordinates-methods | 0.016 | 0.021 | 0.042 | |
| diffSplicingResults-methods | 0.018 | 0.021 | 0.043 | |
| exonsToTranscripts | 0.078 | 0.001 | 0.080 | |
| filterGtfOverlap | 0.091 | 0.002 | 0.092 | |
| filterWhippetEvents | 0.018 | 0.020 | 0.044 | |
| findDEXexonType | 0.589 | 0.003 | 0.593 | |
| findExonContainingTranscripts | 0.120 | 0.024 | 0.149 | |
| findIntronContainingTranscripts | 0.166 | 0.019 | 0.190 | |
| findJunctionPairs | 0.327 | 0.021 | 0.351 | |
| formatWhippetEvents | 0.004 | 0.002 | 0.007 | |
| getOrfs | 0.179 | 0.004 | 0.183 | |
| getUOrfs | 0.149 | 0.004 | 0.152 | |
| junctions-methods | 0.017 | 0.022 | 0.044 | |
| leafcutterTranscriptChangeSummary | 5.790 | 0.193 | 5.983 | |
| makeGeneModel | 0.055 | 0.001 | 0.056 | |
| maxLocation | 0.001 | 0.000 | 0.000 | |
| orfDiff | 0.377 | 0.027 | 0.410 | |
| orfSimilarity | 0 | 0 | 0 | |
| overlapTypes | 0.535 | 0.002 | 0.537 | |
| readCounts-methods | 0.018 | 0.021 | 0.043 | |
| readWhippetDIFFfiles | 0.002 | 0.003 | 0.005 | |
| readWhippetDataSet | 0.018 | 0.022 | 0.045 | |
| readWhippetJNCfiles | 0.009 | 0.009 | 0.020 | |
| readWhippetPSIfiles | 0.005 | 0.008 | 0.014 | |
| removeDuplicateTranscripts | 0.082 | 0.002 | 0.083 | |
| removeSameExon | 0.068 | 0.001 | 0.068 | |
| removeVersion | 0 | 0 | 0 | |
| reorderExonNumbers | 0.058 | 0.001 | 0.059 | |
| replaceJunction | 0.902 | 0.021 | 0.928 | |
| skipExonInTranscript | 0.337 | 0.020 | 0.361 | |
| summariseExonTypes | 0.585 | 0.004 | 0.588 | |
| transcriptChangeSummary | 0.375 | 0.023 | 0.402 | |
| whippetTranscriptChangeSummary | 2.888 | 0.056 | 2.948 | |