| Back to Multiple platform build/check report for BioC 3.20: simplified long |
|
This page was generated on 2024-11-20 12:07 -0500 (Wed, 20 Nov 2024).
| Hostname | OS | Arch (*) | R version | Installed pkgs |
|---|---|---|---|---|
| teran2 | Linux (Ubuntu 24.04.1 LTS) | x86_64 | 4.4.2 (2024-10-31) -- "Pile of Leaves" | 4481 |
| nebbiolo2 | Linux (Ubuntu 24.04.1 LTS) | x86_64 | 4.4.2 (2024-10-31) -- "Pile of Leaves" | 4479 |
| palomino8 | Windows Server 2022 Datacenter | x64 | 4.4.2 (2024-10-31 ucrt) -- "Pile of Leaves" | 4359 |
| lconway | macOS 12.7.1 Monterey | x86_64 | 4.4.1 (2024-06-14) -- "Race for Your Life" | 4539 |
| kunpeng2 | Linux (openEuler 22.03 LTS-SP1) | aarch64 | 4.4.1 (2024-06-14) -- "Race for Your Life" | 4493 |
| Click on any hostname to see more info about the system (e.g. compilers) (*) as reported by 'uname -p', except on Windows and Mac OS X | ||||
| Package 807/2289 | Hostname | OS / Arch | INSTALL | BUILD | CHECK | BUILD BIN | ||||||||
| GeneStructureTools 1.26.0 (landing page) Beth Signal
| teran2 | Linux (Ubuntu 24.04.1 LTS) / x86_64 | OK | OK | OK | |||||||||
| nebbiolo2 | Linux (Ubuntu 24.04.1 LTS) / x86_64 | OK | OK | OK | ||||||||||
| palomino8 | Windows Server 2022 Datacenter / x64 | OK | OK | OK | OK | |||||||||
| lconway | macOS 12.7.1 Monterey / x86_64 | OK | OK | OK | OK | |||||||||
| kunpeng2 | Linux (openEuler 22.03 LTS-SP1) / aarch64 | OK | OK | OK | ||||||||||
|
To the developers/maintainers of the GeneStructureTools package: - Allow up to 24 hours (and sometimes 48 hours) for your latest push to git@git.bioconductor.org:packages/GeneStructureTools.git to reflect on this report. See Troubleshooting Build Report for more information. - Use the following Renviron settings to reproduce errors and warnings. - If 'R CMD check' started to fail recently on the Linux builder(s) over a missing dependency, add the missing dependency to 'Suggests:' in your DESCRIPTION file. See Renviron.bioc for more information. - See Martin Grigorov's blog post for how to debug Linux ARM64 related issues on a x86_64 host. |
| Package: GeneStructureTools |
| Version: 1.26.0 |
| Command: /home/biocbuild/R/R/bin/R CMD check --install=check:GeneStructureTools.install-out.txt --library=/home/biocbuild/R/R/site-library --no-vignettes --timings GeneStructureTools_1.26.0.tar.gz |
| StartedAt: 2024-11-20 08:07:57 -0000 (Wed, 20 Nov 2024) |
| EndedAt: 2024-11-20 08:16:42 -0000 (Wed, 20 Nov 2024) |
| EllapsedTime: 524.9 seconds |
| RetCode: 0 |
| Status: OK |
| CheckDir: GeneStructureTools.Rcheck |
| Warnings: 0 |
##############################################################################
##############################################################################
###
### Running command:
###
### /home/biocbuild/R/R/bin/R CMD check --install=check:GeneStructureTools.install-out.txt --library=/home/biocbuild/R/R/site-library --no-vignettes --timings GeneStructureTools_1.26.0.tar.gz
###
##############################################################################
##############################################################################
* using log directory ‘/home/biocbuild/bbs-3.20-bioc/meat/GeneStructureTools.Rcheck’
* using R version 4.4.1 (2024-06-14)
* using platform: aarch64-unknown-linux-gnu
* R was compiled by
gcc (GCC) 12.2.1 20220819 (openEuler 12.2.1-14)
GNU Fortran (GCC) 10.3.1
* running under: openEuler 22.03 (LTS-SP1)
* using session charset: UTF-8
* using option ‘--no-vignettes’
* checking for file ‘GeneStructureTools/DESCRIPTION’ ... OK
* checking extension type ... Package
* this is package ‘GeneStructureTools’ version ‘1.26.0’
* package encoding: UTF-8
* checking package namespace information ... OK
* checking package dependencies ... OK
* checking if this is a source package ... OK
* checking if there is a namespace ... OK
* checking for hidden files and directories ... OK
* checking for portable file names ... OK
* checking for sufficient/correct file permissions ... OK
* checking whether package ‘GeneStructureTools’ can be installed ... OK
* checking installed package size ... OK
* checking package directory ... OK
* checking ‘build’ directory ... OK
* checking DESCRIPTION meta-information ... OK
* checking top-level files ... OK
* checking for left-over files ... OK
* checking index information ... OK
* checking package subdirectories ... OK
* checking code files for non-ASCII characters ... OK
* checking R files for syntax errors ... OK
* checking whether the package can be loaded ... OK
* checking whether the package can be loaded with stated dependencies ... OK
* checking whether the package can be unloaded cleanly ... OK
* checking whether the namespace can be loaded with stated dependencies ... OK
* checking whether the namespace can be unloaded cleanly ... OK
* checking loading without being on the library search path ... OK
* checking dependencies in R code ... OK
* checking S3 generic/method consistency ... OK
* checking replacement functions ... OK
* checking foreign function calls ... OK
* checking R code for possible problems ... OK
* checking Rd files ... OK
* checking Rd metadata ... OK
* checking Rd cross-references ... OK
* checking for missing documentation entries ... OK
* checking for code/documentation mismatches ... OK
* checking Rd \usage sections ... OK
* checking Rd contents ... OK
* checking for unstated dependencies in examples ... OK
* checking files in ‘vignettes’ ... OK
* checking examples ... OK
Examples with CPU (user + system) or elapsed time > 5s
user system elapsed
leafcutterTranscriptChangeSummary 33.773 0.324 34.176
whippetTranscriptChangeSummary 17.459 0.173 17.678
alternativeIntronUsage 5.962 0.054 6.030
replaceJunction 5.416 0.044 5.470
* checking for unstated dependencies in vignettes ... OK
* checking package vignettes ... OK
* checking running R code from vignettes ... SKIPPED
* checking re-building of vignette outputs ... SKIPPED
* checking PDF version of manual ... OK
* DONE
Status: OK
GeneStructureTools.Rcheck/00install.out
############################################################################## ############################################################################## ### ### Running command: ### ### /home/biocbuild/R/R/bin/R CMD INSTALL GeneStructureTools ### ############################################################################## ############################################################################## * installing to library ‘/home/biocbuild/R/R-4.4.1/site-library’ * installing *source* package ‘GeneStructureTools’ ... ** using staged installation ** R ** inst ** byte-compile and prepare package for lazy loading ** help *** installing help indices ** building package indices ** installing vignettes ** testing if installed package can be loaded from temporary location ** testing if installed package can be loaded from final location ** testing if installed package keeps a record of temporary installation path * DONE (GeneStructureTools)
GeneStructureTools.Rcheck/GeneStructureTools-Ex.timings
| name | user | system | elapsed | |
| DEXSeqIdsToGeneIds | 0.004 | 0.000 | 0.004 | |
| UTR2UTR53 | 3.146 | 0.148 | 3.306 | |
| addBroadTypes | 0.226 | 0.008 | 0.235 | |
| addIntronInTranscript | 2.537 | 0.031 | 2.583 | |
| alternativeIntronUsage | 5.962 | 0.054 | 6.030 | |
| annotateGeneModel | 1.194 | 0.048 | 1.247 | |
| attrChangeAltSpliced | 1.702 | 0.021 | 1.728 | |
| coordinates-methods | 0.078 | 0.025 | 0.103 | |
| diffSplicingResults-methods | 0.074 | 0.029 | 0.102 | |
| exonsToTranscripts | 0.330 | 0.028 | 0.359 | |
| filterGtfOverlap | 0.393 | 0.008 | 0.402 | |
| filterWhippetEvents | 0.095 | 0.021 | 0.114 | |
| findDEXexonType | 3.532 | 0.000 | 3.542 | |
| findExonContainingTranscripts | 0.568 | 0.030 | 0.598 | |
| findIntronContainingTranscripts | 0.857 | 0.034 | 0.891 | |
| findJunctionPairs | 1.937 | 0.039 | 1.980 | |
| formatWhippetEvents | 0.023 | 0.000 | 0.021 | |
| getOrfs | 0.994 | 0.000 | 0.996 | |
| getUOrfs | 0.792 | 0.004 | 0.798 | |
| junctions-methods | 0.078 | 0.025 | 0.104 | |
| leafcutterTranscriptChangeSummary | 33.773 | 0.324 | 34.176 | |
| makeGeneModel | 0.204 | 0.004 | 0.208 | |
| maxLocation | 0.003 | 0.000 | 0.003 | |
| orfDiff | 2.113 | 0.049 | 2.174 | |
| orfSimilarity | 0.000 | 0.001 | 0.001 | |
| overlapTypes | 3.162 | 0.034 | 3.209 | |
| readCounts-methods | 0.071 | 0.028 | 0.097 | |
| readWhippetDIFFfiles | 0.008 | 0.000 | 0.009 | |
| readWhippetDataSet | 0.079 | 0.019 | 0.095 | |
| readWhippetJNCfiles | 0.034 | 0.013 | 0.046 | |
| readWhippetPSIfiles | 0.023 | 0.007 | 0.030 | |
| removeDuplicateTranscripts | 0.339 | 0.000 | 0.341 | |
| removeSameExon | 0.282 | 0.000 | 0.282 | |
| removeVersion | 0 | 0 | 0 | |
| reorderExonNumbers | 0.205 | 0.012 | 0.217 | |
| replaceJunction | 5.416 | 0.044 | 5.470 | |
| skipExonInTranscript | 1.952 | 0.026 | 1.982 | |
| summariseExonTypes | 3.463 | 0.020 | 3.491 | |
| transcriptChangeSummary | 2.023 | 0.028 | 2.054 | |
| whippetTranscriptChangeSummary | 17.459 | 0.173 | 17.678 | |