| Back to Multiple platform build/check report for BioC 3.20: simplified long |
|
This page was generated on 2024-11-20 12:02 -0500 (Wed, 20 Nov 2024).
| Hostname | OS | Arch (*) | R version | Installed pkgs |
|---|---|---|---|---|
| teran2 | Linux (Ubuntu 24.04.1 LTS) | x86_64 | 4.4.2 (2024-10-31) -- "Pile of Leaves" | 4481 |
| nebbiolo2 | Linux (Ubuntu 24.04.1 LTS) | x86_64 | 4.4.2 (2024-10-31) -- "Pile of Leaves" | 4479 |
| palomino8 | Windows Server 2022 Datacenter | x64 | 4.4.2 (2024-10-31 ucrt) -- "Pile of Leaves" | 4359 |
| lconway | macOS 12.7.1 Monterey | x86_64 | 4.4.1 (2024-06-14) -- "Race for Your Life" | 4539 |
| kunpeng2 | Linux (openEuler 22.03 LTS-SP1) | aarch64 | 4.4.1 (2024-06-14) -- "Race for Your Life" | 4493 |
| Click on any hostname to see more info about the system (e.g. compilers) (*) as reported by 'uname -p', except on Windows and Mac OS X | ||||
| Package 807/2289 | Hostname | OS / Arch | INSTALL | BUILD | CHECK | BUILD BIN | ||||||||
| GeneStructureTools 1.26.0 (landing page) Beth Signal
| teran2 | Linux (Ubuntu 24.04.1 LTS) / x86_64 | OK | OK | OK | |||||||||
| nebbiolo2 | Linux (Ubuntu 24.04.1 LTS) / x86_64 | OK | OK | OK | ||||||||||
| palomino8 | Windows Server 2022 Datacenter / x64 | OK | OK | OK | OK | |||||||||
| lconway | macOS 12.7.1 Monterey / x86_64 | OK | OK | OK | OK | |||||||||
| kunpeng2 | Linux (openEuler 22.03 LTS-SP1) / aarch64 | OK | OK | OK | ||||||||||
|
To the developers/maintainers of the GeneStructureTools package: - Allow up to 24 hours (and sometimes 48 hours) for your latest push to git@git.bioconductor.org:packages/GeneStructureTools.git to reflect on this report. See Troubleshooting Build Report for more information. - Use the following Renviron settings to reproduce errors and warnings. - If 'R CMD check' started to fail recently on the Linux builder(s) over a missing dependency, add the missing dependency to 'Suggests:' in your DESCRIPTION file. See Renviron.bioc for more information. |
| Package: GeneStructureTools |
| Version: 1.26.0 |
| Command: /home/biocbuild/bbs-3.20-bioc/R/bin/R CMD check --install=check:GeneStructureTools.install-out.txt --library=/home/biocbuild/bbs-3.20-bioc/R/site-library --timings GeneStructureTools_1.26.0.tar.gz |
| StartedAt: 2024-11-20 03:26:48 -0500 (Wed, 20 Nov 2024) |
| EndedAt: 2024-11-20 03:34:39 -0500 (Wed, 20 Nov 2024) |
| EllapsedTime: 471.2 seconds |
| RetCode: 0 |
| Status: OK |
| CheckDir: GeneStructureTools.Rcheck |
| Warnings: 0 |
##############################################################################
##############################################################################
###
### Running command:
###
### /home/biocbuild/bbs-3.20-bioc/R/bin/R CMD check --install=check:GeneStructureTools.install-out.txt --library=/home/biocbuild/bbs-3.20-bioc/R/site-library --timings GeneStructureTools_1.26.0.tar.gz
###
##############################################################################
##############################################################################
* using log directory ‘/media/volume/teran2_disk/biocbuild/bbs-3.20-bioc/meat/GeneStructureTools.Rcheck’
* using R version 4.4.2 (2024-10-31)
* using platform: x86_64-pc-linux-gnu
* R was compiled by
gcc (Ubuntu 13.2.0-23ubuntu4) 13.2.0
GNU Fortran (Ubuntu 13.2.0-23ubuntu4) 13.2.0
* running under: Ubuntu 24.04.1 LTS
* using session charset: UTF-8
* checking for file ‘GeneStructureTools/DESCRIPTION’ ... OK
* checking extension type ... Package
* this is package ‘GeneStructureTools’ version ‘1.26.0’
* package encoding: UTF-8
* checking package namespace information ... OK
* checking package dependencies ... OK
* checking if this is a source package ... OK
* checking if there is a namespace ... OK
* checking for hidden files and directories ... OK
* checking for portable file names ... OK
* checking for sufficient/correct file permissions ... OK
* checking whether package ‘GeneStructureTools’ can be installed ... OK
* checking installed package size ... OK
* checking package directory ... OK
* checking ‘build’ directory ... OK
* checking DESCRIPTION meta-information ... OK
* checking top-level files ... OK
* checking for left-over files ... OK
* checking index information ... OK
* checking package subdirectories ... OK
* checking code files for non-ASCII characters ... OK
* checking R files for syntax errors ... OK
* checking whether the package can be loaded ... OK
* checking whether the package can be loaded with stated dependencies ... OK
* checking whether the package can be unloaded cleanly ... OK
* checking whether the namespace can be loaded with stated dependencies ... OK
* checking whether the namespace can be unloaded cleanly ... OK
* checking loading without being on the library search path ... OK
* checking dependencies in R code ... OK
* checking S3 generic/method consistency ... OK
* checking replacement functions ... OK
* checking foreign function calls ... OK
* checking R code for possible problems ... OK
* checking Rd files ... OK
* checking Rd metadata ... OK
* checking Rd cross-references ... OK
* checking for missing documentation entries ... OK
* checking for code/documentation mismatches ... OK
* checking Rd \usage sections ... OK
* checking Rd contents ... OK
* checking for unstated dependencies in examples ... OK
* checking files in ‘vignettes’ ... OK
* checking examples ... OK
Examples with CPU (user + system) or elapsed time > 5s
user system elapsed
leafcutterTranscriptChangeSummary 17.971 0.035 19.924
whippetTranscriptChangeSummary 8.714 0.082 9.469
* checking for unstated dependencies in vignettes ... OK
* checking package vignettes ... OK
* checking re-building of vignette outputs ... OK
* checking PDF version of manual ... OK
* DONE
Status: OK
GeneStructureTools.Rcheck/00install.out
############################################################################## ############################################################################## ### ### Running command: ### ### /home/biocbuild/bbs-3.20-bioc/R/bin/R CMD INSTALL GeneStructureTools ### ############################################################################## ############################################################################## * installing to library ‘/media/volume/teran2_disk/biocbuild/bbs-3.20-bioc/R/site-library’ * installing *source* package ‘GeneStructureTools’ ... ** using staged installation ** R ** inst ** byte-compile and prepare package for lazy loading ** help *** installing help indices ** building package indices ** installing vignettes ** testing if installed package can be loaded from temporary location ** testing if installed package can be loaded from final location ** testing if installed package keeps a record of temporary installation path * DONE (GeneStructureTools)
GeneStructureTools.Rcheck/GeneStructureTools-Ex.timings
| name | user | system | elapsed | |
| DEXSeqIdsToGeneIds | 0.002 | 0.000 | 0.002 | |
| UTR2UTR53 | 2.424 | 0.213 | 2.689 | |
| addBroadTypes | 0.113 | 0.001 | 0.115 | |
| addIntronInTranscript | 1.264 | 0.031 | 1.484 | |
| alternativeIntronUsage | 3.187 | 0.008 | 3.831 | |
| annotateGeneModel | 0.564 | 0.000 | 0.564 | |
| attrChangeAltSpliced | 1.337 | 0.026 | 1.415 | |
| coordinates-methods | 0.031 | 0.021 | 0.052 | |
| diffSplicingResults-methods | 0.032 | 0.019 | 0.056 | |
| exonsToTranscripts | 0.164 | 0.008 | 0.173 | |
| filterGtfOverlap | 0.207 | 0.006 | 0.215 | |
| filterWhippetEvents | 0.035 | 0.020 | 0.055 | |
| findDEXexonType | 1.674 | 0.001 | 1.682 | |
| findExonContainingTranscripts | 0.271 | 0.018 | 0.303 | |
| findIntronContainingTranscripts | 0.405 | 0.020 | 0.435 | |
| findJunctionPairs | 0.909 | 0.024 | 1.000 | |
| formatWhippetEvents | 0.010 | 0.003 | 0.012 | |
| getOrfs | 0.469 | 0.005 | 0.485 | |
| getUOrfs | 0.380 | 0.005 | 0.388 | |
| junctions-methods | 0.038 | 0.015 | 0.053 | |
| leafcutterTranscriptChangeSummary | 17.971 | 0.035 | 19.924 | |
| makeGeneModel | 0.098 | 0.004 | 0.102 | |
| maxLocation | 0.001 | 0.000 | 0.002 | |
| orfDiff | 1.058 | 0.037 | 1.362 | |
| orfSimilarity | 0 | 0 | 0 | |
| overlapTypes | 1.806 | 0.003 | 2.382 | |
| readCounts-methods | 0.040 | 0.018 | 0.119 | |
| readWhippetDIFFfiles | 0.004 | 0.002 | 0.008 | |
| readWhippetDataSet | 0.037 | 0.021 | 0.119 | |
| readWhippetJNCfiles | 0.018 | 0.009 | 0.051 | |
| readWhippetPSIfiles | 0.007 | 0.011 | 0.035 | |
| removeDuplicateTranscripts | 0.178 | 0.003 | 0.348 | |
| removeSameExon | 0.134 | 0.009 | 0.144 | |
| removeVersion | 0.000 | 0.001 | 0.001 | |
| reorderExonNumbers | 0.100 | 0.009 | 0.109 | |
| replaceJunction | 2.918 | 0.031 | 3.810 | |
| skipExonInTranscript | 1.333 | 0.023 | 2.696 | |
| summariseExonTypes | 1.654 | 0.002 | 2.095 | |
| transcriptChangeSummary | 1.218 | 0.031 | 2.071 | |
| whippetTranscriptChangeSummary | 8.714 | 0.082 | 9.469 | |