| Back to Multiple platform build/check report for BioC 3.19: simplified long |
|
This page was generated on 2024-10-18 20:40 -0400 (Fri, 18 Oct 2024).
| Hostname | OS | Arch (*) | R version | Installed pkgs |
|---|---|---|---|---|
| nebbiolo1 | Linux (Ubuntu 22.04.3 LTS) | x86_64 | 4.4.1 (2024-06-14) -- "Race for Your Life" | 4763 |
| palomino7 | Windows Server 2022 Datacenter | x64 | 4.4.1 (2024-06-14 ucrt) -- "Race for Your Life" | 4500 |
| merida1 | macOS 12.7.5 Monterey | x86_64 | 4.4.1 (2024-06-14) -- "Race for Your Life" | 4530 |
| kjohnson1 | macOS 13.6.6 Ventura | arm64 | 4.4.1 (2024-06-14) -- "Race for Your Life" | 4480 |
| Click on any hostname to see more info about the system (e.g. compilers) (*) as reported by 'uname -p', except on Windows and Mac OS X | ||||
| Package 2036/2300 | Hostname | OS / Arch | INSTALL | BUILD | CHECK | BUILD BIN | ||||||||
| spatialHeatmap 2.10.2 (landing page) Jianhai Zhang
| nebbiolo1 | Linux (Ubuntu 22.04.3 LTS) / x86_64 | OK | OK | OK | |||||||||
| palomino7 | Windows Server 2022 Datacenter / x64 | OK | OK | OK | OK | |||||||||
| merida1 | macOS 12.7.5 Monterey / x86_64 | OK | OK | OK | OK | |||||||||
| kjohnson1 | macOS 13.6.6 Ventura / arm64 | OK | OK | OK | NA | |||||||||
|
To the developers/maintainers of the spatialHeatmap package: - Allow up to 24 hours (and sometimes 48 hours) for your latest push to git@git.bioconductor.org:packages/spatialHeatmap.git to reflect on this report. See Troubleshooting Build Report for more information. - Use the following Renviron settings to reproduce errors and warnings. - If 'R CMD check' started to fail recently on the Linux builder(s) over a missing dependency, add the missing dependency to 'Suggests:' in your DESCRIPTION file. See Renviron.bioc for more information. |
| Package: spatialHeatmap |
| Version: 2.10.2 |
| Command: E:\biocbuild\bbs-3.19-bioc\R\bin\R.exe CMD check --no-multiarch --install=check:spatialHeatmap.install-out.txt --library=E:\biocbuild\bbs-3.19-bioc\R\library --no-vignettes --timings spatialHeatmap_2.10.2.tar.gz |
| StartedAt: 2024-10-17 06:01:15 -0400 (Thu, 17 Oct 2024) |
| EndedAt: 2024-10-17 06:09:14 -0400 (Thu, 17 Oct 2024) |
| EllapsedTime: 478.7 seconds |
| RetCode: 0 |
| Status: OK |
| CheckDir: spatialHeatmap.Rcheck |
| Warnings: 0 |
##############################################################################
##############################################################################
###
### Running command:
###
### E:\biocbuild\bbs-3.19-bioc\R\bin\R.exe CMD check --no-multiarch --install=check:spatialHeatmap.install-out.txt --library=E:\biocbuild\bbs-3.19-bioc\R\library --no-vignettes --timings spatialHeatmap_2.10.2.tar.gz
###
##############################################################################
##############################################################################
* using log directory 'E:/biocbuild/bbs-3.19-bioc/meat/spatialHeatmap.Rcheck'
* using R version 4.4.1 (2024-06-14 ucrt)
* using platform: x86_64-w64-mingw32
* R was compiled by
gcc.exe (GCC) 13.2.0
GNU Fortran (GCC) 13.2.0
* running under: Windows Server 2022 x64 (build 20348)
* using session charset: UTF-8
* using option '--no-vignettes'
* checking for file 'spatialHeatmap/DESCRIPTION' ... OK
* checking extension type ... Package
* this is package 'spatialHeatmap' version '2.10.2'
* package encoding: UTF-8
* checking package namespace information ... OK
* checking package dependencies ... OK
* checking if this is a source package ... OK
* checking if there is a namespace ... OK
* checking for hidden files and directories ... OK
* checking for portable file names ... OK
* checking whether package 'spatialHeatmap' can be installed ... OK
* checking installed package size ... NOTE
installed size is 31.8Mb
sub-directories of 1Mb or more:
R 1.2Mb
extdata 30.1Mb
* checking package directory ... OK
* checking 'build' directory ... OK
* checking DESCRIPTION meta-information ... OK
* checking top-level files ... OK
* checking for left-over files ... OK
* checking index information ... OK
* checking package subdirectories ... OK
* checking code files for non-ASCII characters ... OK
* checking R files for syntax errors ... OK
* checking whether the package can be loaded ... OK
* checking whether the package can be loaded with stated dependencies ... OK
* checking whether the package can be unloaded cleanly ... OK
* checking whether the namespace can be loaded with stated dependencies ... OK
* checking whether the namespace can be unloaded cleanly ... OK
* checking dependencies in R code ... OK
* checking S3 generic/method consistency ... OK
* checking replacement functions ... OK
* checking foreign function calls ... OK
* checking R code for possible problems ... OK
* checking Rd files ... OK
* checking Rd metadata ... OK
* checking Rd cross-references ... OK
* checking for missing documentation entries ... OK
* checking for code/documentation mismatches ... OK
* checking Rd \usage sections ... OK
* checking Rd contents ... OK
* checking for unstated dependencies in examples ... OK
* checking contents of 'data' directory ... OK
* checking data for non-ASCII characters ... OK
* checking data for ASCII and uncompressed saves ... OK
* checking files in 'vignettes' ... OK
* checking examples ... OK
Examples with CPU (user + system) or elapsed time > 5s
user system elapsed
covis 19.67 0.41 21.59
SPHM 19.40 0.51 21.33
cell_group 13.53 0.14 13.65
process_cell_meta 9.72 0.13 9.83
reduce_dim 9.22 0.19 9.41
SpatialEnrichment 4.97 0.19 5.97
spatial_hm 4.94 0.22 5.77
plot_meta 3.40 0.14 9.43
* checking for unstated dependencies in 'tests' ... OK
* checking tests ...
Running 'runTests.R'
OK
* checking for unstated dependencies in vignettes ... OK
* checking package vignettes ... OK
* checking running R code from vignettes ... SKIPPED
* checking re-building of vignette outputs ... SKIPPED
* checking PDF version of manual ... OK
* DONE
Status: 1 NOTE
See
'E:/biocbuild/bbs-3.19-bioc/meat/spatialHeatmap.Rcheck/00check.log'
for details.
spatialHeatmap.Rcheck/00install.out
############################################################################## ############################################################################## ### ### Running command: ### ### E:\biocbuild\bbs-3.19-bioc\R\bin\R.exe CMD INSTALL spatialHeatmap ### ############################################################################## ############################################################################## * installing to library 'E:/biocbuild/bbs-3.19-bioc/R/library' * installing *source* package 'spatialHeatmap' ... ** using staged installation ** R ** data ** inst ** byte-compile and prepare package for lazy loading Creating a new generic function for 'svg' in package 'spatialHeatmap' Creating a new generic function for 'match' in package 'spatialHeatmap' ** help *** installing help indices ** building package indices ** installing vignettes ** testing if installed package can be loaded from temporary location ** testing if installed package can be loaded from final location ** testing if installed package keeps a record of temporary installation path * DONE (spatialHeatmap)
spatialHeatmap.Rcheck/tests/runTests.Rout
R version 4.4.1 (2024-06-14 ucrt) -- "Race for Your Life"
Copyright (C) 2024 The R Foundation for Statistical Computing
Platform: x86_64-w64-mingw32/x64
R is free software and comes with ABSOLUTELY NO WARRANTY.
You are welcome to redistribute it under certain conditions.
Type 'license()' or 'licence()' for distribution details.
R is a collaborative project with many contributors.
Type 'contributors()' for more information and
'citation()' on how to cite R or R packages in publications.
Type 'demo()' for some demos, 'help()' for on-line help, or
'help.start()' for an HTML browser interface to help.
Type 'q()' to quit R.
> BiocGenerics:::testPackage("spatialHeatmap")
Attaching package: 'spatialHeatmap'
The following object is masked from 'package:grDevices':
svg
The following object is masked from 'package:base':
match
Loading required package: Biobase
Loading required package: BiocGenerics
Attaching package: 'BiocGenerics'
The following object is masked from 'package:spatialHeatmap':
match
The following objects are masked from 'package:stats':
IQR, mad, sd, var, xtabs
The following objects are masked from 'package:base':
Filter, Find, Map, Position, Reduce, anyDuplicated, aperm, append,
as.data.frame, basename, cbind, colnames, dirname, do.call,
duplicated, eval, evalq, get, grep, grepl, intersect, is.unsorted,
lapply, mapply, match, mget, order, paste, pmax, pmax.int, pmin,
pmin.int, rank, rbind, rownames, sapply, setdiff, table, tapply,
union, unique, unsplit, which.max, which.min
Welcome to Bioconductor
Vignettes contain introductory material; view with
'browseVignettes()'. To cite Bioconductor, see
'citation("Biobase")', and for packages 'citation("pkgname")'.
Loading required package: SummarizedExperiment
Loading required package: MatrixGenerics
Loading required package: matrixStats
Attaching package: 'matrixStats'
The following objects are masked from 'package:Biobase':
anyMissing, rowMedians
Attaching package: 'MatrixGenerics'
The following objects are masked from 'package:matrixStats':
colAlls, colAnyNAs, colAnys, colAvgsPerRowSet, colCollapse,
colCounts, colCummaxs, colCummins, colCumprods, colCumsums,
colDiffs, colIQRDiffs, colIQRs, colLogSumExps, colMadDiffs,
colMads, colMaxs, colMeans2, colMedians, colMins, colOrderStats,
colProds, colQuantiles, colRanges, colRanks, colSdDiffs, colSds,
colSums2, colTabulates, colVarDiffs, colVars, colWeightedMads,
colWeightedMeans, colWeightedMedians, colWeightedSds,
colWeightedVars, rowAlls, rowAnyNAs, rowAnys, rowAvgsPerColSet,
rowCollapse, rowCounts, rowCummaxs, rowCummins, rowCumprods,
rowCumsums, rowDiffs, rowIQRDiffs, rowIQRs, rowLogSumExps,
rowMadDiffs, rowMads, rowMaxs, rowMeans2, rowMedians, rowMins,
rowOrderStats, rowProds, rowQuantiles, rowRanges, rowRanks,
rowSdDiffs, rowSds, rowSums2, rowTabulates, rowVarDiffs, rowVars,
rowWeightedMads, rowWeightedMeans, rowWeightedMedians,
rowWeightedSds, rowWeightedVars
The following object is masked from 'package:Biobase':
rowMedians
Loading required package: GenomicRanges
Loading required package: stats4
Loading required package: S4Vectors
Attaching package: 'S4Vectors'
The following object is masked from 'package:utils':
findMatches
The following objects are masked from 'package:base':
I, expand.grid, unname
Loading required package: IRanges
Attaching package: 'IRanges'
The following object is masked from 'package:grDevices':
windows
Loading required package: GenomeInfoDb
Loading required package: limma
Attaching package: 'limma'
The following object is masked from 'package:BiocGenerics':
plotMA
Loading required package: xml2
Loading required package: RCurl
Loading required package: jsonlite
Loading required package: BiocStyle
Attaching package: 'BiocStyle'
The following object is masked from 'package:spatialHeatmap':
output
Normalising: ESF
type
"ratio"
Syntactically valid column names are made!
Syntactically valid column names are made!
All values before filtering:
Min. 1st Qu. Median Mean 3rd Qu. Max.
0.000 0.000 0.287 2.442 4.268 19.991
All coefficient of variances (CVs) before filtering:
Min. 1st Qu. Median Mean 3rd Qu. Max.
0.0007742 0.0767696 0.4019655 0.6217813 0.9956157 2.0000000
All values after filtering:
Min. 1st Qu. Median Mean 3rd Qu. Max.
0.000 2.654 4.976 4.779 6.451 14.695
All coefficient of variances (CVs) after filtering:
Min. 1st Qu. Median Mean 3rd Qu. Max.
0.3001 0.3648 0.4637 0.5651 0.7392 1.1548
Warning: variables of sample/condition are less than 5!
..connectivity..
..matrix multiplication (system BLAS)..
..normalization..
..done.
..done.
..done.
..done.
..done.
Normalising: ESF
type
"ratio"
Syntactically valid column names are made!
Syntactically valid column names are made!
All values before filtering:
Min. 1st Qu. Median Mean 3rd Qu. Max.
0.000 0.000 0.287 2.442 4.268 19.991
All coefficient of variances (CVs) before filtering:
Min. 1st Qu. Median Mean 3rd Qu. Max.
0.0007742 0.0767696 0.4019655 0.6217813 0.9956157 2.0000000
All values after filtering:
Min. 1st Qu. Median Mean 3rd Qu. Max.
0.000 2.654 4.976 4.779 6.451 14.695
All coefficient of variances (CVs) after filtering:
Min. 1st Qu. Median Mean 3rd Qu. Max.
0.3001 0.3648 0.4637 0.5651 0.7392 1.1548
RUNIT TEST PROTOCOL -- Thu Oct 17 06:08:54 2024
***********************************************
Number of test functions: 2
Number of errors: 0
Number of failures: 0
1 Test Suite :
spatialHeatmap RUnit Tests - 2 test functions, 0 errors, 0 failures
Number of test functions: 2
Number of errors: 0
Number of failures: 0
>
> proc.time()
user system elapsed
28.56 2.59 30.73
spatialHeatmap.Rcheck/spatialHeatmap-Ex.timings
| name | user | system | elapsed | |
| SPHM | 19.40 | 0.51 | 21.33 | |
| SPHMMethods | 1.80 | 0.07 | 2.69 | |
| SVG | 0.39 | 0.04 | 1.52 | |
| SVGMethods | 0.31 | 0.02 | 0.83 | |
| SpatialEnrichment | 4.97 | 0.19 | 5.97 | |
| aSVG.remote.repo | 0 | 0 | 0 | |
| adj_mod | 3.21 | 0.22 | 3.81 | |
| aggr_rep | 1.14 | 0.09 | 1.23 | |
| cell_group | 13.53 | 0.14 | 13.65 | |
| cluster_cell | 1.86 | 0.08 | 1.94 | |
| coclus_opt | 0.23 | 0.03 | 0.29 | |
| cocluster | 0.33 | 0.03 | 0.38 | |
| com_factor | 0.25 | 0.03 | 0.28 | |
| covis | 19.67 | 0.41 | 21.59 | |
| custom_shiny | 0.00 | 0.03 | 0.03 | |
| cut_dendro | 0.86 | 0.05 | 0.90 | |
| cvt_id | 0.66 | 0.04 | 0.71 | |
| data_ref | 1.05 | 0.05 | 1.11 | |
| database | 0.50 | 0.06 | 0.56 | |
| edit_tar | 0.01 | 0.00 | 0.01 | |
| filter_data | 1.52 | 0.03 | 1.55 | |
| matrix_hm | 2.60 | 0.10 | 2.68 | |
| network | 2.51 | 0.15 | 2.68 | |
| norm_cell | 2.55 | 0.02 | 2.56 | |
| norm_data | 1.19 | 0.06 | 1.25 | |
| norm_srsc | 3.32 | 0.35 | 3.66 | |
| opt_bar | 0.11 | 0.00 | 0.11 | |
| opt_setting | 0 | 0 | 0 | |
| opt_violin | 0.17 | 0.00 | 0.17 | |
| optimal_k | 0.09 | 0.00 | 0.10 | |
| plot_dim | 1.41 | 0.09 | 1.50 | |
| plot_kmeans | 0.5 | 0.0 | 0.5 | |
| plot_meta | 3.40 | 0.14 | 9.43 | |
| process_cell_meta | 9.72 | 0.13 | 9.83 | |
| qc_cell | 1.30 | 0.04 | 1.34 | |
| read_cache | 2.59 | 0.03 | 2.62 | |
| read_fr | 0 | 0 | 0 | |
| read_svg | 0.19 | 0.08 | 1.26 | |
| reduce_dim | 9.22 | 0.19 | 9.41 | |
| reduce_rep | 0 | 0 | 0 | |
| return_feature | 0.70 | 0.03 | 0.73 | |
| save_cache | 2.86 | 0.05 | 2.90 | |
| shiny_shm | 0 | 0 | 0 | |
| shm | 3.75 | 0.17 | 4.69 | |
| spatialHeatmap-package | 0 | 0 | 0 | |
| spatial_hm | 4.94 | 0.22 | 5.77 | |
| submatrix | 3.06 | 0.16 | 3.21 | |
| true_bulk | 0.45 | 0.01 | 0.47 | |
| update_feature | 0 | 0 | 0 | |
| write_svg | 2.90 | 0.13 | 3.75 | |