Back to Multiple platform build/check report for BioC 3.19:   simplified   long
ABCDEFGHIJKLMNOPQR[S]TUVWXYZ

This page was generated on 2024-10-18 20:38 -0400 (Fri, 18 Oct 2024).

HostnameOSArch (*)R versionInstalled pkgs
nebbiolo1Linux (Ubuntu 22.04.3 LTS)x86_644.4.1 (2024-06-14) -- "Race for Your Life" 4763
palomino7Windows Server 2022 Datacenterx644.4.1 (2024-06-14 ucrt) -- "Race for Your Life" 4500
merida1macOS 12.7.5 Montereyx86_644.4.1 (2024-06-14) -- "Race for Your Life" 4530
kjohnson1macOS 13.6.6 Venturaarm644.4.1 (2024-06-14) -- "Race for Your Life" 4480
Click on any hostname to see more info about the system (e.g. compilers)      (*) as reported by 'uname -p', except on Windows and Mac OS X

Package 2036/2300HostnameOS / ArchINSTALLBUILDCHECKBUILD BIN
spatialHeatmap 2.10.2  (landing page)
Jianhai Zhang
Snapshot Date: 2024-10-16 14:00 -0400 (Wed, 16 Oct 2024)
git_url: https://git.bioconductor.org/packages/spatialHeatmap
git_branch: RELEASE_3_19
git_last_commit: 035b034
git_last_commit_date: 2024-07-29 10:10:10 -0400 (Mon, 29 Jul 2024)
nebbiolo1Linux (Ubuntu 22.04.3 LTS) / x86_64  OK    OK    OK  UNNEEDED, same version is already published
palomino7Windows Server 2022 Datacenter / x64  OK    OK    OK    OK  UNNEEDED, same version is already published
merida1macOS 12.7.5 Monterey / x86_64  OK    OK    OK    OK  UNNEEDED, same version is already published
kjohnson1macOS 13.6.6 Ventura / arm64  OK    OK    OK    NA  


CHECK results for spatialHeatmap on nebbiolo1

To the developers/maintainers of the spatialHeatmap package:
- Allow up to 24 hours (and sometimes 48 hours) for your latest push to git@git.bioconductor.org:packages/spatialHeatmap.git to reflect on this report. See Troubleshooting Build Report for more information.
- Use the following Renviron settings to reproduce errors and warnings.
- If 'R CMD check' started to fail recently on the Linux builder(s) over a missing dependency, add the missing dependency to 'Suggests:' in your DESCRIPTION file. See Renviron.bioc for more information.

raw results


Summary

Package: spatialHeatmap
Version: 2.10.2
Command: /home/biocbuild/bbs-3.19-bioc/R/bin/R CMD check --install=check:spatialHeatmap.install-out.txt --library=/home/biocbuild/bbs-3.19-bioc/R/site-library --timings spatialHeatmap_2.10.2.tar.gz
StartedAt: 2024-10-17 05:23:51 -0400 (Thu, 17 Oct 2024)
EndedAt: 2024-10-17 05:34:05 -0400 (Thu, 17 Oct 2024)
EllapsedTime: 614.3 seconds
RetCode: 0
Status:   OK  
CheckDir: spatialHeatmap.Rcheck
Warnings: 0

Command output

##############################################################################
##############################################################################
###
### Running command:
###
###   /home/biocbuild/bbs-3.19-bioc/R/bin/R CMD check --install=check:spatialHeatmap.install-out.txt --library=/home/biocbuild/bbs-3.19-bioc/R/site-library --timings spatialHeatmap_2.10.2.tar.gz
###
##############################################################################
##############################################################################


* using log directory ‘/home/biocbuild/bbs-3.19-bioc/meat/spatialHeatmap.Rcheck’
* using R version 4.4.1 (2024-06-14)
* using platform: x86_64-pc-linux-gnu
* R was compiled by
    gcc (Ubuntu 11.4.0-1ubuntu1~22.04) 11.4.0
    GNU Fortran (Ubuntu 11.4.0-1ubuntu1~22.04) 11.4.0
* running under: Ubuntu 22.04.5 LTS
* using session charset: UTF-8
* checking for file ‘spatialHeatmap/DESCRIPTION’ ... OK
* checking extension type ... Package
* this is package ‘spatialHeatmap’ version ‘2.10.2’
* package encoding: UTF-8
* checking package namespace information ... OK
* checking package dependencies ... OK
* checking if this is a source package ... OK
* checking if there is a namespace ... OK
* checking for hidden files and directories ... OK
* checking for portable file names ... OK
* checking for sufficient/correct file permissions ... OK
* checking whether package ‘spatialHeatmap’ can be installed ... OK
* checking installed package size ... NOTE
  installed size is 26.9Mb
  sub-directories of 1Mb or more:
    R         1.2Mb
    extdata  25.3Mb
* checking package directory ... OK
* checking ‘build’ directory ... OK
* checking DESCRIPTION meta-information ... OK
* checking top-level files ... OK
* checking for left-over files ... OK
* checking index information ... OK
* checking package subdirectories ... OK
* checking code files for non-ASCII characters ... OK
* checking R files for syntax errors ... OK
* checking whether the package can be loaded ... OK
* checking whether the package can be loaded with stated dependencies ... OK
* checking whether the package can be unloaded cleanly ... OK
* checking whether the namespace can be loaded with stated dependencies ... OK
* checking whether the namespace can be unloaded cleanly ... OK
* checking loading without being on the library search path ... OK
* checking dependencies in R code ... OK
* checking S3 generic/method consistency ... OK
* checking replacement functions ... OK
* checking foreign function calls ... OK
* checking R code for possible problems ... OK
* checking Rd files ... OK
* checking Rd metadata ... OK
* checking Rd cross-references ... OK
* checking for missing documentation entries ... OK
* checking for code/documentation mismatches ... OK
* checking Rd \usage sections ... OK
* checking Rd contents ... OK
* checking for unstated dependencies in examples ... OK
* checking contents of ‘data’ directory ... OK
* checking data for non-ASCII characters ... OK
* checking data for ASCII and uncompressed saves ... OK
* checking files in ‘vignettes’ ... OK
* checking examples ... OK
Examples with CPU (user + system) or elapsed time > 5s
                    user system elapsed
SPHM              16.479  0.549  17.059
covis             14.314  0.513  14.859
cell_group        10.537  0.488  11.021
reduce_dim         7.226  0.684   7.909
process_cell_meta  7.290  0.604   7.892
spatial_hm         4.481  0.511   5.050
* checking for unstated dependencies in ‘tests’ ... OK
* checking tests ...
  Running ‘runTests.R’
 OK
* checking for unstated dependencies in vignettes ... OK
* checking package vignettes ... OK
* checking re-building of vignette outputs ... OK
* checking PDF version of manual ... OK
* DONE

Status: 1 NOTE
See
  ‘/home/biocbuild/bbs-3.19-bioc/meat/spatialHeatmap.Rcheck/00check.log’
for details.


Installation output

spatialHeatmap.Rcheck/00install.out

##############################################################################
##############################################################################
###
### Running command:
###
###   /home/biocbuild/bbs-3.19-bioc/R/bin/R CMD INSTALL spatialHeatmap
###
##############################################################################
##############################################################################


* installing to library ‘/home/biocbuild/bbs-3.19-bioc/R/site-library’
* installing *source* package ‘spatialHeatmap’ ...
** using staged installation
** R
** data
** inst
** byte-compile and prepare package for lazy loading
Creating a new generic function for ‘svg’ in package ‘spatialHeatmap’
Creating a new generic function for ‘match’ in package ‘spatialHeatmap’
** help
*** installing help indices
** building package indices
** installing vignettes
** testing if installed package can be loaded from temporary location
** testing if installed package can be loaded from final location
** testing if installed package keeps a record of temporary installation path
* DONE (spatialHeatmap)

Tests output

spatialHeatmap.Rcheck/tests/runTests.Rout


R version 4.4.1 (2024-06-14) -- "Race for Your Life"
Copyright (C) 2024 The R Foundation for Statistical Computing
Platform: x86_64-pc-linux-gnu

R is free software and comes with ABSOLUTELY NO WARRANTY.
You are welcome to redistribute it under certain conditions.
Type 'license()' or 'licence()' for distribution details.

R is a collaborative project with many contributors.
Type 'contributors()' for more information and
'citation()' on how to cite R or R packages in publications.

Type 'demo()' for some demos, 'help()' for on-line help, or
'help.start()' for an HTML browser interface to help.
Type 'q()' to quit R.

> BiocGenerics:::testPackage("spatialHeatmap")

Attaching package: 'spatialHeatmap'

The following object is masked from 'package:grDevices':

    svg

The following object is masked from 'package:base':

    match

Loading required package: Biobase
Loading required package: BiocGenerics

Attaching package: 'BiocGenerics'

The following object is masked from 'package:spatialHeatmap':

    match

The following objects are masked from 'package:stats':

    IQR, mad, sd, var, xtabs

The following objects are masked from 'package:base':

    Filter, Find, Map, Position, Reduce, anyDuplicated, aperm, append,
    as.data.frame, basename, cbind, colnames, dirname, do.call,
    duplicated, eval, evalq, get, grep, grepl, intersect, is.unsorted,
    lapply, mapply, match, mget, order, paste, pmax, pmax.int, pmin,
    pmin.int, rank, rbind, rownames, sapply, setdiff, table, tapply,
    union, unique, unsplit, which.max, which.min

Welcome to Bioconductor

    Vignettes contain introductory material; view with
    'browseVignettes()'. To cite Bioconductor, see
    'citation("Biobase")', and for packages 'citation("pkgname")'.

Loading required package: SummarizedExperiment
Loading required package: MatrixGenerics
Loading required package: matrixStats

Attaching package: 'matrixStats'

The following objects are masked from 'package:Biobase':

    anyMissing, rowMedians


Attaching package: 'MatrixGenerics'

The following objects are masked from 'package:matrixStats':

    colAlls, colAnyNAs, colAnys, colAvgsPerRowSet, colCollapse,
    colCounts, colCummaxs, colCummins, colCumprods, colCumsums,
    colDiffs, colIQRDiffs, colIQRs, colLogSumExps, colMadDiffs,
    colMads, colMaxs, colMeans2, colMedians, colMins, colOrderStats,
    colProds, colQuantiles, colRanges, colRanks, colSdDiffs, colSds,
    colSums2, colTabulates, colVarDiffs, colVars, colWeightedMads,
    colWeightedMeans, colWeightedMedians, colWeightedSds,
    colWeightedVars, rowAlls, rowAnyNAs, rowAnys, rowAvgsPerColSet,
    rowCollapse, rowCounts, rowCummaxs, rowCummins, rowCumprods,
    rowCumsums, rowDiffs, rowIQRDiffs, rowIQRs, rowLogSumExps,
    rowMadDiffs, rowMads, rowMaxs, rowMeans2, rowMedians, rowMins,
    rowOrderStats, rowProds, rowQuantiles, rowRanges, rowRanks,
    rowSdDiffs, rowSds, rowSums2, rowTabulates, rowVarDiffs, rowVars,
    rowWeightedMads, rowWeightedMeans, rowWeightedMedians,
    rowWeightedSds, rowWeightedVars

The following object is masked from 'package:Biobase':

    rowMedians

Loading required package: GenomicRanges
Loading required package: stats4
Loading required package: S4Vectors

Attaching package: 'S4Vectors'

The following object is masked from 'package:utils':

    findMatches

The following objects are masked from 'package:base':

    I, expand.grid, unname

Loading required package: IRanges
Loading required package: GenomeInfoDb
Loading required package: limma

Attaching package: 'limma'

The following object is masked from 'package:BiocGenerics':

    plotMA

Loading required package: xml2
Loading required package: RCurl
Loading required package: jsonlite
Loading required package: BiocStyle

Attaching package: 'BiocStyle'

The following object is masked from 'package:spatialHeatmap':

    output

Normalising: ESF 
   type 
"ratio" 
Syntactically valid column names are made! 
Syntactically valid column names are made! 
All values before filtering:
   Min. 1st Qu.  Median    Mean 3rd Qu.    Max. 
  0.000   0.000   0.287   2.442   4.268  19.991 
All coefficient of variances (CVs) before filtering:
     Min.   1st Qu.    Median      Mean   3rd Qu.      Max. 
0.0007742 0.0767696 0.4019655 0.6217813 0.9956157 2.0000000 
All values after filtering:
   Min. 1st Qu.  Median    Mean 3rd Qu.    Max. 
  0.000   2.654   4.976   4.779   6.451  14.695 
All coefficient of variances (CVs) after filtering:
   Min. 1st Qu.  Median    Mean 3rd Qu.    Max. 
 0.3001  0.3648  0.4637  0.5651  0.7392  1.1548 

Warning: variables of sample/condition are less than 5! 
..connectivity..
..matrix multiplication (system BLAS)..
..normalization..
..done.
 ..done.
 ..done.
 ..done.
 ..done.
Normalising: ESF 
   type 
"ratio" 
Syntactically valid column names are made! 
Syntactically valid column names are made! 
All values before filtering:
   Min. 1st Qu.  Median    Mean 3rd Qu.    Max. 
  0.000   0.000   0.287   2.442   4.268  19.991 
All coefficient of variances (CVs) before filtering:
     Min.   1st Qu.    Median      Mean   3rd Qu.      Max. 
0.0007742 0.0767696 0.4019655 0.6217813 0.9956157 2.0000000 
All values after filtering:
   Min. 1st Qu.  Median    Mean 3rd Qu.    Max. 
  0.000   2.654   4.976   4.779   6.451  14.695 
All coefficient of variances (CVs) after filtering:
   Min. 1st Qu.  Median    Mean 3rd Qu.    Max. 
 0.3001  0.3648  0.4637  0.5651  0.7392  1.1548 


RUNIT TEST PROTOCOL -- Thu Oct 17 05:29:58 2024 
*********************************************** 
Number of test functions: 2 
Number of errors: 0 
Number of failures: 0 

 
1 Test Suite : 
spatialHeatmap RUnit Tests - 2 test functions, 0 errors, 0 failures
Number of test functions: 2 
Number of errors: 0 
Number of failures: 0 
> 
> proc.time()
   user  system elapsed 
 22.602   1.159  23.751 

Example timings

spatialHeatmap.Rcheck/spatialHeatmap-Ex.timings

nameusersystemelapsed
SPHM16.479 0.54917.059
SPHMMethods1.4870.2231.734
SVG0.5990.0940.754
SVGMethods0.4120.0650.491
SpatialEnrichment3.7390.3524.107
aSVG.remote.repo0.0030.0000.003
adj_mod2.6360.2562.840
aggr_rep0.7110.0480.760
cell_group10.537 0.48811.021
cluster_cell1.1610.0761.237
coclus_opt0.2300.0260.259
cocluster0.1970.0020.199
com_factor0.1440.0200.164
covis14.314 0.51314.859
custom_shiny0.0360.0200.056
cut_dendro0.5450.0560.586
cvt_id0.4570.0560.513
data_ref0.7540.0680.822
database0.3320.0280.360
edit_tar0.0000.0040.004
filter_data0.9230.1111.034
matrix_hm2.1480.3282.476
network1.9930.1882.181
norm_cell1.8260.0921.917
norm_data0.7630.0600.822
norm_srsc2.6920.1842.876
opt_bar0.1010.0000.101
opt_setting0.0060.0040.010
opt_violin0.1650.0000.165
optimal_k0.1090.0040.113
plot_dim1.5880.0401.628
plot_kmeans0.4870.0040.491
plot_meta2.4120.2882.747
process_cell_meta7.2900.6047.892
qc_cell0.9620.0401.002
read_cache2.1900.2012.390
read_fr0.0050.0000.005
read_svg0.4580.0840.614
reduce_dim7.2260.6847.909
reduce_rep0.0020.0000.001
return_feature0.4860.0360.526
save_cache2.2900.1642.454
shiny_shm000
shm3.1060.2733.410
spatialHeatmap-package0.0010.0000.001
spatial_hm4.4810.5115.050
submatrix2.5770.3442.921
true_bulk0.3170.0240.341
update_feature0.0010.0000.001
write_svg2.3930.1852.609