| Back to Multiple platform build/check report for BioC 3.19: simplified long |
|
This page was generated on 2024-10-18 20:42 -0400 (Fri, 18 Oct 2024).
| Hostname | OS | Arch (*) | R version | Installed pkgs |
|---|---|---|---|---|
| nebbiolo1 | Linux (Ubuntu 22.04.3 LTS) | x86_64 | 4.4.1 (2024-06-14) -- "Race for Your Life" | 4763 |
| palomino7 | Windows Server 2022 Datacenter | x64 | 4.4.1 (2024-06-14 ucrt) -- "Race for Your Life" | 4500 |
| merida1 | macOS 12.7.5 Monterey | x86_64 | 4.4.1 (2024-06-14) -- "Race for Your Life" | 4530 |
| kjohnson1 | macOS 13.6.6 Ventura | arm64 | 4.4.1 (2024-06-14) -- "Race for Your Life" | 4480 |
| Click on any hostname to see more info about the system (e.g. compilers) (*) as reported by 'uname -p', except on Windows and Mac OS X | ||||
| Package 2036/2300 | Hostname | OS / Arch | INSTALL | BUILD | CHECK | BUILD BIN | ||||||||
| spatialHeatmap 2.10.2 (landing page) Jianhai Zhang
| nebbiolo1 | Linux (Ubuntu 22.04.3 LTS) / x86_64 | OK | OK | OK | |||||||||
| palomino7 | Windows Server 2022 Datacenter / x64 | OK | OK | OK | OK | |||||||||
| merida1 | macOS 12.7.5 Monterey / x86_64 | OK | OK | OK | OK | |||||||||
| kjohnson1 | macOS 13.6.6 Ventura / arm64 | OK | OK | OK | NA | |||||||||
|
To the developers/maintainers of the spatialHeatmap package: - Allow up to 24 hours (and sometimes 48 hours) for your latest push to git@git.bioconductor.org:packages/spatialHeatmap.git to reflect on this report. See Troubleshooting Build Report for more information. - Use the following Renviron settings to reproduce errors and warnings. - If 'R CMD check' started to fail recently on the Linux builder(s) over a missing dependency, add the missing dependency to 'Suggests:' in your DESCRIPTION file. See Renviron.bioc for more information. |
| Package: spatialHeatmap |
| Version: 2.10.2 |
| Command: /Library/Frameworks/R.framework/Resources/bin/R CMD check --install=check:spatialHeatmap.install-out.txt --library=/Library/Frameworks/R.framework/Resources/library --no-vignettes --timings spatialHeatmap_2.10.2.tar.gz |
| StartedAt: 2024-10-18 13:20:07 -0400 (Fri, 18 Oct 2024) |
| EndedAt: 2024-10-18 13:28:13 -0400 (Fri, 18 Oct 2024) |
| EllapsedTime: 486.4 seconds |
| RetCode: 0 |
| Status: OK |
| CheckDir: spatialHeatmap.Rcheck |
| Warnings: 0 |
##############################################################################
##############################################################################
###
### Running command:
###
### /Library/Frameworks/R.framework/Resources/bin/R CMD check --install=check:spatialHeatmap.install-out.txt --library=/Library/Frameworks/R.framework/Resources/library --no-vignettes --timings spatialHeatmap_2.10.2.tar.gz
###
##############################################################################
##############################################################################
* using log directory ‘/Users/biocbuild/bbs-3.19-bioc/meat/spatialHeatmap.Rcheck’
* using R version 4.4.1 (2024-06-14)
* using platform: aarch64-apple-darwin20
* R was compiled by
Apple clang version 14.0.0 (clang-1400.0.29.202)
GNU Fortran (GCC) 12.2.0
* running under: macOS Ventura 13.6.6
* using session charset: UTF-8
* using option ‘--no-vignettes’
* checking for file ‘spatialHeatmap/DESCRIPTION’ ... OK
* checking extension type ... Package
* this is package ‘spatialHeatmap’ version ‘2.10.2’
* package encoding: UTF-8
* checking package namespace information ... OK
* checking package dependencies ... OK
* checking if this is a source package ... OK
* checking if there is a namespace ... OK
* checking for hidden files and directories ... OK
* checking for portable file names ... OK
* checking for sufficient/correct file permissions ... OK
* checking whether package ‘spatialHeatmap’ can be installed ... OK
* checking installed package size ... NOTE
installed size is 31.8Mb
sub-directories of 1Mb or more:
R 1.2Mb
extdata 30.2Mb
* checking package directory ... OK
* checking ‘build’ directory ... OK
* checking DESCRIPTION meta-information ... OK
* checking top-level files ... OK
* checking for left-over files ... OK
* checking index information ... OK
* checking package subdirectories ... OK
* checking code files for non-ASCII characters ... OK
* checking R files for syntax errors ... OK
* checking whether the package can be loaded ... OK
* checking whether the package can be loaded with stated dependencies ... OK
* checking whether the package can be unloaded cleanly ... OK
* checking whether the namespace can be loaded with stated dependencies ... OK
* checking whether the namespace can be unloaded cleanly ... OK
* checking dependencies in R code ... OK
* checking S3 generic/method consistency ... OK
* checking replacement functions ... OK
* checking foreign function calls ... OK
* checking R code for possible problems ... OK
* checking Rd files ... OK
* checking Rd metadata ... OK
* checking Rd cross-references ... OK
* checking for missing documentation entries ... OK
* checking for code/documentation mismatches ... OK
* checking Rd \usage sections ... OK
* checking Rd contents ... OK
* checking for unstated dependencies in examples ... OK
* checking contents of ‘data’ directory ... OK
* checking data for non-ASCII characters ... OK
* checking data for ASCII and uncompressed saves ... OK
* checking files in ‘vignettes’ ... OK
* checking examples ... OK
Examples with CPU (user + system) or elapsed time > 5s
user system elapsed
SPHM 22.957 1.042 25.256
covis 19.956 0.787 21.511
cell_group 14.581 0.363 15.632
process_cell_meta 9.886 0.137 10.077
reduce_dim 9.522 0.110 9.816
spatial_hm 4.980 0.255 5.327
* checking for unstated dependencies in ‘tests’ ... OK
* checking tests ...
Running ‘runTests.R’
OK
* checking for unstated dependencies in vignettes ... OK
* checking package vignettes ... OK
* checking running R code from vignettes ... SKIPPED
* checking re-building of vignette outputs ... SKIPPED
* checking PDF version of manual ... OK
* DONE
Status: 1 NOTE
See
‘/Users/biocbuild/bbs-3.19-bioc/meat/spatialHeatmap.Rcheck/00check.log’
for details.
spatialHeatmap.Rcheck/00install.out
############################################################################## ############################################################################## ### ### Running command: ### ### /Library/Frameworks/R.framework/Resources/bin/R CMD INSTALL spatialHeatmap ### ############################################################################## ############################################################################## * installing to library ‘/Library/Frameworks/R.framework/Versions/4.4-arm64/Resources/library’ * installing *source* package ‘spatialHeatmap’ ... ** using staged installation ** R ** data ** inst ** byte-compile and prepare package for lazy loading Creating a new generic function for ‘svg’ in package ‘spatialHeatmap’ Creating a new generic function for ‘match’ in package ‘spatialHeatmap’ ** help *** installing help indices ** building package indices ** installing vignettes ** testing if installed package can be loaded from temporary location ** testing if installed package can be loaded from final location ** testing if installed package keeps a record of temporary installation path * DONE (spatialHeatmap)
spatialHeatmap.Rcheck/tests/runTests.Rout
R version 4.4.1 (2024-06-14) -- "Race for Your Life"
Copyright (C) 2024 The R Foundation for Statistical Computing
Platform: aarch64-apple-darwin20
R is free software and comes with ABSOLUTELY NO WARRANTY.
You are welcome to redistribute it under certain conditions.
Type 'license()' or 'licence()' for distribution details.
R is a collaborative project with many contributors.
Type 'contributors()' for more information and
'citation()' on how to cite R or R packages in publications.
Type 'demo()' for some demos, 'help()' for on-line help, or
'help.start()' for an HTML browser interface to help.
Type 'q()' to quit R.
> BiocGenerics:::testPackage("spatialHeatmap")
Attaching package: 'spatialHeatmap'
The following object is masked from 'package:grDevices':
svg
The following object is masked from 'package:base':
match
Loading required package: Biobase
Loading required package: BiocGenerics
Attaching package: 'BiocGenerics'
The following object is masked from 'package:spatialHeatmap':
match
The following objects are masked from 'package:stats':
IQR, mad, sd, var, xtabs
The following objects are masked from 'package:base':
Filter, Find, Map, Position, Reduce, anyDuplicated, aperm, append,
as.data.frame, basename, cbind, colnames, dirname, do.call,
duplicated, eval, evalq, get, grep, grepl, intersect, is.unsorted,
lapply, mapply, match, mget, order, paste, pmax, pmax.int, pmin,
pmin.int, rank, rbind, rownames, sapply, setdiff, table, tapply,
union, unique, unsplit, which.max, which.min
Welcome to Bioconductor
Vignettes contain introductory material; view with
'browseVignettes()'. To cite Bioconductor, see
'citation("Biobase")', and for packages 'citation("pkgname")'.
Loading required package: SummarizedExperiment
Loading required package: MatrixGenerics
Loading required package: matrixStats
Attaching package: 'matrixStats'
The following objects are masked from 'package:Biobase':
anyMissing, rowMedians
Attaching package: 'MatrixGenerics'
The following objects are masked from 'package:matrixStats':
colAlls, colAnyNAs, colAnys, colAvgsPerRowSet, colCollapse,
colCounts, colCummaxs, colCummins, colCumprods, colCumsums,
colDiffs, colIQRDiffs, colIQRs, colLogSumExps, colMadDiffs,
colMads, colMaxs, colMeans2, colMedians, colMins, colOrderStats,
colProds, colQuantiles, colRanges, colRanks, colSdDiffs, colSds,
colSums2, colTabulates, colVarDiffs, colVars, colWeightedMads,
colWeightedMeans, colWeightedMedians, colWeightedSds,
colWeightedVars, rowAlls, rowAnyNAs, rowAnys, rowAvgsPerColSet,
rowCollapse, rowCounts, rowCummaxs, rowCummins, rowCumprods,
rowCumsums, rowDiffs, rowIQRDiffs, rowIQRs, rowLogSumExps,
rowMadDiffs, rowMads, rowMaxs, rowMeans2, rowMedians, rowMins,
rowOrderStats, rowProds, rowQuantiles, rowRanges, rowRanks,
rowSdDiffs, rowSds, rowSums2, rowTabulates, rowVarDiffs, rowVars,
rowWeightedMads, rowWeightedMeans, rowWeightedMedians,
rowWeightedSds, rowWeightedVars
The following object is masked from 'package:Biobase':
rowMedians
Loading required package: GenomicRanges
Loading required package: stats4
Loading required package: S4Vectors
Attaching package: 'S4Vectors'
The following object is masked from 'package:utils':
findMatches
The following objects are masked from 'package:base':
I, expand.grid, unname
Loading required package: IRanges
Loading required package: GenomeInfoDb
Loading required package: limma
Attaching package: 'limma'
The following object is masked from 'package:BiocGenerics':
plotMA
Loading required package: xml2
Loading required package: RCurl
Loading required package: jsonlite
Loading required package: BiocStyle
Attaching package: 'BiocStyle'
The following object is masked from 'package:spatialHeatmap':
output
Normalising: ESF
type
"ratio"
Syntactically valid column names are made!
Syntactically valid column names are made!
All values before filtering:
Min. 1st Qu. Median Mean 3rd Qu. Max.
0.000 0.000 0.287 2.442 4.268 19.991
All coefficient of variances (CVs) before filtering:
Min. 1st Qu. Median Mean 3rd Qu. Max.
0.0007742 0.0767696 0.4019655 0.6217813 0.9956157 2.0000000
All values after filtering:
Min. 1st Qu. Median Mean 3rd Qu. Max.
0.000 2.654 4.976 4.779 6.451 14.695
All coefficient of variances (CVs) after filtering:
Min. 1st Qu. Median Mean 3rd Qu. Max.
0.3001 0.3648 0.4637 0.5651 0.7392 1.1548
Warning: variables of sample/condition are less than 5!
..connectivity..
..matrix multiplication (system BLAS)..
..normalization..
..done.
..done.
..done.
..done.
..done.
Normalising: ESF
type
"ratio"
Syntactically valid column names are made!
Syntactically valid column names are made!
All values before filtering:
Min. 1st Qu. Median Mean 3rd Qu. Max.
0.000 0.000 0.287 2.442 4.268 19.991
All coefficient of variances (CVs) before filtering:
Min. 1st Qu. Median Mean 3rd Qu. Max.
0.0007742 0.0767696 0.4019655 0.6217813 0.9956157 2.0000000
All values after filtering:
Min. 1st Qu. Median Mean 3rd Qu. Max.
0.000 2.654 4.976 4.779 6.451 14.695
All coefficient of variances (CVs) after filtering:
Min. 1st Qu. Median Mean 3rd Qu. Max.
0.3001 0.3648 0.4637 0.5651 0.7392 1.1548
RUNIT TEST PROTOCOL -- Fri Oct 18 13:27:54 2024
***********************************************
Number of test functions: 2
Number of errors: 0
Number of failures: 0
1 Test Suite :
spatialHeatmap RUnit Tests - 2 test functions, 0 errors, 0 failures
Number of test functions: 2
Number of errors: 0
Number of failures: 0
>
> proc.time()
user system elapsed
27.661 1.493 29.368
spatialHeatmap.Rcheck/spatialHeatmap-Ex.timings
| name | user | system | elapsed | |
| SPHM | 22.957 | 1.042 | 25.256 | |
| SPHMMethods | 1.861 | 0.269 | 2.247 | |
| SVG | 0.814 | 0.282 | 1.245 | |
| SVGMethods | 0.491 | 0.158 | 0.721 | |
| SpatialEnrichment | 4.307 | 0.296 | 4.778 | |
| aSVG.remote.repo | 0.003 | 0.002 | 0.005 | |
| adj_mod | 3.155 | 0.142 | 3.401 | |
| aggr_rep | 0.976 | 0.036 | 1.032 | |
| cell_group | 14.581 | 0.363 | 15.632 | |
| cluster_cell | 1.656 | 0.040 | 1.728 | |
| coclus_opt | 0.282 | 0.021 | 0.310 | |
| cocluster | 0.249 | 0.017 | 0.277 | |
| com_factor | 0.239 | 0.016 | 0.289 | |
| covis | 19.956 | 0.787 | 21.511 | |
| custom_shiny | 0.023 | 0.006 | 0.033 | |
| cut_dendro | 0.630 | 0.016 | 0.685 | |
| cvt_id | 0.752 | 0.035 | 0.805 | |
| data_ref | 0.912 | 0.020 | 0.957 | |
| database | 0.526 | 0.024 | 0.565 | |
| edit_tar | 0.005 | 0.001 | 0.006 | |
| filter_data | 1.223 | 0.058 | 1.416 | |
| matrix_hm | 2.820 | 0.095 | 3.011 | |
| network | 2.549 | 0.050 | 2.607 | |
| norm_cell | 2.372 | 0.056 | 2.456 | |
| norm_data | 0.986 | 0.051 | 1.040 | |
| norm_srsc | 3.283 | 0.190 | 3.490 | |
| opt_bar | 0.111 | 0.002 | 0.113 | |
| opt_setting | 0.008 | 0.003 | 0.011 | |
| opt_violin | 0.178 | 0.002 | 0.181 | |
| optimal_k | 0.127 | 0.003 | 0.131 | |
| plot_dim | 2.025 | 0.036 | 2.070 | |
| plot_kmeans | 0.653 | 0.021 | 0.677 | |
| plot_meta | 2.859 | 0.391 | 3.374 | |
| process_cell_meta | 9.886 | 0.137 | 10.077 | |
| qc_cell | 1.225 | 0.030 | 1.286 | |
| read_cache | 2.936 | 0.044 | 3.013 | |
| read_fr | 0.005 | 0.001 | 0.007 | |
| read_svg | 0.628 | 0.296 | 0.998 | |
| reduce_dim | 9.522 | 0.110 | 9.816 | |
| reduce_rep | 0.001 | 0.001 | 0.002 | |
| return_feature | 0.796 | 0.021 | 0.823 | |
| save_cache | 2.940 | 0.024 | 2.996 | |
| shiny_shm | 0.000 | 0.000 | 0.001 | |
| shm | 3.721 | 0.230 | 4.018 | |
| spatialHeatmap-package | 0 | 0 | 0 | |
| spatial_hm | 4.980 | 0.255 | 5.327 | |
| submatrix | 3.009 | 0.076 | 3.108 | |
| true_bulk | 0.401 | 0.016 | 0.418 | |
| update_feature | 0.001 | 0.002 | 0.003 | |
| write_svg | 2.986 | 0.255 | 3.287 | |