Back to Multiple platform build/check report for BioC 3.19: simplified long |
|
This page was generated on 2024-03-06 11:37:59 -0500 (Wed, 06 Mar 2024).
Hostname | OS | Arch (*) | R version | Installed pkgs |
---|---|---|---|---|
nebbiolo1 | Linux (Ubuntu 22.04.3 LTS) | x86_64 | R Under development (unstable) (2024-01-16 r85808) -- "Unsuffered Consequences" | 4682 |
palomino3 | Windows Server 2022 Datacenter | x64 | R Under development (unstable) (2024-01-14 r85805 ucrt) -- "Unsuffered Consequences" | 4421 |
lconway | macOS 12.7.1 Monterey | x86_64 | R Under development (unstable) (2024-03-04 r86048) -- "Unsuffered Consequences" | 4380 |
kunpeng2 | Linux (openEuler 22.03 LTS-SP1) | aarch64 | R Under development (unstable) (2024-01-16 r85812) -- "Unsuffered Consequences" | 4423 |
Click on any hostname to see more info about the system (e.g. compilers) (*) as reported by 'uname -p', except on Windows and Mac OS X |
Package 1534/2255 | Hostname | OS / Arch | INSTALL | BUILD | CHECK | BUILD BIN | ||||||||
Pi 2.15.0 (landing page) Hai Fang
| nebbiolo1 | Linux (Ubuntu 22.04.3 LTS) / x86_64 | OK | OK | WARNINGS | |||||||||
palomino3 | Windows Server 2022 Datacenter / x64 | OK | OK | WARNINGS | OK | |||||||||
lconway | macOS 12.7.1 Monterey / x86_64 | ERROR | ERROR | skipped | skipped | |||||||||
kunpeng2 | Linux (openEuler 22.03 LTS-SP1) / aarch64 | OK | OK | WARNINGS | ||||||||||
To the developers/maintainers of the Pi package: - Allow up to 24 hours (and sometimes 48 hours) for your latest push to git@git.bioconductor.org:packages/Pi.git to reflect on this report. See Troubleshooting Build Report for more information. - Use the following Renviron settings to reproduce errors and warnings. - If 'R CMD check' started to fail recently on the Linux builder(s) over a missing dependency, add the missing dependency to 'Suggests:' in your DESCRIPTION file. See Renviron.bioc for more information. |
Package: Pi |
Version: 2.15.0 |
Command: rm -rf Pi.buildbin-libdir && mkdir Pi.buildbin-libdir && F:\biocbuild\bbs-3.19-bioc\R\bin\R.exe CMD INSTALL --build --library=Pi.buildbin-libdir Pi_2.15.0.tar.gz |
StartedAt: 2024-03-05 10:53:56 -0500 (Tue, 05 Mar 2024) |
EndedAt: 2024-03-05 10:54:41 -0500 (Tue, 05 Mar 2024) |
EllapsedTime: 44.7 seconds |
RetCode: 0 |
Status: OK |
PackageFile: Pi_2.15.0.zip |
PackageFileSize: 2.919 MiB |
############################################################################## ############################################################################## ### ### Running command: ### ### rm -rf Pi.buildbin-libdir && mkdir Pi.buildbin-libdir && F:\biocbuild\bbs-3.19-bioc\R\bin\R.exe CMD INSTALL --build --library=Pi.buildbin-libdir Pi_2.15.0.tar.gz ### ############################################################################## ############################################################################## * installing *source* package 'Pi' ... ** using staged installation ** R ** inst ** byte-compile and prepare package for lazy loading Warning: replacing previous import 'ROCR::plot' by 'graphics::plot' when loading 'Pi' ** help *** installing help indices ** building package indices ** installing vignettes ** testing if installed package can be loaded from temporary location Warning: replacing previous import 'ROCR::plot' by 'graphics::plot' when loading 'Pi' ** testing if installed package can be loaded from final location Warning: replacing previous import 'ROCR::plot' by 'graphics::plot' when loading 'Pi' ** testing if installed package keeps a record of temporary installation path * MD5 sums packaged installation of 'Pi' as Pi_2.15.0.zip * DONE (Pi)