Back to Mac ARM64 build report for BioC 3.18
ABC[D]EFGHIJKLMNOPQRSTUVWXYZ

This page was generated on 2023-05-31 11:02:00 -0400 (Wed, 31 May 2023).

HostnameOSArch (*)R versionInstalled pkgs
kjohnson1macOS 13.3.1 Venturaarm644.3.0 (2023-04-21) -- "Already Tomorrow" 3992
Click on any hostname to see more info about the system (e.g. compilers)      (*) as reported by 'uname -p', except on Windows and Mac OS X

CHECK results for DeepBlueR on kjohnson1


To the developers/maintainers of the DeepBlueR package:
Use the following Renviron settings to reproduce errors and warnings.

Note: If "R CMD check" recently failed on the Linux builder over a missing dependency, add the missing dependency to "Suggests" in your DESCRIPTION file. See the Renviron.bioc for details.

raw results

Package 503/2197HostnameOS / ArchINSTALLBUILDCHECKBUILD BIN
DeepBlueR 1.27.0  (landing page)
Felipe Albrecht , Markus List , Quirin Manz
Snapshot Date: 2023-05-29 13:00:03 -0400 (Mon, 29 May 2023)
git_url: https://git.bioconductor.org/packages/DeepBlueR
git_branch: devel
git_last_commit: 76840cb
git_last_commit_date: 2023-04-25 10:48:12 -0400 (Tue, 25 Apr 2023)
kjohnson1macOS 13.3.1 Ventura / arm64  OK    OK    OK    OK  NO, package depends on 'GenomicRanges' which is not available

Summary

Package: DeepBlueR
Version: 1.27.0
Command: /Library/Frameworks/R.framework/Resources/bin/R CMD check --install=check:DeepBlueR.install-out.txt --library=/Library/Frameworks/R.framework/Resources/library --no-vignettes --timings DeepBlueR_1.27.0.tar.gz
StartedAt: 2023-05-30 12:18:42 -0400 (Tue, 30 May 2023)
EndedAt: 2023-05-30 12:23:37 -0400 (Tue, 30 May 2023)
EllapsedTime: 294.2 seconds
RetCode: 0
Status:   OK  
CheckDir: DeepBlueR.Rcheck
Warnings: 0

Command output

##############################################################################
##############################################################################
###
### Running command:
###
###   /Library/Frameworks/R.framework/Resources/bin/R CMD check --install=check:DeepBlueR.install-out.txt --library=/Library/Frameworks/R.framework/Resources/library --no-vignettes --timings DeepBlueR_1.27.0.tar.gz
###
##############################################################################
##############################################################################


* using log directory ‘/Users/biocbuild/bbs-3.18-bioc-mac-arm64/meat/DeepBlueR.Rcheck’
* using R version 4.3.0 (2023-04-21)
* using platform: aarch64-apple-darwin20 (64-bit)
* R was compiled by
    Apple clang version 14.0.0 (clang-1400.0.29.202)
    GNU Fortran (GCC) 12.2.0
* running under: macOS Ventura 13.3.1
* using session charset: UTF-8
* using option ‘--no-vignettes’
* checking for file ‘DeepBlueR/DESCRIPTION’ ... OK
* checking extension type ... Package
* this is package ‘DeepBlueR’ version ‘1.27.0’
* checking package namespace information ... OK
* checking package dependencies ... OK
* checking if this is a source package ... OK
* checking if there is a namespace ... OK
* checking for hidden files and directories ... OK
* checking for portable file names ... OK
* checking for sufficient/correct file permissions ... OK
* checking whether package ‘DeepBlueR’ can be installed ... OK
* checking installed package size ... OK
* checking package directory ... OK
* checking ‘build’ directory ... OK
* checking DESCRIPTION meta-information ... OK
* checking top-level files ... OK
* checking for left-over files ... OK
* checking index information ... OK
* checking package subdirectories ... NOTE
Problems with news in ‘NEWS’:
  Cannot process chunk/lines:
    v0.99.0 Initial Bioconductor submission
  Cannot process chunk/lines:
    v1.0.0 Bioconductor 3.4 release
  Cannot process chunk/lines:
    v1.2.0 Bioconductor 3.5 release
  Cannot process chunk/lines:
    v1.4.0 Bioconductor 3.6 release
  Cannot process chunk/lines:
    v1.4.1 Bugfixes following changes in the DeepBlue API
* checking R files for non-ASCII characters ... OK
* checking R files for syntax errors ... OK
* checking whether the package can be loaded ... OK
* checking whether the package can be loaded with stated dependencies ... OK
* checking whether the package can be unloaded cleanly ... OK
* checking whether the namespace can be loaded with stated dependencies ... OK
* checking whether the namespace can be unloaded cleanly ... OK
* checking startup messages can be suppressed ... OK
* checking dependencies in R code ... OK
* checking S3 generic/method consistency ... OK
* checking replacement functions ... OK
* checking foreign function calls ... OK
* checking R code for possible problems ... OK
* checking Rd files ... NOTE
prepare_Rd: deepblue_enrich_regions_fast.Rd:35-38: Dropping empty section \examples
* checking Rd metadata ... OK
* checking Rd cross-references ... OK
* checking for missing documentation entries ... OK
* checking for code/documentation mismatches ... OK
* checking Rd \usage sections ... OK
* checking Rd contents ... OK
* checking for unstated dependencies in examples ... OK
* checking files in ‘vignettes’ ... OK
* checking examples ... OK
* checking for unstated dependencies in vignettes ... OK
* checking package vignettes in ‘inst/doc’ ... OK
* checking running R code from vignettes ... SKIPPED
* checking re-building of vignette outputs ... SKIPPED
* checking PDF version of manual ... OK
* DONE

Status: 2 NOTEs
See
  ‘/Users/biocbuild/bbs-3.18-bioc-mac-arm64/meat/DeepBlueR.Rcheck/00check.log’
for details.



Installation output

DeepBlueR.Rcheck/00install.out

##############################################################################
##############################################################################
###
### Running command:
###
###   /Library/Frameworks/R.framework/Resources/bin/R CMD INSTALL DeepBlueR
###
##############################################################################
##############################################################################


* installing to library ‘/Library/Frameworks/R.framework/Versions/4.3-arm64/Resources/library’
* installing *source* package ‘DeepBlueR’ ...
** using staged installation
** R
** demo
** inst
** byte-compile and prepare package for lazy loading
Called method: deepblue_list_column_types
Reported status was: okay
Called method: deepblue_info
Reported status was: okay
** help
*** installing help indices
** building package indices
** installing vignettes
** testing if installed package can be loaded from temporary location
** testing if installed package can be loaded from final location
** testing if installed package keeps a record of temporary installation path
* DONE (DeepBlueR)

Tests output


Example timings

DeepBlueR.Rcheck/DeepBlueR-Ex.timings

nameusersystemelapsed
deepblue_aggregate0.0580.0080.237
deepblue_batch_export_results0.2800.0352.918
deepblue_binning0.0340.0020.152
deepblue_cache_status0.0010.0010.002
deepblue_cancel_request0.0110.0010.070
deepblue_chromosomes0.0400.0020.100
deepblue_clear_cache0.0010.0010.002
deepblue_collection_experiments_count0.0640.0020.293
deepblue_commands0.0810.0090.234
deepblue_count_gene_ontology_terms0.0700.0070.167
deepblue_count_regions0.0270.0030.145
deepblue_coverage0.0280.0030.149
deepblue_delete_request_from_cache0.0020.0010.003
deepblue_diff0.1060.0260.253
deepblue_distinct_column_values0.0280.0050.147
deepblue_download_request_data0.2330.0221.258
deepblue_echo0.0110.0020.070
deepblue_enrich_regions_go_terms0.0440.0030.219
deepblue_enrich_regions_overlap0.3710.0121.341
deepblue_export_bed1.0300.0241.488
deepblue_export_meta_data0.2040.0040.292
deepblue_export_tab0.0940.0070.336
deepblue_extend0.0330.0020.149
deepblue_extract_ids0.0010.0000.001
deepblue_extract_names0.0010.0010.001
deepblue_faceting_experiments0.0210.0020.236
deepblue_filter_regions0.0160.0020.074
deepblue_find_motif0.0170.0010.074
deepblue_flank0.0300.0020.149
deepblue_get_biosource_children0.0130.0010.075
deepblue_get_biosource_parents0.0110.0020.070
deepblue_get_biosource_related0.0140.0010.084
deepblue_get_biosource_synonyms0.0120.0010.071
deepblue_get_experiments_by_query0.0110.0010.073
deepblue_get_regions0.0260.0030.147
deepblue_get_request_data0.0490.0040.913
deepblue_info0.0240.0030.884
deepblue_input_regions0.0130.0020.079
deepblue_intersection0.0420.0040.908
deepblue_is_biosource0.0130.0020.075
deepblue_liftover0.2510.0343.940
deepblue_list_annotations0.0090.0010.069
deepblue_list_biosources0.0100.0010.068
deepblue_list_cached_requests0.0010.0000.001
deepblue_list_column_types0.0280.0010.116
deepblue_list_epigenetic_marks0.2490.0040.399
deepblue_list_experiments0.0980.0050.237
deepblue_list_expressions0.0850.0100.187
deepblue_list_gene_models0.0140.0020.076
deepblue_list_genes0.1690.0190.365
deepblue_list_genomes0.0130.0030.074
deepblue_list_in_use0.2370.0250.904
deepblue_list_projects0.0630.0030.139
deepblue_list_recent_experiments0.0220.0010.086
deepblue_list_requests0.0160.0010.078
deepblue_list_samples0.0890.0180.248
deepblue_list_similar_biosources0.0180.0020.252
deepblue_list_similar_epigenetic_marks0.0170.0010.090
deepblue_list_similar_experiments0.0130.0020.650
deepblue_list_similar_genomes0.0130.0010.073
deepblue_list_similar_projects0.0130.0010.070
deepblue_list_similar_techniques0.0130.0010.071
deepblue_list_techniques0.0190.0020.077
deepblue_merge_queries0.0430.0030.217
deepblue_meta_data_to_table0.1860.0060.342
deepblue_name_to_id0.0400.0040.214
deepblue_overlap0.0460.0030.224
deepblue_preview_experiment0.0120.0010.078
deepblue_query_cache0.0560.0050.290
deepblue_query_experiment_type0.0350.0030.151
deepblue_reset_options0.0010.0010.000
deepblue_score_matrix0.0310.0020.147
deepblue_search0.0330.0020.416
deepblue_select_annotations0.0180.0010.075
deepblue_select_column0.2310.0040.385
deepblue_select_experiments0.0150.0010.077
deepblue_select_expressions0.0190.0020.084
deepblue_select_genes0.0180.0020.076
deepblue_select_regions0.0190.0020.083
deepblue_tiling_regions0.0140.0010.071