Back to Mac ARM64 build report for BioC 3.18
ABC[D]EFGHIJKLMNOPQRSTUVWXYZ

This page was generated on 2023-05-31 11:02:00 -0400 (Wed, 31 May 2023).

HostnameOSArch (*)R versionInstalled pkgs
kjohnson1macOS 13.3.1 Venturaarm644.3.0 (2023-04-21) -- "Already Tomorrow" 3992
Click on any hostname to see more info about the system (e.g. compilers)      (*) as reported by 'uname -p', except on Windows and Mac OS X

BUILD BIN results for DeepBlueR on kjohnson1


To the developers/maintainers of the DeepBlueR package:
Use the following Renviron settings to reproduce errors and warnings.

Note: If "R CMD check" recently failed on the Linux builder over a missing dependency, add the missing dependency to "Suggests" in your DESCRIPTION file. See the Renviron.bioc for details.

raw results

Package 503/2197HostnameOS / ArchINSTALLBUILDCHECKBUILD BIN
DeepBlueR 1.27.0  (landing page)
Felipe Albrecht , Markus List , Quirin Manz
Snapshot Date: 2023-05-29 13:00:03 -0400 (Mon, 29 May 2023)
git_url: https://git.bioconductor.org/packages/DeepBlueR
git_branch: devel
git_last_commit: 76840cb
git_last_commit_date: 2023-04-25 10:48:12 -0400 (Tue, 25 Apr 2023)
kjohnson1macOS 13.3.1 Ventura / arm64  OK    OK    OK    OK  NO, package depends on 'GenomicRanges' which is not available

Summary

Package: DeepBlueR
Version: 1.27.0
Command: rm -rf DeepBlueR.buildbin-libdir && mkdir DeepBlueR.buildbin-libdir && /Users/biocbuild/BBS/utils/build-universal.sh DeepBlueR_1.27.0.tar.gz /Library/Frameworks/R.framework/Resources/bin/R DeepBlueR.buildbin-libdir
StartedAt: 2023-05-31 03:39:31 -0400 (Wed, 31 May 2023)
EndedAt: 2023-05-31 03:40:22 -0400 (Wed, 31 May 2023)
EllapsedTime: 50.7 seconds
RetCode: 0
Status:   OK  
PackageFile: DeepBlueR_1.27.0.tgz
PackageFileSize: 1.782 MiB

Command output

##############################################################################
##############################################################################
###
### Running command:
###
###   rm -rf DeepBlueR.buildbin-libdir && mkdir DeepBlueR.buildbin-libdir && /Users/biocbuild/BBS/utils/build-universal.sh DeepBlueR_1.27.0.tar.gz /Library/Frameworks/R.framework/Resources/bin/R DeepBlueR.buildbin-libdir
###
##############################################################################
##############################################################################


>>>>>>> 
>>>>>>> INSTALLATION WITH 'R CMD INSTALL --preclean --no-multiarch --library=DeepBlueR.buildbin-libdir DeepBlueR_1.27.0.tar.gz'
>>>>>>> 

* installing *source* package ‘DeepBlueR’ ...
** using staged installation
** R
** demo
** inst
** byte-compile and prepare package for lazy loading
Called method: deepblue_list_column_types
Reported status was: okay
Called method: deepblue_info
Reported status was: okay
** help
*** installing help indices
** building package indices
** installing vignettes
** testing if installed package can be loaded from temporary location
** testing if installed package can be loaded from final location
** testing if installed package keeps a record of temporary installation path
* DONE (DeepBlueR)